{"text_format":"1","workbook":"xlsx","n_sheets":28,"sheets":["Cover","Content","Introduction","Glossary","Information_RPO","D_Decision_Making","T1a_Decision_Making","T1b_Decision_Making","D_Recruitment_Career","D_Staff","T2a_Staff_HC","T2b_Staff_HC","T2c_Staff_HC","D_Employment","T3a_Employment","T3b_Employment","D_Funds","T4_Funds","T5a_PhDs","T5b_PhD_Funding","T6a_BaMa__FirstSemester_Enroll","T6b_BaMa_Enrollment","T6c_BaMa_Grads","D_Gender_Dimension","T7a_LitCont","T7b_Curricula","D_GEP","T8_GEProcess"],"not_rendered":{"charts":0,"images":5,"macros":0,"external_links":0,"defined_names":4,"comments":0,"pivot_tables":0},"unopened":[],"bounds":{"document_bytes":16777216,"sheet_cells":100000,"rows_first":2000,"rows_last":500,"rows_between":2000,"halvings":0,"cell_chars":16384,"cell_head_chars":4096},"cells_cut":0,"cells_raw":0,"read":"whole","date_system":"1900"}

{"sheet":"Cover","index":0,"n_rows":22,"n_cols":2,"rows_kept":22,"cut":false,"hidden":false,"merged":[]}
[null,"If you have any questions, please get in contact! (claudia•schredl[at]gesis•org)"]
[]
[]
[]
[]
[]
[]
[]
[]
[]
[]
[null,"GEECCO - Gender Equality in Engineering through Communication and Commitment"]
[]
[null,"Sex-Disaggregated Data Monitoring in Research Performing Organizations "]
[]
[null,"GEECCO Data Monitoring Tool"]
[]
[]
[null,"Grant Agreement Number 741128\nfunded by the European Commission"]
[]
[null,"GESIS Leibniz Institute for the Social Sciences"]
[null,"Center of Excellence Women and Science CEWS"]

{"sheet":"Content","index":1,"n_rows":34,"n_cols":4,"rows_kept":34,"cut":false,"hidden":false,"merged":[]}
[]
[]
[]
[]
[null,"CONTENT - GEECCO Data Monitoring Tool"]
[]
[]
[null,"LINK",null,"NAME"]
[null,"Introduction",null,"INTRODUCTION - GEECCO DATA MONITORING TOOL"]
[null,"Glossary",null,"GLOSSARY"]
[null,"Information_RPO",null,"INFORMATION DETAILS - YOUR RESEARCH PERFORMING ORGANIZATION"]
[null,"D_Decision_Making",null,"DESCRIPTION OF THEMATIC AREA DECISION MAKING POSITIONS AND BODIES"]
[null,"T1a_Decision_Making",null,"TABLE 1A: DECISION MAKING PROCESSES AND BODIES - NOMINATIONS / APPLICATIONS"]
[null,"T1b_Decision_Making",null,"TABLE 1B: DECISION MAKING PROCESSES AND BODIES "]
[null,"D_Recruitment _Career",null,"DESCRIPTION OF THEMATIC AREA: RECRUITMENT AND CAREER DEVELOPMENT"]
[null,"D_Staff",null,"DESCRIPTION OF STAFF POSITIONS AND GLASS CEILING INDEX"]
[null,"T2a_Staff_HC",null,"TABLE 2A: STAFF IN HEADCOUNT BY FACULTY/DEPARTMENT"]
[null,"T2b_Staff_HC",null,"TABLE 2B: ACADEMIC STAFF IN HEADCOUNT BY GRADE AND FACULTY/DEPARTMENT (LOCAL UNIT)"]
[null,"T2c_Staff_HC",null,"TABLE 2C: STAFF IN HEADCOUNT BY GRADE (ORGANISATIONAL, NATIONAL)"]
[null,"D_Employment",null,"DESCRIPTION OF FORMS OF EMPLOYMENT"]
[null,"T3a_Employment",null,"TABLE 3A: ACADEMIC STAFF BY FORM OF EMPLOYMENT/ CONTRACT"]
[null,"T3b_Employment",null,"TABLE 3B: ACADEMIC STAFF BY WORKING TIME"]
[null,"D_Funds",null,"DESCRIPTION: BUDGET, FUNDS, BONUS, PAY GAP"]
[null,"T4_Funds",null,"TABLE 4: ALLOCATION OF FUNDS, BONUS AND ALLOWANCES"]
[null,"T5a_PhDs",null,"TABLE 5A: PHD/ DOCTORAL STUDENTS AND GRADUATES"]
[null,"T5B_PhD_Funding",null,"TABLE 5B: PHD/ DOCTORAL STUDENTS BY FUNDING"]
[null,"T6a_BaMa__FirstSemester_Enroll",null,"TABLE 6A: ENROLLMENT - BACHELOR AND MASTER FIRST SEMESTER STUDENTS BY FACULTY/DEPARTMENT "]
[null,"T6b_BaMa_Enrollment",null,"TABLE 6B: ENROLLMENT - BACHELOR AND MASTER STUDENTS BY FACULTY/DEPARTMENT"]
[null,"T6c_BaMa_Grads",null,"TABLE 6C: BACHELOR AND MASTER GRADUATES BY FACULTY/DEPARTMENT"]
[null,"D_Gender_Dimension",null,"DESCRIPTION OF THEMATIC AREA: GENDER DIMENSION IN RESEARCH AND TEACHING"]
[null,"T7a_LitCont",null,"TABLE 7A: GENDER DIMENSION IN PUBLICATION CONTENT"]
[null,"T7b_Curricula",null,"TABLE 7B: GENDER DIMENSION IN CURRICULA"]
[null,"D_GEP",null,"DESCRIPTION OF GENDER EQUALITY PLAN MEASURES"]
[null,"T8_GEProcess",null,"TABLE 8: PROCESS OF GENDER EQUALITY PLAN"]

{"sheet":"Introduction","index":2,"n_rows":35,"n_cols":3,"rows_kept":35,"cut":false,"hidden":false,"merged":[[18,14,29,22],[34,2,41,10],[34,1,41,1],[28,1,33,1],[46,4,46,13],[3,1,3,10],[4,1,4,10],[28,2,33,10],[6,2,14,10],[6,1,14,1],[15,2,27,10],[15,1,27,1]]}
[]
[]
[]
[null,"Introduction - GEECCO Data Monitoring Tool"]
[null,"Sex-Disaggregated Data Monitoring in Research Performing Organizations (RPOs)"]
[]
[null,"Aim","The GEECCO Data Monitoring Tool is a template for monitoring sex-disaggregated data in research performing organizations (RPOs). Research performing organizations include higher education institutions, private or public research institutions. It was developed for technical universities, therefore it does not claim completeness for other forms of RPOs. The aim of the GEECCO Data Monitoring Tool is generating process data to monitor whether the correct and set gender equality targets are achieved. It provides various indicators that show changes/progress towards gender equality objectives in the following three thematic areas:  decision-making processes and bodies, recruitment and career development of female researchers and staff members, and gender dimension in research and teaching.The collected data can then be used for an in-depth gender analysis along these thematic areas of the respective research performing organizations. It aims to serve as resource for collecting sex-disaggregated data and monitoring quantitative gender equality indicators at research performing organizations in the future."]
[]
[]
[]
[]
[]
[]
[]
[]
[null,"Preconditions","For optimal use of the GEECCO Data Monitoring Tool, you first need to get an overview of the gender equality objectives and existing gender equality measures of your organization. Second, you decide which process data you need to monitor the progress towards your set gender equality objectives. This means that you need to clarify in which of the three aforementioned thematic areas - decision-making processes and bodies, recruitment and career develeopment, and gender dimension in research and teaching - your organization aims to achieve gender equality objectives. The presented GEECCO Data Monitoring Tool can be either used as a complete set of sex-disaggregated indicators monitoring the progress towards gender equality in all three thematic areas at your RPO or in parts if your research performing organization only aims to achieve gender equality objectives in one or two of the aforementioned three thematic areas. Also, if some required data for indicators presented in the following tables is not available at your research performing organization in one thematic area that you would like to monitor, you can leave one indicator out. Third, you identify types of data and possible sources of information to collect the required sex-disaggregated data at your RPO. This could be, for example, administrative data from the accounting department or HR department of your RPO. In most European countries national statistics on research performing organizations, in particular for universities, are also available, which can then be used as benchmark indicators for your RPO. Fourth, you need to collect the sex-disaggregated data on the chosen thematic areas and relating indicators regularly - at least every two years - at your RPO."]
[]
[]
[]
[]
[]
[]
[]
[]
[]
[]
[]
[]
[null,"Keep in mind","The tables marked in yellow provide you with descriptions of indicators of the three thematic areas. Please read all description tables and the \"to-do instructions\" at the top of each table carefully before using the GEECCO Data Monitoring Tool. Please also use the same cut-off date for the data over the years. For example, the year column \"2020\" refers to data for the year 2020. This means that December 31, 2020, is the reporting date for the year 2020. If your RPO uses a different cut-off date for administrative statistics, please indicate the applied cut-off date in the \"year comment\"-cell at the top of each table. It is important to use the same cut-off date over the years in order to monitor changes/progress. "]
[]
[]
[]
[]
[]
[null,"Background Information","The GEECCO Data Monitoring Tool results from the evaluation exercise within the framework of the Horizon 2020-funded project \"Gender Equality in Engineering through Communication and Commitment\" (GEECCO). GEECCO aims to establish tailor-made Gender Equality Plans (GEPs) in four European universities (RPOs) and to implement the gender dimension in two research funding organisations (RFOs) in funding schemes, programmes and review processes. All participating universities are located in the STEM (Science, Technology, Engineering, and Mathematics) field, where gender equality is still a serious problem and whose innovations are increasingly important in the knowledge-based economies. The GEECCO partner RPOs collected sex-disaggregated data at two points of time in course of the summative evaluation by GESIS. The GEECCO Data Monitoring Tool entails the collection of monitoring indicators of this summative evaluation. It was developed for Task 10.3 \"Developing online evaluation and monitoring tutorials\", which was led by the task leader GESIS."]

{"sheet":"Glossary","index":3,"n_rows":18,"n_cols":3,"rows_kept":18,"cut":false,"hidden":false,"merged":[[0,0,0,9],[17,0,19,5]]}
["GLOSSARY"]
[]
["The terminology is according to She Figures 2018. "]
[]
[null,"UNIT","Code"]
[null,"Head Count       ","HC"]
[null,"Full Time Equivalent","FTE"]
[null,"SEX","Code"]
[null,"Total","t"]
[null,"Female","f"]
[null,"Male","m"]
[null,"FLAGS"]
[null,"not applicable","-"]
[null,"not available",":"]
[]
[]
[]
["Reference: European Commission (2019): She Figures 2018. Gender in Research and Innovation. Luxembourg. Online available https://publications.europa.eu/en/publication-detail/-/publication/9540ffa1-4478-11e9-a8ed-01aa75ed71a1/language-en"]

{"sheet":"Information_RPO","index":4,"n_rows":15,"n_cols":1,"rows_kept":15,"cut":false,"hidden":false,"merged":[]}
["INFORMATION DETAILS - YOUR RESEARCH PERFORMING ORGANIZATION"]
[]
["To Do: Please enter the details of your organization in the appropriate fields below. They will then be automatically adjusted in the following tables."]
[]
[]
["Name of Research Performing Organization (RPO)"]
["Country of Research Performing Organization "]
["Faculty/Department 1"]
["Faculty/Department 2"]
["Faculty/Department 3"]
["Faculty/Department 4"]
["Faculty/Department 5"]
["Faculty/Department 6"]
["Faculty/Department 7"]
["Faculty/Department 8"]

{"sheet":"D_Decision_Making","index":5,"n_rows":34,"n_cols":4,"rows_kept":34,"cut":false,"hidden":false,"merged":[[0,0,0,3],[13,0,14,3],[16,0,16,3],[2,3,2,4],[3,0,6,3],[9,2,9,3],[10,2,10,3],[11,2,11,3]]}
["DESCRIPTION - THEMATIC AREA: DECISION-MAKING POSITIONS AND BODIES"]
[]
[]
["To Do: Please adapt the list of decision-making positions to your institutional structure and add missing decision-making positions, including the mode of participation, formal duration of decision-making position membership in months and description of the decision-making position. You might also need to adapt the  different levels of decision-making positions according to your institutional structures. The examples below are based on the institutional structure of GEECCO partner universities. In a next step enter data in tables T1a_Decision_Making and T1b_Decision_Making. "]
[]
[]
[]
[]
[]
["Description Sheet","Tables","Indicators"]
["D_Decision_Making","T1a_Decision_Making","applicants / nominees by sex,  decision-making body / position, decision-making level, and year"]
[null,"T1b_Decision_Making","decision-makers by sex, decision-making body / posistion, decision-making level, and year"]
[]
["Definition - Decision-making position: A decision making position is a board or single person with the formal right to make decisions that are of relevance to a defined unit."]
[]
[]
["Mode of Participation: election, appointment, by formal position, other"]
[]
["position name","mode of participation","formal duration of membership in months","description"]
["CENTRAL LEVEL OF RPO"]
["board 1 (senate, university council, ...)"]
["board 2"]
["board 3"]
[]
[]
["LEVEL OF RECTORATE / LEADERSHIP"]
["Rectors / Vice-Rectors"]
["Faculty Deans / Heads of Schools"]
["President of RPO"]
[]
[]
["LEVEL OF FACULTIES"]
["Faculty Deans / Heads of Faculties \n(aggregated composition)"]
["Heads of Institutes / Directors "]

{"sheet":"T1a_Decision_Making","index":6,"n_rows":30,"n_cols":28,"rows_kept":30,"cut":false,"hidden":false,"merged":[[9,23,9,27],[2,0,5,2],[8,13,8,17],[9,3,9,7],[9,8,9,12],[9,13,9,17],[9,18,9,22]]}
["TABLE 1A: DECISION MAKING PROCESSES AND BODIES - NOMINATIONS / APPLICATIONS"]
[]
["To Do: Please adapt the list of decision-making positions to your institutional structure and add missing decision-making positions according to the institutional structure outlined in D_Decision_Making. Then please enter the number of applicants / nominees by sex, decision-making body / positions and year.  If necessary, please add further lines (e.g. decision-making bodies) to the tables. Please also add the source of data and the cut-off date referring to the year columns."]
[]
[]
[]
[]
["source of data: "]
["year comment: "]
[null,null,null,2014,null,null,null,null,2016,null,null,null,null,2018,null,null,null,null,2020,null,null,null,null,2022]
[null,null,null,"f","m","t","f %","m %","f","m","t","f %","m %","f","m","t","f %","m %","f","m","t","f %","m %","f","m","t","f %","m %"]
[]
[null,{"$f":"D_Decision_Making!A20","v":"CENTRAL LEVEL OF RPO"},{"$f":"Information_RPO!A6","v":"Name of Research Performing Organization (RPO)"}]
[null,null,"University Council",null,null,{"$f":"SUM(D14:E14)","v":0},{"$f":"D14/F14","v":{"$error":"#DIV/0!"}},{"$f":"E14/F14","v":{"$error":"#DIV/0!"}},null,null,{"$f":"SUM(I14:J14)","v":0},{"$f":"I14/K14","v":{"$error":"#DIV/0!"}},{"$f":"J14/K14","v":{"$error":"#DIV/0!"}},null,null,{"$f":"SUM(N14:O14)","v":0},{"$f":"N14/P14","v":{"$error":"#DIV/0!"}},{"$f":"O14/P14","v":{"$error":"#DIV/0!"}},null,null,{"$f":"SUM(S14:T14)","v":0},{"$f":"S14/U14","v":{"$error":"#DIV/0!"}},{"$f":"T14/U14","v":{"$error":"#DIV/0!"}},null,null,{"$f":"SUM(X14:Y14)","v":0},{"$f":"X14/Z14","v":{"$error":"#DIV/0!"}},{"$f":"Y14/Z14","v":{"$error":"#DIV/0!"}}]
[null,null,"Senate",null,null,{"$f":"SUM(D15:E15)","v":0},{"$f":"D15/F15","v":{"$error":"#DIV/0!"}},{"$f":"E15/F15","v":{"$error":"#DIV/0!"}},null,null,{"$f":"SUM(I15:J15)","v":0},{"$f":"I15/K15","v":{"$error":"#DIV/0!"}},{"$f":"J15/K15","v":{"$error":"#DIV/0!"}},null,null,{"$f":"SUM(N15:O15)","v":0},{"$f":"N15/P15","v":{"$error":"#DIV/0!"}},{"$f":"O15/P15","v":{"$error":"#DIV/0!"}},null,null,{"$f":"SUM(S15:T15)","v":0},{"$f":"S15/U15","v":{"$error":"#DIV/0!"}},{"$f":"T15/U15","v":{"$error":"#DIV/0!"}},null,null,{"$f":"SUM(X15:Y15)","v":0},{"$f":"X15/Z15","v":{"$error":"#DIV/0!"}},{"$f":"Y15/Z15","v":{"$error":"#DIV/0!"}}]
[null,null,null,null,null,{"$f":"SUM(D16:E16)","v":0},{"$f":"D16/F16","v":{"$error":"#DIV/0!"}},{"$f":"E16/F16","v":{"$error":"#DIV/0!"}},null,null,{"$f":"SUM(I16:J16)","v":0},{"$f":"I16/K16","v":{"$error":"#DIV/0!"}},{"$f":"J16/K16","v":{"$error":"#DIV/0!"}},null,null,{"$f":"SUM(N16:O16)","v":0},{"$f":"N16/P16","v":{"$error":"#DIV/0!"}},{"$f":"O16/P16","v":{"$error":"#DIV/0!"}},null,null,{"$f":"SUM(S16:T16)","v":0},{"$f":"S16/U16","v":{"$error":"#DIV/0!"}},{"$f":"T16/U16","v":{"$error":"#DIV/0!"}},null,null,{"$f":"SUM(X16:Y16)","v":0},{"$f":"X16/Z16","v":{"$error":"#DIV/0!"}},{"$f":"Y16/Z16","v":{"$error":"#DIV/0!"}}]
[null,null,null,null,null,{"$f":"SUM(D17:E17)","v":0},{"$f":"D17/F17","v":{"$error":"#DIV/0!"}},{"$f":"E17/F17","v":{"$error":"#DIV/0!"}},null,null,{"$f":"SUM(I17:J17)","v":0},{"$f":"I17/K17","v":{"$error":"#DIV/0!"}},{"$f":"J17/K17","v":{"$error":"#DIV/0!"}},null,null,{"$f":"SUM(N17:O17)","v":0},{"$f":"N17/P17","v":{"$error":"#DIV/0!"}},{"$f":"O17/P17","v":{"$error":"#DIV/0!"}},null,null,{"$f":"SUM(S17:T17)","v":0},{"$f":"S17/U17","v":{"$error":"#DIV/0!"}},{"$f":"T17/U17","v":{"$error":"#DIV/0!"}},null,null,{"$f":"SUM(X17:Y17)","v":0},{"$f":"X17/Z17","v":{"$error":"#DIV/0!"}},{"$f":"Y17/Z17","v":{"$error":"#DIV/0!"}}]
[null,null,"TOTAL",{"$f":"SUM(D14:D17)","v":0},{"$f":"SUM(E14:E17)","v":0},{"$f":"SUM(F14:F17)","v":0},{"$f":"D18/F18","v":{"$error":"#DIV/0!"}},{"$f":"E18/F18","v":{"$error":"#DIV/0!"}},{"$f":"SUM(I14:I17)","v":0},{"$f":"SUM(J14:J17)","v":0},{"$f":"SUM(K14:K17)","v":0},{"$f":"I18/K18","v":{"$error":"#DIV/0!"}},{"$f":"J18/K18","v":{"$error":"#DIV/0!"}},0,0,{"$f":"SUM(P14:P17)","v":0},{"$f":"N18/P18","v":{"$error":"#DIV/0!"}},{"$f":"O18/P18","v":{"$error":"#DIV/0!"}},0,0,{"$f":"SUM(U14:U17)","v":0},{"$f":"S18/U18","v":{"$error":"#DIV/0!"}},{"$f":"T18/U18","v":{"$error":"#DIV/0!"}},{"$f":"SUM(X14:X17)","v":0},{"$f":"SUM(Y14:Y17)","v":0},{"$f":"SUM(Z14:Z17)","v":0},{"$f":"X18/Z18","v":{"$error":"#DIV/0!"}},{"$f":"Y18/Z18","v":{"$error":"#DIV/0!"}}]
[]
[null,{"$f":"D_Decision_Making!A26","v":"LEVEL OF RECTORATE / LEADERSHIP"},{"$f":"Information_RPO!A6","v":"Name of Research Performing Organization (RPO)"}]
[null,null,"Rector / Vice-Rectors",null,null,{"$f":"SUM(D21:E21)","v":0},{"$f":"D21/F21","v":{"$error":"#DIV/0!"}},{"$f":"E21/F21","v":{"$error":"#DIV/0!"}},null,null,{"$f":"SUM(I21:J21)","v":0},{"$f":"I21/K21","v":{"$error":"#DIV/0!"}},{"$f":"J21/K21","v":{"$error":"#DIV/0!"}},null,null,{"$f":"SUM(N21:O21)","v":0},{"$f":"N21/P21","v":{"$error":"#DIV/0!"}},{"$f":"O21/P21","v":{"$error":"#DIV/0!"}},null,null,{"$f":"SUM(S21:T21)","v":0},{"$f":"S21/U21","v":{"$error":"#DIV/0!"}},{"$f":"T21/U21","v":{"$error":"#DIV/0!"}},null,null,{"$f":"SUM(X21:Y21)","v":0},{"$f":"X21/Z21","v":{"$error":"#DIV/0!"}},{"$f":"Y21/Z21","v":{"$error":"#DIV/0!"}}]
[null,null,"RPO President",null,null,0,{"$error":"#DIV/0!"},{"$error":"#DIV/0!"},null,null,0,{"$error":"#DIV/0!"},{"$error":"#DIV/0!"},null,null,0,{"$error":"#DIV/0!"},{"$error":"#DIV/0!"},null,null,0,{"$error":"#DIV/0!"},{"$error":"#DIV/0!"},null,null,0,{"$error":"#DIV/0!"},{"$error":"#DIV/0!"}]
[null,null,"Deans",null,null,0,{"$error":"#DIV/0!"},{"$error":"#DIV/0!"},null,null,0,{"$error":"#DIV/0!"},{"$error":"#DIV/0!"},null,null,0,{"$error":"#DIV/0!"},{"$error":"#DIV/0!"},null,null,0,{"$error":"#DIV/0!"},{"$error":"#DIV/0!"},null,null,0,{"$error":"#DIV/0!"},{"$error":"#DIV/0!"}]
[null,null,null,null,null,0,{"$error":"#DIV/0!"},{"$error":"#DIV/0!"},null,null,0,{"$error":"#DIV/0!"},{"$error":"#DIV/0!"},null,null,0,{"$error":"#DIV/0!"},{"$error":"#DIV/0!"},null,null,0,{"$error":"#DIV/0!"},{"$error":"#DIV/0!"},null,null,0,{"$error":"#DIV/0!"},{"$error":"#DIV/0!"}]
[null,null,null,null,null,0,{"$error":"#DIV/0!"},{"$error":"#DIV/0!"},null,null,0,{"$error":"#DIV/0!"},{"$error":"#DIV/0!"},null,null,0,{"$error":"#DIV/0!"},{"$error":"#DIV/0!"},null,null,0,{"$error":"#DIV/0!"},{"$error":"#DIV/0!"},null,null,0,{"$error":"#DIV/0!"},{"$error":"#DIV/0!"}]
[null,null,null,null,null,0,{"$error":"#DIV/0!"},{"$error":"#DIV/0!"},null,null,0,{"$error":"#DIV/0!"},{"$error":"#DIV/0!"},null,null,0,{"$error":"#DIV/0!"},{"$error":"#DIV/0!"},null,null,0,{"$error":"#DIV/0!"},{"$error":"#DIV/0!"},null,null,0,{"$error":"#DIV/0!"},{"$error":"#DIV/0!"}]
[null,null,"TOTAL",{"$f":"SUM(D21:D26)","v":0},{"$f":"SUM(E21:E26)","v":0},{"$f":"SUM(F21:F26)","v":0},{"$error":"#DIV/0!"},{"$error":"#DIV/0!"},{"$f":"SUM(I21:I26)","v":0},0,0,{"$error":"#DIV/0!"},{"$error":"#DIV/0!"},0,0,0,{"$error":"#DIV/0!"},{"$error":"#DIV/0!"},0,0,0,{"$error":"#DIV/0!"},{"$error":"#DIV/0!"},{"$f":"SUM(X21:X26)","v":0},{"$f":"SUM(Y21:Y26)","v":0},{"$f":"SUM(Z21:Z26)","v":0},{"$error":"#DIV/0!"},{"$error":"#DIV/0!"}]
[]
[null,{"$f":"D_Decision_Making!A32","v":"LEVEL OF FACULTIES"},{"$f":"Information_RPO!A6","v":"Name of Research Performing Organization (RPO)"}]
[null,null,"Heads of Institutes/ Directors ",null,null,{"$f":"SUM(D30:E30)","v":0},{"$f":"D30/F30","v":{"$error":"#DIV/0!"}},{"$f":"E30/F30","v":{"$error":"#DIV/0!"}},null,null,{"$f":"SUM(I30:J30)","v":0},{"$f":"I30/K30","v":{"$error":"#DIV/0!"}},{"$f":"J30/K30","v":{"$error":"#DIV/0!"}},null,null,{"$f":"SUM(N30:O30)","v":0},{"$f":"N30/P30","v":{"$error":"#DIV/0!"}},{"$f":"O30/P30","v":{"$error":"#DIV/0!"}},null,null,{"$f":"SUM(S30:T30)","v":0},{"$f":"S30/U30","v":{"$error":"#DIV/0!"}},{"$f":"T30/U30","v":{"$error":"#DIV/0!"}},null,null,{"$f":"SUM(X30:Y30)","v":0},{"$f":"X30/Z30","v":{"$error":"#DIV/0!"}},{"$f":"Y30/Z30","v":{"$error":"#DIV/0!"}}]

{"sheet":"T1b_Decision_Making","index":7,"n_rows":30,"n_cols":28,"rows_kept":30,"cut":false,"hidden":false,"merged":[[9,18,9,22],[9,23,9,27],[2,0,5,2],[8,13,8,17],[9,3,9,7],[9,8,9,12],[9,13,9,17]]}
["TABLE 1B: DECISION MAKING PROCESSES AND BODIES "]
[]
["To Do: Please adapt the list of decision-making positions to your institutional structure and add missing decision-making positions according to the institutional structure outlined in D_Decision_Making. Then please enter the number of decision-makers by sex, decision-making body / positions and year. If necessary, please add further lines to the tables. Please also add the source of data and the cut-off date referring to the year columns."]
[]
[]
[]
[]
["source of data: "]
["year comment: "]
[null,null,null,2014,null,null,null,null,2016,null,null,null,null,2018,null,null,null,null,2020,null,null,null,null,2022]
[null,null,null,"f","m","t","f %","m %","f","m","t","f %","m %","f","m","t","f %","m %","f","m","t","f %","m %","f","m","t","f %","m %"]
[]
[null,{"$f":"D_Decision_Making!A20","v":"CENTRAL LEVEL OF RPO"},{"$f":"Information_RPO!A6","v":"Name of Research Performing Organization (RPO)"}]
[null,null,"University Council",null,null,{"$f":"SUM(D14:E14)","v":0},{"$f":"D14/F14","v":{"$error":"#DIV/0!"}},{"$f":"E14/F14","v":{"$error":"#DIV/0!"}},null,null,{"$f":"SUM(I14:J14)","v":0},{"$f":"I14/K14","v":{"$error":"#DIV/0!"}},{"$f":"J14/K14","v":{"$error":"#DIV/0!"}},null,null,{"$f":"SUM(N14:O14)","v":0},{"$f":"N14/P14","v":{"$error":"#DIV/0!"}},{"$f":"O14/P14","v":{"$error":"#DIV/0!"}},null,null,{"$f":"SUM(S14:T14)","v":0},{"$f":"S14/U14","v":{"$error":"#DIV/0!"}},{"$f":"T14/U14","v":{"$error":"#DIV/0!"}},null,null,{"$f":"SUM(X14:Y14)","v":0},{"$f":"X14/Z14","v":{"$error":"#DIV/0!"}},{"$f":"Y14/Z14","v":{"$error":"#DIV/0!"}}]
[null,null,"Senate",null,null,{"$f":"SUM(D15:E15)","v":0},{"$f":"D15/F15","v":{"$error":"#DIV/0!"}},{"$f":"E15/F15","v":{"$error":"#DIV/0!"}},null,null,{"$f":"SUM(I15:J15)","v":0},{"$f":"I15/K15","v":{"$error":"#DIV/0!"}},{"$f":"J15/K15","v":{"$error":"#DIV/0!"}},null,null,{"$f":"SUM(N15:O15)","v":0},{"$f":"N15/P15","v":{"$error":"#DIV/0!"}},{"$f":"O15/P15","v":{"$error":"#DIV/0!"}},null,null,{"$f":"SUM(S15:T15)","v":0},{"$f":"S15/U15","v":{"$error":"#DIV/0!"}},{"$f":"T15/U15","v":{"$error":"#DIV/0!"}},null,null,{"$f":"SUM(X15:Y15)","v":0},{"$f":"X15/Z15","v":{"$error":"#DIV/0!"}},{"$f":"Y15/Z15","v":{"$error":"#DIV/0!"}}]
[null,null,null,null,null,{"$f":"SUM(D16:E16)","v":0},{"$f":"D16/F16","v":{"$error":"#DIV/0!"}},{"$f":"E16/F16","v":{"$error":"#DIV/0!"}},null,null,{"$f":"SUM(I16:J16)","v":0},{"$f":"I16/K16","v":{"$error":"#DIV/0!"}},{"$f":"J16/K16","v":{"$error":"#DIV/0!"}},null,null,{"$f":"SUM(N16:O16)","v":0},{"$f":"N16/P16","v":{"$error":"#DIV/0!"}},{"$f":"O16/P16","v":{"$error":"#DIV/0!"}},null,null,{"$f":"SUM(S16:T16)","v":0},{"$f":"S16/U16","v":{"$error":"#DIV/0!"}},{"$f":"T16/U16","v":{"$error":"#DIV/0!"}},null,null,{"$f":"SUM(X16:Y16)","v":0},{"$f":"X16/Z16","v":{"$error":"#DIV/0!"}},{"$f":"Y16/Z16","v":{"$error":"#DIV/0!"}}]
[null,null,null,null,null,{"$f":"SUM(D17:E17)","v":0},{"$f":"D17/F17","v":{"$error":"#DIV/0!"}},{"$f":"E17/F17","v":{"$error":"#DIV/0!"}},null,null,{"$f":"SUM(I17:J17)","v":0},{"$f":"I17/K17","v":{"$error":"#DIV/0!"}},{"$f":"J17/K17","v":{"$error":"#DIV/0!"}},null,null,{"$f":"SUM(N17:O17)","v":0},{"$f":"N17/P17","v":{"$error":"#DIV/0!"}},{"$f":"O17/P17","v":{"$error":"#DIV/0!"}},null,null,{"$f":"SUM(S17:T17)","v":0},{"$f":"S17/U17","v":{"$error":"#DIV/0!"}},{"$f":"T17/U17","v":{"$error":"#DIV/0!"}},null,null,{"$f":"SUM(X17:Y17)","v":0},{"$f":"X17/Z17","v":{"$error":"#DIV/0!"}},{"$f":"Y17/Z17","v":{"$error":"#DIV/0!"}}]
[null,null,"TOTAL",{"$f":"SUM(D14:D17)","v":0},{"$f":"SUM(E14:E17)","v":0},{"$f":"SUM(F14:F17)","v":0},{"$f":"D18/F18","v":{"$error":"#DIV/0!"}},{"$f":"E18/F18","v":{"$error":"#DIV/0!"}},{"$f":"SUM(I14:I17)","v":0},{"$f":"SUM(J14:J17)","v":0},{"$f":"SUM(K14:K17)","v":0},{"$f":"I18/K18","v":{"$error":"#DIV/0!"}},{"$f":"J18/K18","v":{"$error":"#DIV/0!"}},0,0,{"$f":"SUM(P14:P17)","v":0},{"$f":"N18/P18","v":{"$error":"#DIV/0!"}},{"$f":"O18/P18","v":{"$error":"#DIV/0!"}},0,0,{"$f":"SUM(U14:U17)","v":0},{"$f":"S18/U18","v":{"$error":"#DIV/0!"}},{"$f":"T18/U18","v":{"$error":"#DIV/0!"}},{"$f":"SUM(X14:X17)","v":0},{"$f":"SUM(Y14:Y17)","v":0},{"$f":"SUM(Z14:Z17)","v":0},{"$f":"X18/Z18","v":{"$error":"#DIV/0!"}},{"$f":"Y18/Z18","v":{"$error":"#DIV/0!"}}]
[]
[null,{"$f":"D_Decision_Making!A26","v":"LEVEL OF RECTORATE / LEADERSHIP"},{"$f":"Information_RPO!A6","v":"Name of Research Performing Organization (RPO)"}]
[null,null,"Rector / Vice-Rectors",null,null,{"$f":"SUM(D21:E21)","v":0},{"$f":"D21/F21","v":{"$error":"#DIV/0!"}},{"$f":"E21/F21","v":{"$error":"#DIV/0!"}},null,null,{"$f":"SUM(I21:J21)","v":0},{"$f":"I21/K21","v":{"$error":"#DIV/0!"}},{"$f":"J21/K21","v":{"$error":"#DIV/0!"}},null,null,{"$f":"SUM(N21:O21)","v":0},{"$f":"N21/P21","v":{"$error":"#DIV/0!"}},{"$f":"O21/P21","v":{"$error":"#DIV/0!"}},null,null,{"$f":"SUM(S21:T21)","v":0},{"$f":"S21/U21","v":{"$error":"#DIV/0!"}},{"$f":"T21/U21","v":{"$error":"#DIV/0!"}},null,null,{"$f":"SUM(X21:Y21)","v":0},{"$f":"X21/Z21","v":{"$error":"#DIV/0!"}},{"$f":"Y21/Z21","v":{"$error":"#DIV/0!"}}]
[null,null,"RPO President",null,null,0,{"$error":"#DIV/0!"},{"$error":"#DIV/0!"},null,null,0,{"$error":"#DIV/0!"},{"$error":"#DIV/0!"},null,null,0,{"$error":"#DIV/0!"},{"$error":"#DIV/0!"},null,null,0,{"$error":"#DIV/0!"},{"$error":"#DIV/0!"},null,null,0,{"$error":"#DIV/0!"},{"$error":"#DIV/0!"}]
[null,null,"Deans",null,null,0,{"$error":"#DIV/0!"},{"$error":"#DIV/0!"},null,null,0,{"$error":"#DIV/0!"},{"$error":"#DIV/0!"},null,null,0,{"$error":"#DIV/0!"},{"$error":"#DIV/0!"},null,null,0,{"$error":"#DIV/0!"},{"$error":"#DIV/0!"},null,null,0,{"$error":"#DIV/0!"},{"$error":"#DIV/0!"}]
[null,null,null,null,null,0,{"$error":"#DIV/0!"},{"$error":"#DIV/0!"},null,null,0,{"$error":"#DIV/0!"},{"$error":"#DIV/0!"},null,null,0,{"$error":"#DIV/0!"},{"$error":"#DIV/0!"},null,null,0,{"$error":"#DIV/0!"},{"$error":"#DIV/0!"},null,null,0,{"$error":"#DIV/0!"},{"$error":"#DIV/0!"}]
[null,null,null,null,null,0,{"$error":"#DIV/0!"},{"$error":"#DIV/0!"},null,null,0,{"$error":"#DIV/0!"},{"$error":"#DIV/0!"},null,null,0,{"$error":"#DIV/0!"},{"$error":"#DIV/0!"},null,null,0,{"$error":"#DIV/0!"},{"$error":"#DIV/0!"},null,null,0,{"$error":"#DIV/0!"},{"$error":"#DIV/0!"}]
[null,null,null,null,null,0,{"$error":"#DIV/0!"},{"$error":"#DIV/0!"},null,null,0,{"$error":"#DIV/0!"},{"$error":"#DIV/0!"},null,null,0,{"$error":"#DIV/0!"},{"$error":"#DIV/0!"},null,null,0,{"$error":"#DIV/0!"},{"$error":"#DIV/0!"},null,null,0,{"$error":"#DIV/0!"},{"$error":"#DIV/0!"}]
[null,null,"TOTAL",{"$f":"SUM(D21:D26)","v":0},{"$f":"SUM(E21:E26)","v":0},{"$f":"SUM(F21:F26)","v":0},{"$error":"#DIV/0!"},{"$error":"#DIV/0!"},{"$f":"SUM(I21:I26)","v":0},0,0,{"$error":"#DIV/0!"},{"$error":"#DIV/0!"},0,0,0,{"$error":"#DIV/0!"},{"$error":"#DIV/0!"},0,0,0,{"$error":"#DIV/0!"},{"$error":"#DIV/0!"},{"$f":"SUM(X21:X26)","v":0},{"$f":"SUM(Y21:Y26)","v":0},{"$f":"SUM(Z21:Z26)","v":0},{"$error":"#DIV/0!"},{"$error":"#DIV/0!"}]
[]
[null,{"$f":"D_Decision_Making!A32","v":"LEVEL OF FACULTIES"},{"$f":"Information_RPO!A6","v":"Name of Research Performing Organization (RPO)"}]
[null,null,"Heads of Institutes/ Directors ",null,null,{"$f":"SUM(D30:E30)","v":0},{"$f":"D30/F30","v":{"$error":"#DIV/0!"}},{"$f":"E30/F30","v":{"$error":"#DIV/0!"}},null,null,{"$f":"SUM(I30:J30)","v":0},{"$f":"I30/K30","v":{"$error":"#DIV/0!"}},{"$f":"J30/K30","v":{"$error":"#DIV/0!"}},null,null,{"$f":"SUM(N30:O30)","v":0},{"$f":"N30/P30","v":{"$error":"#DIV/0!"}},{"$f":"O30/P30","v":{"$error":"#DIV/0!"}},null,null,{"$f":"SUM(S30:T30)","v":0},{"$f":"S30/U30","v":{"$error":"#DIV/0!"}},{"$f":"T30/U30","v":{"$error":"#DIV/0!"}},null,null,{"$f":"SUM(X30:Y30)","v":0},{"$f":"X30/Z30","v":{"$error":"#DIV/0!"}},{"$f":"Y30/Z30","v":{"$error":"#DIV/0!"}}]

{"sheet":"D_Recruitment_Career","index":8,"n_rows":24,"n_cols":3,"rows_kept":24,"cut":false,"hidden":false,"merged":[[22,0,23,0],[0,0,0,2],[2,0,10,2],[14,0,16,0],[17,0,18,0],[20,0,21,0]]}
["DESCRIPTION - THEMATIC AREA: RECRUITMENT AND CAREER DEVELOPMENT"]
[]
["To Do: In this thematic area you can collect data on various indicators giving insights on gender imbalances in recruitment and career development of female researchers and staff members. Please first read the descriptions in the following description tables: D_Staff, D_Employment, and D_ Funds. Second, enter the needed information in all description tables. Third, collect and enter the required sex-disaggregated data. Fourth, analyze the sex-disaggregated collected data. For example, by graphically demonstrating the proportion of women and men in a typical academic career at your research performing organization. See She Figures (2018) for getting inspiration on how to analyse this range of indicators on gender equality in research and innocation.  "]
[]
[]
[]
[]
[]
[]
[]
[]
[]
[]
["Description Sheets","Tables","Indicators"]
["D_Staff","T2a_Staff_HC","academic and non-academic staff in headcount by sex, faculty/department and year"]
[null,"T2b_Staff_HC","academic staff in headcount by sex, grade, faculty/department and year"]
[null,"T2c_Staff_HC","academic staff in headcount by sex, grade, and year (organisational and national); glass ceiling index (organisational and national)"]
["D_Employment","T3a_Employment","academic staff by sex and form of employment/contract"]
[null,"T3b_Employment","academic staff by sex and working time"]
["D_Funds","T4_Funds","funds, allowances and bonus by sex, faculty/department and year"]
[null,"T5a_PhDs","PhD students and graduates by sex, faculty/department, year (organisational and national)"]
[null,"T5b_PhD_Funding","PhD students by sex, funding, and year"]
[null,"T6a_BaMa_Enrolment","Enrolled Bachelor and Master students by sex, faculty/department, year (organisational and national)"]
[null,"T6b_BaMa_Grads","Bachelor and Master graduates by sex, faculty/department, year (organisational and national)"]

{"sheet":"D_Staff","index":9,"n_rows":18,"n_cols":3,"rows_kept":18,"cut":false,"hidden":false,"merged":[[2,0,6,2],[16,0,16,2],[17,0,24,2]]}
["DESCRIPTION: STAFF POSITIONS AND GLASS CEILING INDEX"]
[]
["To Do: Read the description of the She Figures categorization of seniority grades of researchers/academic staff carefully and then categorize the different professional positions at your organization accordingly. Use the seniority grades in the following tables: T2b_Staff_HC and T2c_Staff_HC. In Table T2c_Staff_HC, you can calculate the Glass Ceiling Index (see definition below) of your RPO and of other RPOs in similar fields of science in your country.  "]
[]
[]
[]
[]
[]
[]
["ABCD-grade\naccording to She Figures 2018","Reference\naccording to She Figures 2018","Reference - Country of Your Research Performing Organization"]
["Grade A","The single highest grade/position at which research is normally conducted within the institutional or corporate system. \nFull Professor"]
["Grade B","Should include all researchers working in positions which are not as senior as the top position (A) but definitely more senior than the newly qualified PhD holders\nAssociate professor"]
["Grade C","The first grade/post into which a newly qualified PhD graduate would normally be recruited within the institutional or corporate system\nAssistant professor"]
["Grade D","Either postgraduate students not yet holding a Phd degree who are engaged as researchers, (on the payroll) or researchers working in posts that do not normally require a PhD.\nother teaching staff"]
[]
[]
["Glass Ceiling Index (GCI) - Definition"]
["The Glass Ceiling Index (GCI) is a relative index comparing the proportion of women in academia (grades A, B, and C) with the proportion of women in top academic positions (grade A positions; equivalent to full professors in most countries) in a given year. The GCI can range from 0 to infinity. A GCI of 1 indicates that there is no difference between women and men in terms of their chances of being promoted. A score of less than 1 means that women are more represented at the grade A level than in academia generally (grades A, B, and C) and a GCI score of more than 1 indicates the presence of a glass ceiling effect, meaning that women are less represented in grade A positions than in academia generally (grades A, B, and C). In other words, the interpretation of the GCI is that the higher the value, the stronger the glass ceiling effect and the more difficult it is for women to move into a higher position. (SHE FIGURES, 2018, p. 125)."]

{"sheet":"T2a_Staff_HC","index":10,"n_rows":32,"n_cols":28,"rows_kept":32,"cut":false,"hidden":false,"merged":[[2,0,4,7],[8,23,8,27],[8,8,8,12],[8,3,8,7],[7,3,7,7],[8,13,8,17],[8,18,8,22]]}
["TABLE 2A: STAFF IN HEADCOUNT BY FACULTY/DEPARTMENT "]
[]
["To Do: Please enter the number of academic and non-academic staff by sex,  faculty/department and year. If necessary, please add further lines (faculties/departments) to the tables. Please also add the source of data and the cut-off date referring to the year columns."]
[]
[]
[]
["source of data:"]
["year comment:"]
[null,null,null,2014,null,null,null,null,2016,null,null,null,null,2018,null,null,null,null,2020,null,null,null,null,2022]
[null,null,null,"f","m","t","f %","m %","f","m","t","f %","m %","f","m","t","f %","m %","f","m","t","f %","m %","f","m","t","f %","m %"]
[]
[null,"All Staff (Academic and Non-academic)"]
[null,null,{"$f":"Information_RPO!A8","v":"Faculty/Department 1"},null,null,{"$f":"SUM(D13:E13)","v":0},{"$f":"D13/F13","v":{"$error":"#DIV/0!"}},{"$f":"E13/F13","v":{"$error":"#DIV/0!"}},null,null,{"$f":"SUM(I13:J13)","v":0},{"$f":"I13/K13","v":{"$error":"#DIV/0!"}},{"$f":"J13/K13","v":{"$error":"#DIV/0!"}},null,null,{"$f":"SUM(N13:O13)","v":0},{"$f":"N13/P13","v":{"$error":"#DIV/0!"}},{"$f":"O13/P13","v":{"$error":"#DIV/0!"}},null,null,{"$f":"SUM(S13:T13)","v":0},{"$f":"S13/U13","v":{"$error":"#DIV/0!"}},{"$f":"T13/U13","v":{"$error":"#DIV/0!"}},null,null,{"$f":"SUM(X13:Y13)","v":0},{"$f":"X13/Z13","v":{"$error":"#DIV/0!"}},{"$f":"Y13/Z13","v":{"$error":"#DIV/0!"}}]
[null,null,{"$f":"Information_RPO!A9","v":"Faculty/Department 2"},null,null,0,{"$error":"#DIV/0!"},{"$error":"#DIV/0!"},null,null,0,{"$error":"#DIV/0!"},{"$error":"#DIV/0!"},null,null,{"$f":"SUM(N14:O14)","v":0},{"$f":"N14/P14","v":{"$error":"#DIV/0!"}},{"$f":"O14/P14","v":{"$error":"#DIV/0!"}},null,null,0,{"$error":"#DIV/0!"},{"$error":"#DIV/0!"},null,null,0,{"$error":"#DIV/0!"},{"$error":"#DIV/0!"}]
[null,null,{"$f":"Information_RPO!A10","v":"Faculty/Department 3"},null,null,0,{"$error":"#DIV/0!"},{"$error":"#DIV/0!"},null,null,0,{"$error":"#DIV/0!"},{"$error":"#DIV/0!"},null,null,{"$f":"SUM(N15:O15)","v":0},{"$f":"N15/P15","v":{"$error":"#DIV/0!"}},{"$f":"O15/P15","v":{"$error":"#DIV/0!"}},null,null,0,{"$error":"#DIV/0!"},{"$error":"#DIV/0!"},null,null,0,{"$error":"#DIV/0!"},{"$error":"#DIV/0!"}]
[null,null,{"$f":"Information_RPO!A11","v":"Faculty/Department 4"},null,null,0,{"$error":"#DIV/0!"},{"$error":"#DIV/0!"},null,null,0,{"$error":"#DIV/0!"},{"$error":"#DIV/0!"},null,null,{"$f":"SUM(N16:O16)","v":0},{"$f":"N16/P16","v":{"$error":"#DIV/0!"}},{"$f":"O16/P16","v":{"$error":"#DIV/0!"}},null,null,0,{"$error":"#DIV/0!"},{"$error":"#DIV/0!"},null,null,0,{"$error":"#DIV/0!"},{"$error":"#DIV/0!"}]
[null,null,{"$f":"Information_RPO!A12","v":"Faculty/Department 5"},null,null,0,{"$error":"#DIV/0!"},{"$error":"#DIV/0!"},null,null,0,{"$error":"#DIV/0!"},{"$error":"#DIV/0!"},null,null,{"$f":"SUM(N17:O17)","v":0},{"$f":"N17/P17","v":{"$error":"#DIV/0!"}},{"$f":"O17/P17","v":{"$error":"#DIV/0!"}},null,null,0,{"$error":"#DIV/0!"},{"$error":"#DIV/0!"},null,null,0,{"$error":"#DIV/0!"},{"$error":"#DIV/0!"}]
[null,null,{"$f":"Information_RPO!A13","v":"Faculty/Department 6"},null,null,0,{"$error":"#DIV/0!"},{"$error":"#DIV/0!"},null,null,0,{"$error":"#DIV/0!"},{"$error":"#DIV/0!"},null,null,0,{"$error":"#DIV/0!"},{"$error":"#DIV/0!"},null,null,0,{"$error":"#DIV/0!"},{"$error":"#DIV/0!"},null,null,0,{"$error":"#DIV/0!"},{"$error":"#DIV/0!"}]
[null,null,{"$f":"Information_RPO!A14","v":"Faculty/Department 7"},null,null,0,{"$error":"#DIV/0!"},{"$error":"#DIV/0!"},null,null,0,{"$error":"#DIV/0!"},{"$error":"#DIV/0!"},null,null,0,{"$error":"#DIV/0!"},{"$error":"#DIV/0!"},null,null,0,{"$error":"#DIV/0!"},{"$error":"#DIV/0!"},null,null,0,{"$error":"#DIV/0!"},{"$error":"#DIV/0!"}]
[null,null,{"$f":"Information_RPO!A15","v":"Faculty/Department 8"},null,null,0,{"$error":"#DIV/0!"},{"$error":"#DIV/0!"},null,null,0,{"$error":"#DIV/0!"},{"$error":"#DIV/0!"},null,null,0,{"$error":"#DIV/0!"},{"$error":"#DIV/0!"}]
[null,null,"Total of All Staff ",{"$f":"SUM(D13:D20)","v":0},{"$f":"SUM(E13:E20)","v":0},0,{"$error":"#DIV/0!"},{"$error":"#DIV/0!"},{"$f":"SUM(I13:I20)","v":0},{"$f":"SUM(J13:J20)","v":0},0,{"$error":"#DIV/0!"},{"$error":"#DIV/0!"},{"$f":"SUM(N13:N20)","v":0},{"$f":"SUM(O13:O20)","v":0},0,{"$error":"#DIV/0!"},{"$error":"#DIV/0!"},{"$f":"SUM(S13:S20)","v":0},{"$f":"SUM(T13:T20)","v":0},{"$f":"SUM(S21:T21)","v":0},{"$f":"S21/U21","v":{"$error":"#DIV/0!"}},{"$f":"T21/U21","v":{"$error":"#DIV/0!"}},{"$f":"SUM(X13:X20)","v":0},{"$f":"SUM(Y13:Y20)","v":0},{"$f":"SUM(X21:Y21)","v":0},{"$f":"X21/Z21","v":{"$error":"#DIV/0!"}},{"$f":"Y21/Z21","v":{"$error":"#DIV/0!"}}]
[]
[null,"Academic Staff"]
[null,null,{"$f":"Information_RPO!A8","v":"Faculty/Department 1"},null,null,{"$f":"SUM(D24:E24)","v":0},{"$f":"D24/F24","v":{"$error":"#DIV/0!"}},{"$f":"E24/F24","v":{"$error":"#DIV/0!"}},null,null,{"$f":"SUM(I24:J24)","v":0},{"$f":"I24/K24","v":{"$error":"#DIV/0!"}},{"$f":"J24/K24","v":{"$error":"#DIV/0!"}},null,null,{"$f":"SUM(N24:O24)","v":0},{"$f":"N24/P24","v":{"$error":"#DIV/0!"}},{"$f":"O24/P24","v":{"$error":"#DIV/0!"}},null,null,{"$f":"SUM(S24:T24)","v":0},{"$f":"S24/U24","v":{"$error":"#DIV/0!"}},{"$f":"T24/U24","v":{"$error":"#DIV/0!"}},null,null,{"$f":"SUM(X24:Y24)","v":0},{"$f":"X24/Z24","v":{"$error":"#DIV/0!"}},{"$f":"Y24/Z24","v":{"$error":"#DIV/0!"}}]
[null,null,{"$f":"Information_RPO!A9","v":"Faculty/Department 2"},null,null,0,{"$error":"#DIV/0!"},{"$error":"#DIV/0!"},null,null,0,{"$error":"#DIV/0!"},{"$error":"#DIV/0!"},null,null,0,{"$error":"#DIV/0!"},{"$error":"#DIV/0!"},null,null,0,{"$error":"#DIV/0!"},{"$error":"#DIV/0!"},null,null,0,{"$error":"#DIV/0!"},{"$error":"#DIV/0!"}]
[null,null,{"$f":"Information_RPO!A10","v":"Faculty/Department 3"},null,null,0,{"$error":"#DIV/0!"},{"$error":"#DIV/0!"},null,null,0,{"$error":"#DIV/0!"},{"$error":"#DIV/0!"},null,null,0,{"$error":"#DIV/0!"},{"$error":"#DIV/0!"},null,null,0,{"$error":"#DIV/0!"},{"$error":"#DIV/0!"},null,null,0,{"$error":"#DIV/0!"},{"$error":"#DIV/0!"}]
[null,null,{"$f":"Information_RPO!A11","v":"Faculty/Department 4"},null,null,0,{"$error":"#DIV/0!"},{"$error":"#DIV/0!"},null,null,0,{"$error":"#DIV/0!"},{"$error":"#DIV/0!"},null,null,0,{"$error":"#DIV/0!"},{"$error":"#DIV/0!"},null,null,0,{"$error":"#DIV/0!"},{"$error":"#DIV/0!"},null,null,0,{"$error":"#DIV/0!"},{"$error":"#DIV/0!"}]
[null,null,{"$f":"Information_RPO!A12","v":"Faculty/Department 5"},null,null,0,{"$error":"#DIV/0!"},{"$error":"#DIV/0!"},null,null,0,{"$error":"#DIV/0!"},{"$error":"#DIV/0!"},null,null,0,{"$error":"#DIV/0!"},{"$error":"#DIV/0!"},null,null,0,{"$error":"#DIV/0!"},{"$error":"#DIV/0!"},null,null,0,{"$error":"#DIV/0!"},{"$error":"#DIV/0!"}]
[null,null,{"$f":"Information_RPO!A13","v":"Faculty/Department 6"},null,null,0,{"$error":"#DIV/0!"},{"$error":"#DIV/0!"},null,null,0,{"$error":"#DIV/0!"},{"$error":"#DIV/0!"},null,null,0,{"$error":"#DIV/0!"},{"$error":"#DIV/0!"},null,null,0,{"$error":"#DIV/0!"},{"$error":"#DIV/0!"},null,null,0,{"$error":"#DIV/0!"},{"$error":"#DIV/0!"}]
[null,null,{"$f":"Information_RPO!A14","v":"Faculty/Department 7"},null,null,{"$f":"SUM(D30:E30)","v":0},{"$f":"D30/F30","v":{"$error":"#DIV/0!"}},{"$f":"E30/F30","v":{"$error":"#DIV/0!"}},null,null,{"$f":"SUM(I30:J30)","v":0},{"$f":"I30/K30","v":{"$error":"#DIV/0!"}},{"$f":"J30/K30","v":{"$error":"#DIV/0!"}},null,null,{"$f":"SUM(N30:O30)","v":0},{"$f":"N30/P30","v":{"$error":"#DIV/0!"}},{"$f":"O30/P30","v":{"$error":"#DIV/0!"}},null,null,0,{"$error":"#DIV/0!"},{"$error":"#DIV/0!"},null,null,0,{"$error":"#DIV/0!"},{"$error":"#DIV/0!"}]
[null,null,{"$f":"Information_RPO!A15","v":"Faculty/Department 8"},null,null,{"$f":"SUM(D31:E31)","v":0},{"$f":"D31/F31","v":{"$error":"#DIV/0!"}},{"$f":"E31/F31","v":{"$error":"#DIV/0!"}},null,null,{"$f":"SUM(I31:J31)","v":0},{"$f":"I31/K31","v":{"$error":"#DIV/0!"}},{"$f":"J31/K31","v":{"$error":"#DIV/0!"}},null,null,{"$f":"SUM(N31:O31)","v":0},{"$f":"N31/P31","v":{"$error":"#DIV/0!"}},{"$f":"O31/P31","v":{"$error":"#DIV/0!"}}]
[null,null,"Total of Academic Staff ",{"$f":"SUM(D24:D31)","v":0},{"$f":"SUM(E24:E31)","v":0},{"$f":"SUM(D32:E32)","v":0},{"$f":"D32/F32","v":{"$error":"#DIV/0!"}},{"$f":"E32/F32","v":{"$error":"#DIV/0!"}},{"$f":"SUM(I24:I31)","v":0},{"$f":"SUM(J24:J31)","v":0},{"$f":"SUM(I32:J32)","v":0},{"$f":"I32/K32","v":{"$error":"#DIV/0!"}},{"$f":"J32/K32","v":{"$error":"#DIV/0!"}},{"$f":"SUM(N24:N31)","v":0},{"$f":"SUM(O24:O31)","v":0},{"$f":"SUM(N32:O32)","v":0},{"$f":"N32/P32","v":{"$error":"#DIV/0!"}},{"$f":"O32/P32","v":{"$error":"#DIV/0!"}},{"$f":"SUM(S24:S31)","v":0},{"$f":"SUM(T24:T31)","v":0},{"$f":"SUM(S32:T32)","v":0},{"$f":"S32/U32","v":{"$error":"#DIV/0!"}},{"$f":"T32/U32","v":{"$error":"#DIV/0!"}},{"$f":"SUM(X24:X31)","v":0},{"$f":"SUM(Y24:Y31)","v":0},{"$f":"SUM(X32:Y32)","v":0},{"$f":"X32/Z32","v":{"$error":"#DIV/0!"}},{"$f":"Y32/Z32","v":{"$error":"#DIV/0!"}}]

{"sheet":"T2b_Staff_HC","index":11,"n_rows":72,"n_cols":28,"rows_kept":72,"cut":false,"hidden":false,"merged":[[8,23,8,27],[2,0,4,9],[8,3,8,7],[8,8,8,12],[8,13,8,17],[8,18,8,22]]}
["TABLE 2B: ACADEMIC STAFF IN HEADCOUNT BY GRADE AND FACULTY/DEPARTMENT (LOCAL UNIT)"]
[]
["To Do: Please enter the number of academic staff by sex, faculty/department, seniorty grade and year. If necessary, please add further lines (faculties/departments) to the tables. Please also add the source of data and the cut-off date referring to the year columns."]
[]
[]
[]
["source of data:"]
["year comment:"]
[null,null,null,2014,null,null,null,null,2016,null,null,null,null,2018,null,null,null,null,2020,null,null,null,null,2022]
[null,null,null,"f","m","t","f %","m %","f","m","t","f %","m %","f","m","t","f %","m %","f","m","t","f %","m %","f","m","t","f %","m %"]
[null,{"$f":"Information_RPO!A6","v":"Name of Research Performing Organization (RPO)"}]
[null,null,"Grade A",{"$f":"D19+D26+D33+D40+D47+D54+D61+D68","v":0},0,{"$f":"SUM(D12:E12)","v":0},{"$f":"D12/F12","v":{"$error":"#DIV/0!"}},{"$f":"E12/G12","v":{"$error":"#DIV/0!"}},{"$f":"I19+I26+I33+I40+I47+I54+I61+I68","v":0},0,{"$f":"SUM(I12:J12)","v":0},{"$f":"I12/K12","v":{"$error":"#DIV/0!"}},{"$f":"J12/L12","v":{"$error":"#DIV/0!"}},{"$f":"N19+N26+N33+N40+N47+N54+N61+N68","v":0},{"$f":"O19+O26+O33+O40+O47+O54+O61+O68","v":0},{"$f":"SUM(N12:O12)","v":0},{"$f":"N12/P12","v":{"$error":"#DIV/0!"}},{"$f":"O12/Q12","v":{"$error":"#DIV/0!"}},{"$f":"S19+S26+S33+S40+S47+S54+S61+S68","v":0},0,{"$f":"SUM(S12:T12)","v":0},{"$f":"S12/U12","v":{"$error":"#DIV/0!"}},{"$error":"#DIV/0!"},{"$f":"X19+X26+X33+X40+X47+X54+X61+X68","v":0},0,{"$f":"SUM(X12:Y12)","v":0},{"$f":"X12/Z12","v":{"$error":"#DIV/0!"}},{"$error":"#DIV/0!"}]
[null,null,"Grade B",0,0,{"$f":"SUMIF($C$19:$C$65,$C13,F$19:F$65)","v":0},{"$f":"D13/F13","v":{"$error":"#DIV/0!"}},{"$f":"E13/F13","v":{"$error":"#DIV/0!"}},0,0,{"$f":"SUM(I13:J13)","v":0},{"$f":"I13/K13","v":{"$error":"#DIV/0!"}},{"$f":"J13/K13","v":{"$error":"#DIV/0!"}},{"$f":"SUMIF($C$19:$C$65,$C13,N$19:N$65)","v":0},0,{"$f":"SUM(N13:O13)","v":0},{"$f":"N13/P13","v":{"$error":"#DIV/0!"}},{"$f":"O13/P13","v":{"$error":"#DIV/0!"}},0,0,{"$f":"SUM(S13:T13)","v":0},{"$error":"#DIV/0!"},{"$error":"#DIV/0!"},0,0,{"$f":"SUM(X13:Y13)","v":0},{"$error":"#DIV/0!"},{"$error":"#DIV/0!"}]
[null,null,"Grade C",0,0,{"$f":"SUMIF($C$19:$C$65,$C14,F$19:F$65)","v":0},{"$f":"D14/F14","v":{"$error":"#DIV/0!"}},{"$f":"E14/F14","v":{"$error":"#DIV/0!"}},0,0,{"$f":"SUM(I14:J14)","v":0},{"$f":"I14/K14","v":{"$error":"#DIV/0!"}},{"$f":"J14/K14","v":{"$error":"#DIV/0!"}},0,0,{"$f":"SUM(N14:O14)","v":0},{"$f":"N14/P14","v":{"$error":"#DIV/0!"}},{"$f":"O14/P14","v":{"$error":"#DIV/0!"}},0,0,{"$f":"SUM(S14:T14)","v":0},{"$error":"#DIV/0!"},{"$error":"#DIV/0!"},0,0,{"$f":"SUM(X14:Y14)","v":0},{"$error":"#DIV/0!"},{"$error":"#DIV/0!"}]
[null,null,"Grade D",0,0,{"$f":"SUMIF($C$19:$C$65,$C15,F$19:F$65)","v":0},{"$f":"D15/F15","v":{"$error":"#DIV/0!"}},{"$f":"E15/F15","v":{"$error":"#DIV/0!"}},0,0,{"$f":"SUM(I15:J15)","v":0},{"$f":"I15/K15","v":{"$error":"#DIV/0!"}},{"$f":"J15/K15","v":{"$error":"#DIV/0!"}},0,0,{"$f":"SUM(N15:O15)","v":0},{"$f":"N15/P15","v":{"$error":"#DIV/0!"}},{"$f":"O15/P15","v":{"$error":"#DIV/0!"}},0,0,{"$f":"SUM(S15:T15)","v":0},{"$error":"#DIV/0!"},{"$error":"#DIV/0!"},0,0,{"$f":"SUM(X15:Y15)","v":0},{"$error":"#DIV/0!"},{"$error":"#DIV/0!"}]
[null,null,"TOTAL",{"$f":"SUM(D12:D15)","v":0},{"$f":"SUM(E12:E15)","v":0},{"$f":"SUM(F12:F15)","v":0},{"$f":"D16/F16","v":{"$error":"#DIV/0!"}},{"$f":"E16/F16","v":{"$error":"#DIV/0!"}},{"$f":"SUM(I12:I15)","v":0},{"$f":"SUM(J12:J15)","v":0},{"$f":"SUM(I16:J16)","v":0},{"$f":"I16/K16","v":{"$error":"#DIV/0!"}},{"$f":"J16/K16","v":{"$error":"#DIV/0!"}},{"$f":"SUM(N12:N15)","v":0},{"$f":"SUM(O12:O15)","v":0},{"$f":"SUM(N16:O16)","v":0},{"$f":"N16/P16","v":{"$error":"#DIV/0!"}},{"$f":"O16/P16","v":{"$error":"#DIV/0!"}},{"$f":"SUM(S12:S15)","v":0},{"$f":"SUM(T12:T15)","v":0},{"$f":"SUM(U12:U15)","v":0},{"$f":"S16/U16","v":{"$error":"#DIV/0!"}},{"$f":"T16/U16","v":{"$error":"#DIV/0!"}},{"$f":"SUM(X12:X15)","v":0},{"$f":"SUM(Y12:Y15)","v":0},{"$f":"SUM(Z12:Z15)","v":0},{"$f":"X16/Z16","v":{"$error":"#DIV/0!"}},{"$f":"Y16/Z16","v":{"$error":"#DIV/0!"}}]
[]
[null,{"$f":"Information_RPO!A8","v":"Faculty/Department 1"}]
[null,null,"Grade A",null,null,{"$f":"SUM(D19:E19)","v":0},{"$f":"D19/F19","v":{"$error":"#DIV/0!"}},{"$f":"E19/F19","v":{"$error":"#DIV/0!"}},null,null,{"$f":"SUM(I19:J19)","v":0},{"$f":"I19/K19","v":{"$error":"#DIV/0!"}},{"$f":"J19/K19","v":{"$error":"#DIV/0!"}},null,null,{"$f":"SUM(N19:O19)","v":0},{"$f":"N19/P19","v":{"$error":"#DIV/0!"}},{"$f":"O19/P19","v":{"$error":"#DIV/0!"}},null,null,{"$f":"SUM(S19:T19)","v":0},{"$f":"S19/U19","v":{"$error":"#DIV/0!"}},{"$f":"T19/U19","v":{"$error":"#DIV/0!"}},null,null,{"$f":"SUM(X19:Y19)","v":0},{"$f":"X19/Z19","v":{"$error":"#DIV/0!"}},{"$f":"Y19/Z19","v":{"$error":"#DIV/0!"}}]
[null,null,"Grade B",null,null,{"$f":"SUM(D20:E20)","v":0},{"$f":"D20/F20","v":{"$error":"#DIV/0!"}},{"$f":"E20/F20","v":{"$error":"#DIV/0!"}},null,null,{"$f":"SUM(I20:J20)","v":0},{"$f":"I20/K20","v":{"$error":"#DIV/0!"}},{"$f":"J20/K20","v":{"$error":"#DIV/0!"}},null,null,{"$f":"SUM(N20:O20)","v":0},{"$f":"N20/P20","v":{"$error":"#DIV/0!"}},{"$f":"O20/P20","v":{"$error":"#DIV/0!"}},null,null,{"$f":"SUM(S20:T20)","v":0},{"$f":"S20/U20","v":{"$error":"#DIV/0!"}},{"$f":"T20/U20","v":{"$error":"#DIV/0!"}},null,null,{"$f":"SUM(X20:Y20)","v":0},{"$f":"X20/Z20","v":{"$error":"#DIV/0!"}},{"$f":"Y20/Z20","v":{"$error":"#DIV/0!"}}]
[null,null,"Grade C",null,null,{"$f":"SUM(D21:E21)","v":0},{"$f":"D21/F21","v":{"$error":"#DIV/0!"}},{"$f":"E21/F21","v":{"$error":"#DIV/0!"}},null,null,{"$f":"SUM(I21:J21)","v":0},{"$f":"I21/K21","v":{"$error":"#DIV/0!"}},{"$f":"J21/K21","v":{"$error":"#DIV/0!"}},null,null,{"$f":"SUM(N21:O21)","v":0},{"$f":"N21/P21","v":{"$error":"#DIV/0!"}},{"$f":"O21/P21","v":{"$error":"#DIV/0!"}},null,null,{"$f":"SUM(S21:T21)","v":0},{"$f":"S21/U21","v":{"$error":"#DIV/0!"}},{"$f":"T21/U21","v":{"$error":"#DIV/0!"}},null,null,{"$f":"SUM(X21:Y21)","v":0},{"$f":"X21/Z21","v":{"$error":"#DIV/0!"}},{"$f":"Y21/Z21","v":{"$error":"#DIV/0!"}}]
[null,null,"Grade D",null,null,{"$f":"SUM(D22:E22)","v":0},{"$f":"D22/F22","v":{"$error":"#DIV/0!"}},{"$f":"E22/F22","v":{"$error":"#DIV/0!"}},null,null,{"$f":"SUM(I22:J22)","v":0},{"$f":"I22/K22","v":{"$error":"#DIV/0!"}},{"$f":"J22/K22","v":{"$error":"#DIV/0!"}},null,null,{"$f":"SUM(N22:O22)","v":0},{"$f":"N22/P22","v":{"$error":"#DIV/0!"}},{"$f":"O22/P22","v":{"$error":"#DIV/0!"}},null,null,{"$f":"SUM(S22:T22)","v":0},{"$f":"S22/U22","v":{"$error":"#DIV/0!"}},{"$f":"T22/U22","v":{"$error":"#DIV/0!"}},null,null,{"$f":"SUM(X22:Y22)","v":0},{"$f":"X22/Z22","v":{"$error":"#DIV/0!"}},{"$f":"Y22/Z22","v":{"$error":"#DIV/0!"}}]
[null,null,"TOTAL",{"$f":"SUM(D19:D22)","v":0},{"$f":"SUM(E19:E22)","v":0},{"$f":"SUM(D23:E23)","v":0},{"$f":"D23/F23","v":{"$error":"#DIV/0!"}},{"$f":"E23/F23","v":{"$error":"#DIV/0!"}},{"$f":"SUM(I19:I22)","v":0},{"$f":"SUM(J19:J22)","v":0},{"$f":"SUM(I23:J23)","v":0},{"$f":"I23/K23","v":{"$error":"#DIV/0!"}},{"$f":"J23/K23","v":{"$error":"#DIV/0!"}},{"$f":"SUM(N19:N22)","v":0},{"$f":"SUM(O19:O22)","v":0},{"$f":"SUM(N23:O23)","v":0},{"$f":"N23/P23","v":{"$error":"#DIV/0!"}},{"$f":"O23/P23","v":{"$error":"#DIV/0!"}},{"$f":"SUM(S19:S22)","v":0},{"$f":"SUM(T19:T22)","v":0},{"$f":"SUM(S23:T23)","v":0},{"$f":"S23/U23","v":{"$error":"#DIV/0!"}},{"$f":"T23/U23","v":{"$error":"#DIV/0!"}},{"$f":"SUM(X19:X22)","v":0},{"$f":"SUM(Y19:Y22)","v":0},{"$f":"SUM(X23:Y23)","v":0},{"$f":"X23/Z23","v":{"$error":"#DIV/0!"}},{"$f":"Y23/Z23","v":{"$error":"#DIV/0!"}}]
[]
[null,{"$f":"Information_RPO!A9","v":"Faculty/Department 2"}]
[null,null,"Grade A",null,null,{"$f":"SUM(D26:E26)","v":0},{"$f":"D26/F26","v":{"$error":"#DIV/0!"}},{"$f":"E26/F26","v":{"$error":"#DIV/0!"}},null,null,{"$f":"SUM(I26:J26)","v":0},{"$f":"I26/K26","v":{"$error":"#DIV/0!"}},{"$f":"J26/K26","v":{"$error":"#DIV/0!"}},null,null,{"$f":"SUM(N26:O26)","v":0},{"$f":"N26/P26","v":{"$error":"#DIV/0!"}},{"$f":"O26/P26","v":{"$error":"#DIV/0!"}},null,null,{"$f":"SUM(S26:T26)","v":0},{"$f":"S26/U26","v":{"$error":"#DIV/0!"}},{"$f":"T26/U26","v":{"$error":"#DIV/0!"}},null,null,{"$f":"SUM(X26:Y26)","v":0},{"$f":"X26/Z26","v":{"$error":"#DIV/0!"}},{"$f":"Y26/Z26","v":{"$error":"#DIV/0!"}}]
[null,null,"Grade B",null,null,{"$f":"SUM(D27:E27)","v":0},{"$f":"D27/F27","v":{"$error":"#DIV/0!"}},{"$f":"E27/F27","v":{"$error":"#DIV/0!"}},null,null,{"$f":"SUM(I27:J27)","v":0},{"$f":"I27/K27","v":{"$error":"#DIV/0!"}},{"$f":"J27/K27","v":{"$error":"#DIV/0!"}},null,null,{"$f":"SUM(N27:O27)","v":0},{"$f":"N27/P27","v":{"$error":"#DIV/0!"}},{"$f":"O27/P27","v":{"$error":"#DIV/0!"}},null,null,{"$f":"SUM(S27:T27)","v":0},{"$f":"S27/U27","v":{"$error":"#DIV/0!"}},{"$f":"T27/U27","v":{"$error":"#DIV/0!"}},null,null,{"$f":"SUM(X27:Y27)","v":0},{"$f":"X27/Z27","v":{"$error":"#DIV/0!"}},{"$f":"Y27/Z27","v":{"$error":"#DIV/0!"}}]
[null,null,"Grade C",null,null,{"$f":"SUM(D28:E28)","v":0},{"$f":"D28/F28","v":{"$error":"#DIV/0!"}},{"$f":"E28/F28","v":{"$error":"#DIV/0!"}},null,null,{"$f":"SUM(I28:J28)","v":0},{"$f":"I28/K28","v":{"$error":"#DIV/0!"}},{"$f":"J28/K28","v":{"$error":"#DIV/0!"}},null,null,{"$f":"SUM(N28:O28)","v":0},{"$f":"N28/P28","v":{"$error":"#DIV/0!"}},{"$f":"O28/P28","v":{"$error":"#DIV/0!"}},null,null,{"$f":"SUM(S28:T28)","v":0},{"$f":"S28/U28","v":{"$error":"#DIV/0!"}},{"$f":"T28/U28","v":{"$error":"#DIV/0!"}},null,null,{"$f":"SUM(X28:Y28)","v":0},{"$f":"X28/Z28","v":{"$error":"#DIV/0!"}},{"$f":"Y28/Z28","v":{"$error":"#DIV/0!"}}]
[null,null,"Grade D",null,null,{"$f":"SUM(D29:E29)","v":0},{"$f":"D29/F29","v":{"$error":"#DIV/0!"}},{"$f":"E29/F29","v":{"$error":"#DIV/0!"}},null,null,{"$f":"SUM(I29:J29)","v":0},{"$f":"I29/K29","v":{"$error":"#DIV/0!"}},{"$f":"J29/K29","v":{"$error":"#DIV/0!"}},null,null,{"$f":"SUM(N29:O29)","v":0},{"$f":"N29/P29","v":{"$error":"#DIV/0!"}},{"$f":"O29/P29","v":{"$error":"#DIV/0!"}},null,null,{"$f":"SUM(S29:T29)","v":0},{"$f":"S29/U29","v":{"$error":"#DIV/0!"}},{"$f":"T29/U29","v":{"$error":"#DIV/0!"}},null,null,{"$f":"SUM(X29:Y29)","v":0},{"$f":"X29/Z29","v":{"$error":"#DIV/0!"}},{"$f":"Y29/Z29","v":{"$error":"#DIV/0!"}}]
[null,null,"TOTAL",{"$f":"SUM(D26:D29)","v":0},{"$f":"SUM(E26:E29)","v":0},{"$f":"SUM(D30:E30)","v":0},{"$f":"D30/F30","v":{"$error":"#DIV/0!"}},{"$f":"E30/F30","v":{"$error":"#DIV/0!"}},{"$f":"SUM(I26:I29)","v":0},{"$f":"SUM(J26:J29)","v":0},{"$f":"SUM(I30:J30)","v":0},{"$f":"I30/K30","v":{"$error":"#DIV/0!"}},{"$f":"J30/K30","v":{"$error":"#DIV/0!"}},{"$f":"SUM(N26:N29)","v":0},{"$f":"SUM(O26:O29)","v":0},{"$f":"SUM(N30:O30)","v":0},{"$f":"N30/P30","v":{"$error":"#DIV/0!"}},{"$f":"O30/P30","v":{"$error":"#DIV/0!"}},{"$f":"SUM(S26:S29)","v":0},{"$f":"SUM(T26:T29)","v":0},{"$f":"SUM(S30:T30)","v":0},{"$f":"S30/U30","v":{"$error":"#DIV/0!"}},{"$f":"T30/U30","v":{"$error":"#DIV/0!"}},{"$f":"SUM(X26:X29)","v":0},{"$f":"SUM(Y26:Y29)","v":0},{"$f":"SUM(X30:Y30)","v":0},{"$f":"X30/Z30","v":{"$error":"#DIV/0!"}},{"$f":"Y30/Z30","v":{"$error":"#DIV/0!"}}]
[]
[null,{"$f":"Information_RPO!A10","v":"Faculty/Department 3"}]
[null,null,"Grade A",null,null,{"$f":"SUM(D33:E33)","v":0},{"$f":"D33/F33","v":{"$error":"#DIV/0!"}},{"$f":"E33/F33","v":{"$error":"#DIV/0!"}},null,null,{"$f":"SUM(I33:J33)","v":0},{"$f":"I33/K33","v":{"$error":"#DIV/0!"}},{"$f":"J33/K33","v":{"$error":"#DIV/0!"}},null,null,{"$f":"SUM(N33:O33)","v":0},{"$f":"N33/P33","v":{"$error":"#DIV/0!"}},{"$f":"O33/P33","v":{"$error":"#DIV/0!"}},null,null,{"$f":"SUM(S33:T33)","v":0},{"$f":"S33/U33","v":{"$error":"#DIV/0!"}},{"$f":"T33/U33","v":{"$error":"#DIV/0!"}},null,null,{"$f":"SUM(X33:Y33)","v":0},{"$f":"X33/Z33","v":{"$error":"#DIV/0!"}},{"$f":"Y33/Z33","v":{"$error":"#DIV/0!"}}]
[null,null,"Grade B",null,null,{"$f":"SUM(D34:E34)","v":0},{"$f":"D34/F34","v":{"$error":"#DIV/0!"}},{"$f":"E34/F34","v":{"$error":"#DIV/0!"}},null,null,{"$f":"SUM(I34:J34)","v":0},{"$f":"I34/K34","v":{"$error":"#DIV/0!"}},{"$f":"J34/K34","v":{"$error":"#DIV/0!"}},null,null,{"$f":"SUM(N34:O34)","v":0},{"$f":"N34/P34","v":{"$error":"#DIV/0!"}},{"$f":"O34/P34","v":{"$error":"#DIV/0!"}},null,null,{"$f":"SUM(S34:T34)","v":0},{"$f":"S34/U34","v":{"$error":"#DIV/0!"}},{"$f":"T34/U34","v":{"$error":"#DIV/0!"}},null,null,{"$f":"SUM(X34:Y34)","v":0},{"$f":"X34/Z34","v":{"$error":"#DIV/0!"}},{"$f":"Y34/Z34","v":{"$error":"#DIV/0!"}}]
[null,null,"Grade C",null,null,{"$f":"SUM(D35:E35)","v":0},{"$f":"D35/F35","v":{"$error":"#DIV/0!"}},{"$f":"E35/F35","v":{"$error":"#DIV/0!"}},null,null,{"$f":"SUM(I35:J35)","v":0},{"$f":"I35/K35","v":{"$error":"#DIV/0!"}},{"$f":"J35/K35","v":{"$error":"#DIV/0!"}},null,null,{"$f":"SUM(N35:O35)","v":0},{"$f":"N35/P35","v":{"$error":"#DIV/0!"}},{"$f":"O35/P35","v":{"$error":"#DIV/0!"}},null,null,{"$f":"SUM(S35:T35)","v":0},{"$f":"S35/U35","v":{"$error":"#DIV/0!"}},{"$f":"T35/U35","v":{"$error":"#DIV/0!"}},null,null,{"$f":"SUM(X35:Y35)","v":0},{"$f":"X35/Z35","v":{"$error":"#DIV/0!"}},{"$f":"Y35/Z35","v":{"$error":"#DIV/0!"}}]
[null,null,"Grade D",null,null,{"$f":"SUM(D36:E36)","v":0},{"$f":"D36/F36","v":{"$error":"#DIV/0!"}},{"$f":"E36/F36","v":{"$error":"#DIV/0!"}},null,null,{"$f":"SUM(I36:J36)","v":0},{"$f":"I36/K36","v":{"$error":"#DIV/0!"}},{"$f":"J36/K36","v":{"$error":"#DIV/0!"}},null,null,{"$f":"SUM(N36:O36)","v":0},{"$f":"N36/P36","v":{"$error":"#DIV/0!"}},{"$f":"O36/P36","v":{"$error":"#DIV/0!"}},null,null,{"$f":"SUM(S36:T36)","v":0},{"$f":"S36/U36","v":{"$error":"#DIV/0!"}},{"$f":"T36/U36","v":{"$error":"#DIV/0!"}},null,null,{"$f":"SUM(X36:Y36)","v":0},{"$f":"X36/Z36","v":{"$error":"#DIV/0!"}},{"$f":"Y36/Z36","v":{"$error":"#DIV/0!"}}]
[null,null,"TOTAL",{"$f":"SUM(D33:D36)","v":0},{"$f":"SUM(E33:E36)","v":0},{"$f":"SUM(D37:E37)","v":0},{"$f":"D37/F37","v":{"$error":"#DIV/0!"}},{"$f":"E37/F37","v":{"$error":"#DIV/0!"}},{"$f":"SUM(I33:I36)","v":0},{"$f":"SUM(J33:J36)","v":0},{"$f":"SUM(I37:J37)","v":0},{"$f":"I37/K37","v":{"$error":"#DIV/0!"}},{"$f":"J37/K37","v":{"$error":"#DIV/0!"}},{"$f":"SUM(N33:N36)","v":0},{"$f":"SUM(O33:O36)","v":0},{"$f":"SUM(N37:O37)","v":0},{"$f":"N37/P37","v":{"$error":"#DIV/0!"}},{"$f":"O37/P37","v":{"$error":"#DIV/0!"}},{"$f":"SUM(S33:S36)","v":0},{"$f":"SUM(T33:T36)","v":0},{"$f":"SUM(S37:T37)","v":0},{"$f":"S37/U37","v":{"$error":"#DIV/0!"}},{"$f":"T37/U37","v":{"$error":"#DIV/0!"}},{"$f":"SUM(X33:X36)","v":0},{"$f":"SUM(Y33:Y36)","v":0},{"$f":"SUM(X37:Y37)","v":0},{"$f":"X37/Z37","v":{"$error":"#DIV/0!"}},{"$f":"Y37/Z37","v":{"$error":"#DIV/0!"}}]
[]
[null,{"$f":"Information_RPO!A11","v":"Faculty/Department 4"}]
[null,null,"Grade A",null,null,{"$f":"SUM(D40:E40)","v":0},{"$f":"D40/F40","v":{"$error":"#DIV/0!"}},{"$f":"E40/F40","v":{"$error":"#DIV/0!"}},null,null,{"$f":"SUM(I40:J40)","v":0},{"$f":"I40/K40","v":{"$error":"#DIV/0!"}},{"$f":"J40/K40","v":{"$error":"#DIV/0!"}},null,null,{"$f":"SUM(N40:O40)","v":0},{"$f":"N40/P40","v":{"$error":"#DIV/0!"}},{"$f":"O40/P40","v":{"$error":"#DIV/0!"}},null,null,{"$f":"SUM(S40:T40)","v":0},{"$f":"S40/U40","v":{"$error":"#DIV/0!"}},{"$f":"T40/U40","v":{"$error":"#DIV/0!"}},null,null,{"$f":"SUM(X40:Y40)","v":0},{"$f":"X40/Z40","v":{"$error":"#DIV/0!"}},{"$f":"Y40/Z40","v":{"$error":"#DIV/0!"}}]
[null,null,"Grade B",null,null,{"$f":"SUM(D41:E41)","v":0},{"$f":"D41/F41","v":{"$error":"#DIV/0!"}},{"$f":"E41/F41","v":{"$error":"#DIV/0!"}},null,null,{"$f":"SUM(I41:J41)","v":0},{"$f":"I41/K41","v":{"$error":"#DIV/0!"}},{"$f":"J41/K41","v":{"$error":"#DIV/0!"}},null,null,{"$f":"SUM(N41:O41)","v":0},{"$f":"N41/P41","v":{"$error":"#DIV/0!"}},{"$f":"O41/P41","v":{"$error":"#DIV/0!"}},null,null,{"$f":"SUM(S41:T41)","v":0},{"$f":"S41/U41","v":{"$error":"#DIV/0!"}},{"$f":"T41/U41","v":{"$error":"#DIV/0!"}},null,null,{"$f":"SUM(X41:Y41)","v":0},{"$f":"X41/Z41","v":{"$error":"#DIV/0!"}},{"$f":"Y41/Z41","v":{"$error":"#DIV/0!"}}]
[null,null,"Grade C",null,null,{"$f":"SUM(D42:E42)","v":0},{"$f":"D42/F42","v":{"$error":"#DIV/0!"}},{"$f":"E42/F42","v":{"$error":"#DIV/0!"}},null,null,{"$f":"SUM(I42:J42)","v":0},{"$f":"I42/K42","v":{"$error":"#DIV/0!"}},{"$f":"J42/K42","v":{"$error":"#DIV/0!"}},null,null,{"$f":"SUM(N42:O42)","v":0},{"$f":"N42/P42","v":{"$error":"#DIV/0!"}},{"$f":"O42/P42","v":{"$error":"#DIV/0!"}},null,null,{"$f":"SUM(S42:T42)","v":0},{"$f":"S42/U42","v":{"$error":"#DIV/0!"}},{"$f":"T42/U42","v":{"$error":"#DIV/0!"}},null,null,{"$f":"SUM(X42:Y42)","v":0},{"$f":"X42/Z42","v":{"$error":"#DIV/0!"}},{"$f":"Y42/Z42","v":{"$error":"#DIV/0!"}}]
[null,null,"Grade D",null,null,{"$f":"SUM(D43:E43)","v":0},{"$f":"D43/F43","v":{"$error":"#DIV/0!"}},{"$f":"E43/F43","v":{"$error":"#DIV/0!"}},null,null,{"$f":"SUM(I43:J43)","v":0},{"$f":"I43/K43","v":{"$error":"#DIV/0!"}},{"$f":"J43/K43","v":{"$error":"#DIV/0!"}},null,null,{"$f":"SUM(N43:O43)","v":0},{"$f":"N43/P43","v":{"$error":"#DIV/0!"}},{"$f":"O43/P43","v":{"$error":"#DIV/0!"}},null,null,{"$f":"SUM(S43:T43)","v":0},{"$f":"S43/U43","v":{"$error":"#DIV/0!"}},{"$f":"T43/U43","v":{"$error":"#DIV/0!"}},null,null,{"$f":"SUM(X43:Y43)","v":0},{"$f":"X43/Z43","v":{"$error":"#DIV/0!"}},{"$f":"Y43/Z43","v":{"$error":"#DIV/0!"}}]
[null,null,"TOTAL",{"$f":"SUM(D40:D43)","v":0},{"$f":"SUM(E40:E43)","v":0},{"$f":"SUM(D44:E44)","v":0},{"$f":"D44/F44","v":{"$error":"#DIV/0!"}},{"$f":"E44/F44","v":{"$error":"#DIV/0!"}},{"$f":"SUM(I40:I43)","v":0},{"$f":"SUM(J40:J43)","v":0},{"$f":"SUM(I44:J44)","v":0},{"$f":"I44/K44","v":{"$error":"#DIV/0!"}},{"$f":"J44/K44","v":{"$error":"#DIV/0!"}},{"$f":"SUM(N40:N43)","v":0},{"$f":"SUM(O40:O43)","v":0},{"$f":"SUM(N44:O44)","v":0},{"$f":"N44/P44","v":{"$error":"#DIV/0!"}},{"$f":"O44/P44","v":{"$error":"#DIV/0!"}},{"$f":"SUM(S40:S43)","v":0},{"$f":"SUM(T40:T43)","v":0},{"$f":"SUM(S44:T44)","v":0},{"$f":"S44/U44","v":{"$error":"#DIV/0!"}},{"$f":"T44/U44","v":{"$error":"#DIV/0!"}},{"$f":"SUM(X40:X43)","v":0},{"$f":"SUM(Y40:Y43)","v":0},{"$f":"SUM(X44:Y44)","v":0},{"$f":"X44/Z44","v":{"$error":"#DIV/0!"}},{"$f":"Y44/Z44","v":{"$error":"#DIV/0!"}}]
[]
[null,{"$f":"Information_RPO!A12","v":"Faculty/Department 5"}]
[null,null,"Grade A",null,null,{"$f":"SUM(D47:E47)","v":0},{"$f":"D47/F47","v":{"$error":"#DIV/0!"}},{"$f":"E47/F47","v":{"$error":"#DIV/0!"}},null,null,{"$f":"SUM(I47:J47)","v":0},{"$f":"I47/K47","v":{"$error":"#DIV/0!"}},{"$f":"J47/K47","v":{"$error":"#DIV/0!"}},null,null,{"$f":"SUM(N47:O47)","v":0},{"$f":"N47/P47","v":{"$error":"#DIV/0!"}},{"$f":"O47/P47","v":{"$error":"#DIV/0!"}},null,null,{"$f":"SUM(S47:T47)","v":0},{"$f":"S47/U47","v":{"$error":"#DIV/0!"}},{"$f":"T47/U47","v":{"$error":"#DIV/0!"}},null,null,{"$f":"SUM(X47:Y47)","v":0},{"$f":"X47/Z47","v":{"$error":"#DIV/0!"}},{"$f":"Y47/Z47","v":{"$error":"#DIV/0!"}}]
[null,null,"Grade B",null,null,{"$f":"SUM(D48:E48)","v":0},{"$f":"D48/F48","v":{"$error":"#DIV/0!"}},{"$f":"E48/F48","v":{"$error":"#DIV/0!"}},null,null,{"$f":"SUM(I48:J48)","v":0},{"$f":"I48/K48","v":{"$error":"#DIV/0!"}},{"$f":"J48/K48","v":{"$error":"#DIV/0!"}},null,null,{"$f":"SUM(N48:O48)","v":0},{"$f":"N48/P48","v":{"$error":"#DIV/0!"}},{"$f":"O48/P48","v":{"$error":"#DIV/0!"}},null,null,{"$f":"SUM(S48:T48)","v":0},{"$f":"S48/U48","v":{"$error":"#DIV/0!"}},{"$f":"T48/U48","v":{"$error":"#DIV/0!"}},null,null,{"$f":"SUM(X48:Y48)","v":0},{"$f":"X48/Z48","v":{"$error":"#DIV/0!"}},{"$f":"Y48/Z48","v":{"$error":"#DIV/0!"}}]
[null,null,"Grade C",null,null,{"$f":"SUM(D49:E49)","v":0},{"$f":"D49/F49","v":{"$error":"#DIV/0!"}},{"$f":"E49/F49","v":{"$error":"#DIV/0!"}},null,null,{"$f":"SUM(I49:J49)","v":0},{"$f":"I49/K49","v":{"$error":"#DIV/0!"}},{"$f":"J49/K49","v":{"$error":"#DIV/0!"}},null,null,{"$f":"SUM(N49:O49)","v":0},{"$f":"N49/P49","v":{"$error":"#DIV/0!"}},{"$f":"O49/P49","v":{"$error":"#DIV/0!"}},null,null,{"$f":"SUM(S49:T49)","v":0},{"$f":"S49/U49","v":{"$error":"#DIV/0!"}},{"$f":"T49/U49","v":{"$error":"#DIV/0!"}},null,null,{"$f":"SUM(X49:Y49)","v":0},{"$f":"X49/Z49","v":{"$error":"#DIV/0!"}},{"$f":"Y49/Z49","v":{"$error":"#DIV/0!"}}]
[null,null,"Grade D",null,null,{"$f":"SUM(D50:E50)","v":0},{"$f":"D50/F50","v":{"$error":"#DIV/0!"}},{"$f":"E50/F50","v":{"$error":"#DIV/0!"}},null,null,{"$f":"SUM(I50:J50)","v":0},{"$f":"I50/K50","v":{"$error":"#DIV/0!"}},{"$f":"J50/K50","v":{"$error":"#DIV/0!"}},null,null,{"$f":"SUM(N50:O50)","v":0},{"$f":"N50/P50","v":{"$error":"#DIV/0!"}},{"$f":"O50/P50","v":{"$error":"#DIV/0!"}},null,null,{"$f":"SUM(S50:T50)","v":0},{"$f":"S50/U50","v":{"$error":"#DIV/0!"}},{"$f":"T50/U50","v":{"$error":"#DIV/0!"}},null,null,{"$f":"SUM(X50:Y50)","v":0},{"$f":"X50/Z50","v":{"$error":"#DIV/0!"}},{"$f":"Y50/Z50","v":{"$error":"#DIV/0!"}}]
[null,null,"TOTAL",{"$f":"SUM(D47:D50)","v":0},{"$f":"SUM(E47:E50)","v":0},{"$f":"SUM(D51:E51)","v":0},{"$f":"D51/F51","v":{"$error":"#DIV/0!"}},{"$f":"E51/F51","v":{"$error":"#DIV/0!"}},{"$f":"SUM(I47:I50)","v":0},{"$f":"SUM(J47:J50)","v":0},{"$f":"SUM(I51:J51)","v":0},{"$f":"I51/K51","v":{"$error":"#DIV/0!"}},{"$f":"J51/K51","v":{"$error":"#DIV/0!"}},{"$f":"SUM(N47:N50)","v":0},{"$f":"SUM(O47:O50)","v":0},{"$f":"SUM(N51:O51)","v":0},{"$f":"N51/P51","v":{"$error":"#DIV/0!"}},{"$f":"O51/P51","v":{"$error":"#DIV/0!"}},{"$f":"SUM(S47:S50)","v":0},{"$f":"SUM(T47:T50)","v":0},{"$f":"SUM(S51:T51)","v":0},{"$f":"S51/U51","v":{"$error":"#DIV/0!"}},{"$f":"T51/U51","v":{"$error":"#DIV/0!"}},{"$f":"SUM(X47:X50)","v":0},{"$f":"SUM(Y47:Y50)","v":0},{"$f":"SUM(X51:Y51)","v":0},{"$f":"X51/Z51","v":{"$error":"#DIV/0!"}},{"$f":"Y51/Z51","v":{"$error":"#DIV/0!"}}]
[]
[null,{"$f":"Information_RPO!A13","v":"Faculty/Department 6"}]
[null,null,"Grade A",null,null,{"$f":"SUM(D54:E54)","v":0},{"$f":"D54/F54","v":{"$error":"#DIV/0!"}},{"$f":"E54/F54","v":{"$error":"#DIV/0!"}},null,null,{"$f":"SUM(I54:J54)","v":0},{"$f":"I54/K54","v":{"$error":"#DIV/0!"}},{"$f":"J54/K54","v":{"$error":"#DIV/0!"}},null,null,{"$f":"SUM(N54:O54)","v":0},{"$f":"N54/P54","v":{"$error":"#DIV/0!"}},{"$f":"O54/P54","v":{"$error":"#DIV/0!"}},null,null,{"$f":"SUM(S54:T54)","v":0},{"$f":"S54/U54","v":{"$error":"#DIV/0!"}},{"$f":"T54/U54","v":{"$error":"#DIV/0!"}},null,null,{"$f":"SUM(X54:Y54)","v":0},{"$f":"X54/Z54","v":{"$error":"#DIV/0!"}},{"$f":"Y54/Z54","v":{"$error":"#DIV/0!"}}]
[null,null,"Grade B",null,null,{"$f":"SUM(D55:E55)","v":0},{"$f":"D55/F55","v":{"$error":"#DIV/0!"}},{"$f":"E55/F55","v":{"$error":"#DIV/0!"}},null,null,{"$f":"SUM(I55:J55)","v":0},{"$f":"I55/K55","v":{"$error":"#DIV/0!"}},{"$f":"J55/K55","v":{"$error":"#DIV/0!"}},null,null,{"$f":"SUM(N55:O55)","v":0},{"$f":"N55/P55","v":{"$error":"#DIV/0!"}},{"$f":"O55/P55","v":{"$error":"#DIV/0!"}},null,null,{"$f":"SUM(S55:T55)","v":0},{"$f":"S55/U55","v":{"$error":"#DIV/0!"}},{"$f":"T55/U55","v":{"$error":"#DIV/0!"}},null,null,{"$f":"SUM(X55:Y55)","v":0},{"$f":"X55/Z55","v":{"$error":"#DIV/0!"}},{"$f":"Y55/Z55","v":{"$error":"#DIV/0!"}}]
[null,null,"Grade C",null,null,{"$f":"SUM(D56:E56)","v":0},{"$f":"D56/F56","v":{"$error":"#DIV/0!"}},{"$f":"E56/F56","v":{"$error":"#DIV/0!"}},null,null,{"$f":"SUM(I56:J56)","v":0},{"$f":"I56/K56","v":{"$error":"#DIV/0!"}},{"$f":"J56/K56","v":{"$error":"#DIV/0!"}},null,null,{"$f":"SUM(N56:O56)","v":0},{"$f":"N56/P56","v":{"$error":"#DIV/0!"}},{"$f":"O56/P56","v":{"$error":"#DIV/0!"}},null,null,{"$f":"SUM(S56:T56)","v":0},{"$f":"S56/U56","v":{"$error":"#DIV/0!"}},{"$f":"T56/U56","v":{"$error":"#DIV/0!"}},null,null,{"$f":"SUM(X56:Y56)","v":0},{"$f":"X56/Z56","v":{"$error":"#DIV/0!"}},{"$f":"Y56/Z56","v":{"$error":"#DIV/0!"}}]
[null,null,"Grade D",null,null,{"$f":"SUM(D57:E57)","v":0},{"$f":"D57/F57","v":{"$error":"#DIV/0!"}},{"$f":"E57/F57","v":{"$error":"#DIV/0!"}},null,null,{"$f":"SUM(I57:J57)","v":0},{"$f":"I57/K57","v":{"$error":"#DIV/0!"}},{"$f":"J57/K57","v":{"$error":"#DIV/0!"}},null,null,{"$f":"SUM(N57:O57)","v":0},{"$f":"N57/P57","v":{"$error":"#DIV/0!"}},{"$f":"O57/P57","v":{"$error":"#DIV/0!"}},null,null,{"$f":"SUM(S57:T57)","v":0},{"$f":"S57/U57","v":{"$error":"#DIV/0!"}},{"$f":"T57/U57","v":{"$error":"#DIV/0!"}},null,null,{"$f":"SUM(X57:Y57)","v":0},{"$f":"X57/Z57","v":{"$error":"#DIV/0!"}},{"$f":"Y57/Z57","v":{"$error":"#DIV/0!"}}]
[null,null,"TOTAL",{"$f":"SUM(D54:D57)","v":0},{"$f":"SUM(E54:E57)","v":0},{"$f":"SUM(D58:E58)","v":0},{"$f":"D58/F58","v":{"$error":"#DIV/0!"}},{"$f":"E58/F58","v":{"$error":"#DIV/0!"}},{"$f":"SUM(I54:I57)","v":0},{"$f":"SUM(J54:J57)","v":0},{"$f":"SUM(I58:J58)","v":0},{"$f":"I58/K58","v":{"$error":"#DIV/0!"}},{"$f":"J58/K58","v":{"$error":"#DIV/0!"}},{"$f":"SUM(N54:N57)","v":0},{"$f":"SUM(O54:O57)","v":0},{"$f":"SUM(N58:O58)","v":0},{"$f":"N58/P58","v":{"$error":"#DIV/0!"}},{"$f":"O58/P58","v":{"$error":"#DIV/0!"}},{"$f":"SUM(S54:S57)","v":0},{"$f":"SUM(T54:T57)","v":0},{"$f":"SUM(S58:T58)","v":0},{"$f":"S58/U58","v":{"$error":"#DIV/0!"}},{"$f":"T58/U58","v":{"$error":"#DIV/0!"}},{"$f":"SUM(X54:X57)","v":0},{"$f":"SUM(Y54:Y57)","v":0},{"$f":"SUM(X58:Y58)","v":0},{"$f":"X58/Z58","v":{"$error":"#DIV/0!"}},{"$f":"Y58/Z58","v":{"$error":"#DIV/0!"}}]
[]
[null,{"$f":"Information_RPO!A14","v":"Faculty/Department 7"}]
[null,null,"Grade A",null,null,{"$f":"SUM(D61:E61)","v":0},{"$f":"D61/F61","v":{"$error":"#DIV/0!"}},{"$f":"E61/F61","v":{"$error":"#DIV/0!"}},null,null,{"$f":"SUM(I61:J61)","v":0},{"$f":"I61/K61","v":{"$error":"#DIV/0!"}},{"$f":"J61/K61","v":{"$error":"#DIV/0!"}},null,null,{"$f":"SUM(N61:O61)","v":0},{"$f":"N61/P61","v":{"$error":"#DIV/0!"}},{"$f":"O61/P61","v":{"$error":"#DIV/0!"}},null,null,{"$f":"SUM(S61:T61)","v":0},{"$f":"S61/U61","v":{"$error":"#DIV/0!"}},{"$f":"T61/U61","v":{"$error":"#DIV/0!"}},null,null,{"$f":"SUM(X61:Y61)","v":0},{"$f":"X61/Z61","v":{"$error":"#DIV/0!"}},{"$f":"Y61/Z61","v":{"$error":"#DIV/0!"}}]
[null,null,"Grade B",null,null,{"$f":"SUM(D62:E62)","v":0},{"$f":"D62/F62","v":{"$error":"#DIV/0!"}},{"$f":"E62/F62","v":{"$error":"#DIV/0!"}},null,null,{"$f":"SUM(I62:J62)","v":0},{"$f":"I62/K62","v":{"$error":"#DIV/0!"}},{"$f":"J62/K62","v":{"$error":"#DIV/0!"}},null,null,{"$f":"SUM(N62:O62)","v":0},{"$f":"N62/P62","v":{"$error":"#DIV/0!"}},{"$f":"O62/P62","v":{"$error":"#DIV/0!"}},null,null,{"$f":"SUM(S62:T62)","v":0},{"$f":"S62/U62","v":{"$error":"#DIV/0!"}},{"$f":"T62/U62","v":{"$error":"#DIV/0!"}},null,null,{"$f":"SUM(X62:Y62)","v":0},{"$f":"X62/Z62","v":{"$error":"#DIV/0!"}},{"$f":"Y62/Z62","v":{"$error":"#DIV/0!"}}]
[null,null,"Grade C",null,null,{"$f":"SUM(D63:E63)","v":0},{"$f":"D63/F63","v":{"$error":"#DIV/0!"}},{"$f":"E63/F63","v":{"$error":"#DIV/0!"}},null,null,{"$f":"SUM(I63:J63)","v":0},{"$f":"I63/K63","v":{"$error":"#DIV/0!"}},{"$f":"J63/K63","v":{"$error":"#DIV/0!"}},null,null,{"$f":"SUM(N63:O63)","v":0},{"$f":"N63/P63","v":{"$error":"#DIV/0!"}},{"$f":"O63/P63","v":{"$error":"#DIV/0!"}},null,null,{"$f":"SUM(S63:T63)","v":0},{"$f":"S63/U63","v":{"$error":"#DIV/0!"}},{"$f":"T63/U63","v":{"$error":"#DIV/0!"}},null,null,{"$f":"SUM(X63:Y63)","v":0},{"$f":"X63/Z63","v":{"$error":"#DIV/0!"}},{"$f":"Y63/Z63","v":{"$error":"#DIV/0!"}}]
[null,null,"Grade D",null,null,{"$f":"SUM(D64:E64)","v":0},{"$f":"D64/F64","v":{"$error":"#DIV/0!"}},{"$f":"E64/F64","v":{"$error":"#DIV/0!"}},null,null,{"$f":"SUM(I64:J64)","v":0},{"$f":"I64/K64","v":{"$error":"#DIV/0!"}},{"$f":"J64/K64","v":{"$error":"#DIV/0!"}},null,null,{"$f":"SUM(N64:O64)","v":0},{"$f":"N64/P64","v":{"$error":"#DIV/0!"}},{"$f":"O64/P64","v":{"$error":"#DIV/0!"}},null,null,{"$f":"SUM(S64:T64)","v":0},{"$f":"S64/U64","v":{"$error":"#DIV/0!"}},{"$f":"T64/U64","v":{"$error":"#DIV/0!"}},null,null,{"$f":"SUM(X64:Y64)","v":0},{"$f":"X64/Z64","v":{"$error":"#DIV/0!"}},{"$f":"Y64/Z64","v":{"$error":"#DIV/0!"}}]
[null,null,"TOTAL",{"$f":"SUM(D61:D64)","v":0},{"$f":"SUM(E61:E64)","v":0},{"$f":"SUM(D65:E65)","v":0},{"$f":"D65/F65","v":{"$error":"#DIV/0!"}},{"$f":"E65/F65","v":{"$error":"#DIV/0!"}},{"$f":"SUM(I61:I64)","v":0},{"$f":"SUM(J61:J64)","v":0},{"$f":"SUM(I65:J65)","v":0},{"$f":"I65/K65","v":{"$error":"#DIV/0!"}},{"$f":"J65/K65","v":{"$error":"#DIV/0!"}},{"$f":"SUM(N61:N64)","v":0},{"$f":"SUM(O61:O64)","v":0},{"$f":"SUM(N65:O65)","v":0},{"$f":"N65/P65","v":{"$error":"#DIV/0!"}},{"$f":"O65/P65","v":{"$error":"#DIV/0!"}},{"$f":"SUM(S61:S64)","v":0},{"$f":"SUM(T61:T64)","v":0},{"$f":"SUM(S65:T65)","v":0},{"$f":"S65/U65","v":{"$error":"#DIV/0!"}},{"$f":"T65/U65","v":{"$error":"#DIV/0!"}},{"$f":"SUM(X61:X64)","v":0},{"$f":"SUM(Y61:Y64)","v":0},{"$f":"SUM(X65:Y65)","v":0},{"$f":"X65/Z65","v":{"$error":"#DIV/0!"}},{"$f":"Y65/Z65","v":{"$error":"#DIV/0!"}}]
[]
[null,{"$f":"Information_RPO!A15","v":"Faculty/Department 8"}]
[null,null,"Grade A",null,null,{"$f":"SUM(D68:E68)","v":0},{"$f":"D68/F68","v":{"$error":"#DIV/0!"}},{"$f":"E68/F68","v":{"$error":"#DIV/0!"}},null,null,{"$f":"SUM(I68:J68)","v":0},{"$f":"I68/K68","v":{"$error":"#DIV/0!"}},{"$f":"J68/K68","v":{"$error":"#DIV/0!"}},null,null,{"$f":"SUM(N68:O68)","v":0},{"$f":"N68/P68","v":{"$error":"#DIV/0!"}},{"$f":"O68/P68","v":{"$error":"#DIV/0!"}},null,null,{"$f":"SUM(S68:T68)","v":0},{"$f":"S68/U68","v":{"$error":"#DIV/0!"}},{"$f":"T68/U68","v":{"$error":"#DIV/0!"}},null,null,{"$f":"SUM(X68:Y68)","v":0},{"$f":"X68/Z68","v":{"$error":"#DIV/0!"}},{"$f":"Y68/Z68","v":{"$error":"#DIV/0!"}}]
[null,null,"Grade B",null,null,{"$f":"SUM(D69:E69)","v":0},{"$f":"D69/F69","v":{"$error":"#DIV/0!"}},{"$f":"E69/F69","v":{"$error":"#DIV/0!"}},null,null,{"$f":"SUM(I69:J69)","v":0},{"$f":"I69/K69","v":{"$error":"#DIV/0!"}},{"$f":"J69/K69","v":{"$error":"#DIV/0!"}},null,null,{"$f":"SUM(N69:O69)","v":0},{"$f":"N69/P69","v":{"$error":"#DIV/0!"}},{"$f":"O69/P69","v":{"$error":"#DIV/0!"}},null,null,{"$f":"SUM(S69:T69)","v":0},{"$f":"S69/U69","v":{"$error":"#DIV/0!"}},{"$f":"T69/U69","v":{"$error":"#DIV/0!"}},null,null,{"$f":"SUM(X69:Y69)","v":0},{"$f":"X69/Z69","v":{"$error":"#DIV/0!"}},{"$f":"Y69/Z69","v":{"$error":"#DIV/0!"}}]
[null,null,"Grade C",null,null,{"$f":"SUM(D70:E70)","v":0},{"$f":"D70/F70","v":{"$error":"#DIV/0!"}},{"$f":"E70/F70","v":{"$error":"#DIV/0!"}},null,null,{"$f":"SUM(I70:J70)","v":0},{"$f":"I70/K70","v":{"$error":"#DIV/0!"}},{"$f":"J70/K70","v":{"$error":"#DIV/0!"}},null,null,{"$f":"SUM(N70:O70)","v":0},{"$f":"N70/P70","v":{"$error":"#DIV/0!"}},{"$f":"O70/P70","v":{"$error":"#DIV/0!"}},null,null,{"$f":"SUM(S70:T70)","v":0},{"$f":"S70/U70","v":{"$error":"#DIV/0!"}},{"$f":"T70/U70","v":{"$error":"#DIV/0!"}},null,null,{"$f":"SUM(X70:Y70)","v":0},{"$f":"X70/Z70","v":{"$error":"#DIV/0!"}},{"$f":"Y70/Z70","v":{"$error":"#DIV/0!"}}]
[null,null,"Grade D",null,null,{"$f":"SUM(D71:E71)","v":0},{"$f":"D71/F71","v":{"$error":"#DIV/0!"}},{"$f":"E71/F71","v":{"$error":"#DIV/0!"}},null,null,{"$f":"SUM(I71:J71)","v":0},{"$f":"I71/K71","v":{"$error":"#DIV/0!"}},{"$f":"J71/K71","v":{"$error":"#DIV/0!"}},null,null,{"$f":"SUM(N71:O71)","v":0},{"$f":"N71/P71","v":{"$error":"#DIV/0!"}},{"$f":"O71/P71","v":{"$error":"#DIV/0!"}},null,null,{"$f":"SUM(S71:T71)","v":0},{"$f":"S71/U71","v":{"$error":"#DIV/0!"}},{"$f":"T71/U71","v":{"$error":"#DIV/0!"}},null,null,{"$f":"SUM(X71:Y71)","v":0},{"$f":"X71/Z71","v":{"$error":"#DIV/0!"}},{"$f":"Y71/Z71","v":{"$error":"#DIV/0!"}}]
[null,null,"TOTAL",{"$f":"SUM(D68:D71)","v":0},{"$f":"SUM(E68:E71)","v":0},{"$f":"SUM(D72:E72)","v":0},{"$f":"D72/F72","v":{"$error":"#DIV/0!"}},{"$f":"E72/F72","v":{"$error":"#DIV/0!"}},{"$f":"SUM(I68:I71)","v":0},{"$f":"SUM(J68:J71)","v":0},{"$f":"SUM(I72:J72)","v":0},{"$f":"I72/K72","v":{"$error":"#DIV/0!"}},{"$f":"J72/K72","v":{"$error":"#DIV/0!"}},{"$f":"SUM(N68:N71)","v":0},{"$f":"SUM(O68:O71)","v":0},{"$f":"SUM(N72:O72)","v":0},{"$f":"N72/P72","v":{"$error":"#DIV/0!"}},{"$f":"O72/P72","v":{"$error":"#DIV/0!"}},{"$f":"SUM(S68:S71)","v":0},{"$f":"SUM(T68:T71)","v":0},{"$f":"SUM(S72:T72)","v":0},{"$f":"S72/U72","v":{"$error":"#DIV/0!"}},{"$f":"T72/U72","v":{"$error":"#DIV/0!"}},{"$f":"SUM(X68:X71)","v":0},{"$f":"SUM(Y68:Y71)","v":0},{"$f":"SUM(X72:Y72)","v":0},{"$f":"X72/Z72","v":{"$error":"#DIV/0!"}},{"$f":"Y72/Z72","v":{"$error":"#DIV/0!"}}]

{"sheet":"T2c_Staff_HC","index":12,"n_rows":28,"n_cols":28,"rows_kept":28,"cut":false,"hidden":false,"merged":[[2,0,4,7],[8,23,8,27],[8,3,8,7],[27,8,27,12],[27,13,27,17],[27,18,27,22],[8,18,8,22],[8,13,8,17],[8,8,8,12],[25,8,25,12],[25,13,25,17],[25,18,25,22],[26,8,26,12],[26,13,26,17],[26,18,26,22]]}
["TABLE 2C: STAFF IN HEADCOUNT BY GRADE (ORGANISATIONAL, NATIONAL), GLASS CEILING INDEX"]
[]
["To Do: Please enter the number of academic staff by sex, seniority grade and year at organisational and national level. National level refers to other research performing organizations in similar fields of science in your country. Please also add the source of data and the cut-off date in referring to the year columns."]
[]
[]
[]
["source of data: "]
["year comment: "]
[null,null,null,2014,null,null,null,null,2016,null,null,null,null,2018,null,null,null,null,2020,null,null,null,null,2022]
[null,null,null,"f","m","t","f %","m %","f","m","t","f %","m %","f","m","t","f %","m %","f","m","t","f %","m %","f","m","t","f %","m %"]
[]
[null,{"$f":"Information_RPO!A6","v":"Name of Research Performing Organization (RPO)"}]
[null,null,"Grade A",{"$f":"T2b_Staff_HC!D12","v":0},{"$f":"T2b_Staff_HC!E12","v":0},{"$f":"SUM(D13:E13)","v":0},{"$f":"D13/F13","v":{"$error":"#DIV/0!"}},{"$f":"E13/F13","v":{"$error":"#DIV/0!"}},{"$f":"T2b_Staff_HC!I12","v":0},{"$f":"T2b_Staff_HC!J12","v":0},{"$f":"SUM(I13:J13)","v":0},{"$f":"I13/K13","v":{"$error":"#DIV/0!"}},{"$f":"J13/K13","v":{"$error":"#DIV/0!"}},{"$f":"T2b_Staff_HC!N12","v":0},{"$f":"T2b_Staff_HC!O12","v":0},{"$f":"SUM(N13:O13)","v":0},{"$f":"N13/P13","v":{"$error":"#DIV/0!"}},{"$f":"O13/P13","v":{"$error":"#DIV/0!"}},{"$f":"T2b_Staff_HC!S12","v":0},{"$f":"T2b_Staff_HC!T12","v":0},{"$f":"SUM(S13:T13)","v":0},{"$f":"S13/U13","v":{"$error":"#DIV/0!"}},{"$f":"T13/U13","v":{"$error":"#DIV/0!"}},{"$f":"T2b_Staff_HC!X12","v":0},{"$f":"T2b_Staff_HC!Y12","v":0},{"$f":"SUM(X13:Y13)","v":0},{"$f":"X13/Z13","v":{"$error":"#DIV/0!"}},{"$f":"Y13/Z13","v":{"$error":"#DIV/0!"}}]
[null,null,"Grade B",{"$f":"T2b_Staff_HC!D13","v":0},{"$f":"T2b_Staff_HC!E13","v":0},{"$f":"SUM(D14:E14)","v":0},{"$f":"D14/F14","v":{"$error":"#DIV/0!"}},{"$f":"E14/F14","v":{"$error":"#DIV/0!"}},{"$f":"T2b_Staff_HC!I13","v":0},{"$f":"T2b_Staff_HC!J13","v":0},{"$f":"SUM(I14:J14)","v":0},{"$f":"I14/K14","v":{"$error":"#DIV/0!"}},{"$f":"J14/K14","v":{"$error":"#DIV/0!"}},{"$f":"T2b_Staff_HC!N13","v":0},{"$f":"T2b_Staff_HC!O13","v":0},{"$f":"SUM(N14:O14)","v":0},{"$f":"N14/P14","v":{"$error":"#DIV/0!"}},{"$f":"O14/P14","v":{"$error":"#DIV/0!"}},{"$f":"T2b_Staff_HC!S13","v":0},{"$f":"T2b_Staff_HC!T13","v":0},{"$f":"SUM(S14:T14)","v":0},{"$f":"S14/U14","v":{"$error":"#DIV/0!"}},{"$f":"T14/U14","v":{"$error":"#DIV/0!"}},{"$f":"T2b_Staff_HC!X13","v":0},{"$f":"T2b_Staff_HC!Y13","v":0},{"$f":"SUM(X14:Y14)","v":0},{"$f":"X14/Z14","v":{"$error":"#DIV/0!"}},{"$f":"Y14/Z14","v":{"$error":"#DIV/0!"}}]
[null,null,"Grade C",{"$f":"T2b_Staff_HC!D14","v":0},{"$f":"T2b_Staff_HC!E14","v":0},{"$f":"SUM(D15:E15)","v":0},{"$f":"D15/F15","v":{"$error":"#DIV/0!"}},{"$f":"E15/F15","v":{"$error":"#DIV/0!"}},{"$f":"T2b_Staff_HC!I14","v":0},{"$f":"T2b_Staff_HC!J14","v":0},{"$f":"SUM(I15:J15)","v":0},{"$f":"I15/K15","v":{"$error":"#DIV/0!"}},{"$f":"J15/K15","v":{"$error":"#DIV/0!"}},{"$f":"T2b_Staff_HC!N14","v":0},{"$f":"T2b_Staff_HC!O14","v":0},{"$f":"SUM(N15:O15)","v":0},{"$f":"N15/P15","v":{"$error":"#DIV/0!"}},{"$f":"O15/P15","v":{"$error":"#DIV/0!"}},{"$f":"T2b_Staff_HC!S14","v":0},{"$f":"T2b_Staff_HC!T14","v":0},{"$f":"SUM(S15:T15)","v":0},{"$f":"S15/U15","v":{"$error":"#DIV/0!"}},{"$f":"T15/U15","v":{"$error":"#DIV/0!"}},{"$f":"T2b_Staff_HC!X14","v":0},{"$f":"T2b_Staff_HC!Y14","v":0},{"$f":"SUM(X15:Y15)","v":0},{"$f":"X15/Z15","v":{"$error":"#DIV/0!"}},{"$f":"Y15/Z15","v":{"$error":"#DIV/0!"}}]
[null,null,"Grade D",{"$f":"T2b_Staff_HC!D15","v":0},{"$f":"T2b_Staff_HC!E15","v":0},{"$f":"SUM(D16:E16)","v":0},{"$f":"D16/F16","v":{"$error":"#DIV/0!"}},{"$f":"E16/F16","v":{"$error":"#DIV/0!"}},{"$f":"T2b_Staff_HC!I15","v":0},{"$f":"T2b_Staff_HC!J15","v":0},{"$f":"SUM(I16:J16)","v":0},{"$f":"I16/K16","v":{"$error":"#DIV/0!"}},{"$f":"J16/K16","v":{"$error":"#DIV/0!"}},{"$f":"T2b_Staff_HC!N15","v":0},{"$f":"T2b_Staff_HC!O15","v":0},{"$f":"SUM(N16:O16)","v":0},{"$f":"N16/P16","v":{"$error":"#DIV/0!"}},{"$f":"O16/P16","v":{"$error":"#DIV/0!"}},{"$f":"T2b_Staff_HC!S15","v":0},{"$f":"T2b_Staff_HC!T15","v":0},{"$f":"SUM(S16:T16)","v":0},{"$f":"S16/U16","v":{"$error":"#DIV/0!"}},{"$f":"T16/U16","v":{"$error":"#DIV/0!"}},{"$f":"T2b_Staff_HC!X15","v":0},{"$f":"T2b_Staff_HC!Y15","v":0},{"$f":"SUM(X16:Y16)","v":0},{"$f":"X16/Z16","v":{"$error":"#DIV/0!"}},{"$f":"Y16/Z16","v":{"$error":"#DIV/0!"}}]
[null,null,"TOTAL",{"$f":"SUM(D13:D16)","v":0},{"$f":"SUM(E13:E16)","v":0},{"$f":"SUM(D17:E17)","v":0},{"$f":"D17/F17","v":{"$error":"#DIV/0!"}},{"$f":"E17/F17","v":{"$error":"#DIV/0!"}},{"$f":"SUM(I13:I16)","v":0},{"$f":"SUM(J13:J16)","v":0},{"$f":"SUM(I17:J17)","v":0},{"$f":"I17/K17","v":{"$error":"#DIV/0!"}},{"$f":"J17/K17","v":{"$error":"#DIV/0!"}},{"$f":"SUM(N13:N16)","v":0},{"$f":"SUM(O13:O16)","v":0},{"$f":"SUM(N17:O17)","v":0},{"$f":"N17/P17","v":{"$error":"#DIV/0!"}},{"$f":"O17/P17","v":{"$error":"#DIV/0!"}},{"$f":"SUM(S13:S16)","v":0},{"$f":"SUM(T13:T16)","v":0},{"$f":"SUM(S17:T17)","v":0},{"$f":"S17/U17","v":{"$error":"#DIV/0!"}},{"$f":"T17/U17","v":{"$error":"#DIV/0!"}},{"$f":"SUM(X13:X16)","v":0},{"$f":"SUM(Y13:Y16)","v":0},{"$f":"SUM(X17:Y17)","v":0},{"$f":"X17/Z17","v":{"$error":"#DIV/0!"}},{"$f":"Y17/Z17","v":{"$error":"#DIV/0!"}}]
[]
[null,{"$f":"Information_RPO!A7","v":"Country of Research Performing Organization "}]
[null,null,"Grade A ",null,null,{"$f":"SUM(D20:E20)","v":0},{"$f":"D20/F20","v":{"$error":"#DIV/0!"}},{"$f":"E20/F20","v":{"$error":"#DIV/0!"}},null,null,{"$f":"SUM(I20:J20)","v":0},{"$f":"I20/K20","v":{"$error":"#DIV/0!"}},{"$f":"J20/K20","v":{"$error":"#DIV/0!"}},null,null,{"$f":"SUM(N20:O20)","v":0},{"$f":"N20/P20","v":{"$error":"#DIV/0!"}},{"$f":"O20/P20","v":{"$error":"#DIV/0!"}},null,null,{"$f":"SUM(S20:T20)","v":0},{"$f":"S20/U20","v":{"$error":"#DIV/0!"}},{"$f":"T20/U20","v":{"$error":"#DIV/0!"}},null,null,{"$f":"SUM(X20:Y20)","v":0},{"$f":"X20/Z20","v":{"$error":"#DIV/0!"}},{"$f":"Y20/Z20","v":{"$error":"#DIV/0!"}}]
[null,null,"Grade B",null,null,{"$f":"SUM(D21:E21)","v":0},{"$f":"D21/F21","v":{"$error":"#DIV/0!"}},{"$f":"E21/F21","v":{"$error":"#DIV/0!"}},null,null,{"$f":"SUM(I21:J21)","v":0},{"$f":"I21/K21","v":{"$error":"#DIV/0!"}},{"$f":"J21/K21","v":{"$error":"#DIV/0!"}},null,null,{"$f":"SUM(N21:O21)","v":0},{"$f":"N21/P21","v":{"$error":"#DIV/0!"}},{"$f":"O21/P21","v":{"$error":"#DIV/0!"}},null,null,{"$f":"SUM(S21:T21)","v":0},{"$f":"S21/U21","v":{"$error":"#DIV/0!"}},{"$f":"T21/U21","v":{"$error":"#DIV/0!"}},null,null,{"$f":"SUM(X21:Y21)","v":0},{"$f":"X21/Z21","v":{"$error":"#DIV/0!"}},{"$f":"Y21/Z21","v":{"$error":"#DIV/0!"}}]
[null,null,"Grade C",null,null,{"$f":"SUM(D22:E22)","v":0},{"$f":"D22/F22","v":{"$error":"#DIV/0!"}},{"$f":"E22/F22","v":{"$error":"#DIV/0!"}},null,null,{"$f":"SUM(I22:J22)","v":0},{"$f":"I22/K22","v":{"$error":"#DIV/0!"}},{"$f":"J22/K22","v":{"$error":"#DIV/0!"}},null,null,{"$f":"SUM(N22:O22)","v":0},{"$f":"N22/P22","v":{"$error":"#DIV/0!"}},{"$f":"O22/P22","v":{"$error":"#DIV/0!"}},null,null,{"$f":"SUM(S22:T22)","v":0},{"$f":"S22/U22","v":{"$error":"#DIV/0!"}},{"$f":"T22/U22","v":{"$error":"#DIV/0!"}},null,null,{"$f":"SUM(X22:Y22)","v":0},{"$f":"X22/Z22","v":{"$error":"#DIV/0!"}},{"$f":"Y22/Z22","v":{"$error":"#DIV/0!"}}]
[null,null,"Grade D ",null,null,{"$f":"SUM(D23:E23)","v":0},{"$f":"D23/F23","v":{"$error":"#DIV/0!"}},{"$f":"E23/F23","v":{"$error":"#DIV/0!"}},null,null,{"$f":"SUM(I23:J23)","v":0},{"$f":"I23/K23","v":{"$error":"#DIV/0!"}},{"$f":"J23/K23","v":{"$error":"#DIV/0!"}},null,null,{"$f":"SUM(N23:O23)","v":0},{"$f":"N23/P23","v":{"$error":"#DIV/0!"}},{"$f":"O23/P23","v":{"$error":"#DIV/0!"}},null,null,{"$f":"SUM(S23:T23)","v":0},{"$f":"S23/U23","v":{"$error":"#DIV/0!"}},{"$f":"T23/U23","v":{"$error":"#DIV/0!"}},null,null,{"$f":"SUM(X23:Y23)","v":0},{"$f":"X23/Z23","v":{"$error":"#DIV/0!"}},{"$f":"Y23/Z23","v":{"$error":"#DIV/0!"}}]
[null,null,"TOTAL",{"$f":"SUM(D20:D23)","v":0},{"$f":"SUM(E20:E23)","v":0},{"$f":"SUM(D24:E24)","v":0},{"$f":"D24/F24","v":{"$error":"#DIV/0!"}},{"$f":"E24/F24","v":{"$error":"#DIV/0!"}},{"$f":"SUM(I20:I23)","v":0},{"$f":"SUM(J20:J23)","v":0},{"$f":"SUM(I24:J24)","v":0},{"$f":"I24/K24","v":{"$error":"#DIV/0!"}},{"$f":"J24/K24","v":{"$error":"#DIV/0!"}},{"$f":"SUM(N20:N23)","v":0},{"$f":"SUM(O20:O23)","v":0},{"$f":"SUM(N24:O24)","v":0},{"$f":"N24/P24","v":{"$error":"#DIV/0!"}},{"$f":"O24/P24","v":{"$error":"#DIV/0!"}},{"$f":"SUM(S20:S23)","v":0},{"$f":"SUM(T20:T23)","v":0},{"$f":"SUM(S24:T24)","v":0},{"$f":"S24/U24","v":{"$error":"#DIV/0!"}},{"$f":"T24/U24","v":{"$error":"#DIV/0!"}},{"$f":"SUM(X20:X23)","v":0},{"$f":"SUM(Y20:Y23)","v":0},{"$f":"SUM(X24:Y24)","v":0},{"$f":"X24/Z24","v":{"$error":"#DIV/0!"}},{"$f":"Y24/Z24","v":{"$error":"#DIV/0!"}}]
[]
[null,"Glass Ceiling Index (GCI)",null,2014,2016,2018,2020,2022]
[null,{"$f":"Information_RPO!A6","v":"Name of Research Performing Organization (RPO)"},null,{"$f":"(SUM(D$13:D$15)/SUM(D$13:E$15))/(D$13/(SUM(D$13:E$13)))","v":{"$error":"#DIV/0!"}},{"$f":"(SUM(I$13:I$15)/SUM(I$13:J$15))/(I$13/(SUM(I$13:J$13)))","v":{"$error":"#DIV/0!"}},{"$f":"(SUM(N$13:N$15)/SUM(N$13:O$15))/(N$13/(SUM(N$13:O$13)))","v":{"$error":"#DIV/0!"}},{"$f":"(SUM(S$13:S$15)/SUM(S$13:T$15))/(S$13/(SUM(S$13:T$13)))","v":{"$error":"#DIV/0!"}},{"$f":"(SUM(X$13:X$15)/SUM(X$13:Y$15))/(X$13/(SUM(X$13:Y$13)))","v":{"$error":"#DIV/0!"}}]
[null,{"$f":"Information_RPO!A7","v":"Country of Research Performing Organization "},null,{"$f":"(SUM(D$20:D$22)/SUM(D$20:E$22))/(D$20/(SUM(D$20:E$20)))","v":{"$error":"#DIV/0!"}},{"$f":"(SUM(I$20:I$22)/SUM(I$20:J$22))/(I$20/(SUM(I$20:J$20)))","v":{"$error":"#DIV/0!"}},{"$f":"(SUM(N$20:N$22)/SUM(N$20:O$22))/(N$20/(SUM(N$20:O$20)))","v":{"$error":"#DIV/0!"}},{"$f":"(SUM(S$20:S$22)/SUM(S$20:T$22))/(S$20/(SUM(S$20:T$20)))","v":{"$error":"#DIV/0!"}},{"$f":"(SUM(X$20:X$22)/SUM(X$20:Y$22))/(X$20/(SUM(X$20:Y$20)))","v":{"$error":"#DIV/0!"}}]

{"sheet":"D_Employment","index":13,"n_rows":14,"n_cols":3,"rows_kept":14,"cut":false,"hidden":false,"merged":[[19,0,21,7],[2,0,3,1]]}
["DESCRIPTION: STAFF BY FORMS OF EMPLOYMENT/CONTRACT AND WORKING HOURS"]
[]
["To Do: Adapt the description of the forms of employment/contract and definitions of working time to the ones common in your country. "]
[]
[]
[null,null," "]
["FORMS OF EMPLOYMENT/ CONTRACT","DESCRIPTION"]
["tenured, permanent","e.g. civil servants, full and associate professors; this kind of contract regards Academic staff and data will refer only to academic staff"]
["fixed term (budget funded)","e.g. temporary researchers funded by RPO"]
["fixed term (third party funded) ","e.g. temporary researchers funded by third party"]
[]
["WORKING TIME","DEFINITION"]
["Full time","equal or more than 35 working hours per week"]
["Part time","defined as less than 35 working hours per week"]

{"sheet":"T3a_Employment","index":14,"n_rows":65,"n_cols":28,"rows_kept":65,"cut":false,"hidden":false,"merged":[[2,0,5,2],[9,23,9,27],[9,3,9,7],[9,8,9,12],[9,13,9,17],[9,18,9,22]]}
["TABLE 3A: ACADEMIC STAFF BY FORM OF EMPLOYMENT/ CONTRACT"]
[]
["To Do: Please enter the number of academic staff by sex, form of employment/contract,  faculty/department, and year. If necessary, please add further lines (faculties/departments) to the tables. Please also add the source of data and the cut-off date referring to the year columns. "]
[]
[]
[]
[]
["source of data:"]
["year comment:"]
[null,null,null,2014,null,null,null,null,2016,null,null,null,null,2018,null,null,null,null,2020,null,null,null,null,2022]
[null,null,null,"f","m","t","f %","m %","f","m","t","f %","m %","f","m","t","f %","m %","f","m","t","f %","m %","f","m","t","f %","m %"]
[]
[null,{"$f":"Information_RPO!A6","v":"Name of Research Performing Organization (RPO)"}]
[null,null,"tenured",null,null,{"$f":"SUM(D14:E14)","v":0},{"$f":"D14/F14","v":{"$error":"#DIV/0!"}},{"$f":"E14/F14","v":{"$error":"#DIV/0!"}},null,null,{"$f":"SUM(I14:J14)","v":0},{"$f":"I14/K14","v":{"$error":"#DIV/0!"}},{"$f":"J14/K14","v":{"$error":"#DIV/0!"}},null,null,{"$f":"SUM(N14:O14)","v":0},{"$f":"N14/P14","v":{"$error":"#DIV/0!"}},{"$f":"O14/P14","v":{"$error":"#DIV/0!"}},null,null,{"$f":"SUM(S14:T14)","v":0},{"$f":"S14/U14","v":{"$error":"#DIV/0!"}},{"$f":"T14/U14","v":{"$error":"#DIV/0!"}},null,null,{"$f":"SUM(X14:Y14)","v":0},{"$f":"X14/Z14","v":{"$error":"#DIV/0!"}},{"$f":"Y14/Z14","v":{"$error":"#DIV/0!"}}]
[null,null,"fixed term (budget funded)",null,null,{"$f":"SUM(D15:E15)","v":0},{"$f":"D15/F15","v":{"$error":"#DIV/0!"}},{"$f":"E15/F15","v":{"$error":"#DIV/0!"}},null,null,{"$f":"SUM(I15:J15)","v":0},{"$f":"I15/K15","v":{"$error":"#DIV/0!"}},{"$f":"J15/K15","v":{"$error":"#DIV/0!"}},null,null,{"$f":"SUM(N15:O15)","v":0},{"$f":"N15/P15","v":{"$error":"#DIV/0!"}},{"$f":"O15/P15","v":{"$error":"#DIV/0!"}},null,null,{"$f":"SUM(S15:T15)","v":0},{"$f":"S15/U15","v":{"$error":"#DIV/0!"}},{"$f":"T15/U15","v":{"$error":"#DIV/0!"}},null,null,{"$f":"SUM(X15:Y15)","v":0},{"$f":"X15/Z15","v":{"$error":"#DIV/0!"}},{"$f":"Y15/Z15","v":{"$error":"#DIV/0!"}}]
[null,null,"fixed term (third party funded)",null,null,{"$f":"SUM(D16:E16)","v":0},{"$f":"D16/F16","v":{"$error":"#DIV/0!"}},{"$f":"E16/F16","v":{"$error":"#DIV/0!"}},null,null,{"$f":"SUM(I16:J16)","v":0},{"$f":"I16/K16","v":{"$error":"#DIV/0!"}},{"$f":"J16/K16","v":{"$error":"#DIV/0!"}},null,null,{"$f":"SUM(N16:O16)","v":0},{"$f":"N16/P16","v":{"$error":"#DIV/0!"}},{"$f":"O16/P16","v":{"$error":"#DIV/0!"}},null,null,{"$f":"SUM(S16:T16)","v":0},{"$f":"S16/U16","v":{"$error":"#DIV/0!"}},{"$f":"T16/U16","v":{"$error":"#DIV/0!"}},null,null,{"$f":"SUM(X16:Y16)","v":0},{"$f":"X16/Z16","v":{"$error":"#DIV/0!"}},{"$f":"Y16/Z16","v":{"$error":"#DIV/0!"}}]
[null,null,"TOTAL",{"$f":"SUM(D14:D16)","v":0},{"$f":"SUM(E14:E16)","v":0},{"$f":"SUM(D17:E17)","v":0},{"$f":"D17/F17","v":{"$error":"#DIV/0!"}},{"$f":"E17/F17","v":{"$error":"#DIV/0!"}},{"$f":"SUM(I14:I16)","v":0},{"$f":"SUM(J14:J16)","v":0},{"$f":"SUM(I17:J17)","v":0},{"$f":"I17/K17","v":{"$error":"#DIV/0!"}},{"$f":"J17/K17","v":{"$error":"#DIV/0!"}},{"$f":"SUM(N14:N16)","v":0},{"$f":"SUM(O14:O16)","v":0},{"$f":"SUM(N17:O17)","v":0},{"$f":"N17/P17","v":{"$error":"#DIV/0!"}},{"$f":"O17/P17","v":{"$error":"#DIV/0!"}},{"$f":"SUM(S14:S16)","v":0},{"$f":"SUM(T14:T16)","v":0},{"$f":"SUM(S17:T17)","v":0},{"$f":"S17/U17","v":{"$error":"#DIV/0!"}},{"$f":"T17/U17","v":{"$error":"#DIV/0!"}},{"$f":"SUM(X14:X16)","v":0},{"$f":"SUM(Y14:Y16)","v":0},{"$f":"SUM(X17:Y17)","v":0},{"$f":"X17/Z17","v":{"$error":"#DIV/0!"}},{"$f":"Y17/Z17","v":{"$error":"#DIV/0!"}}]
[]
[null,{"$f":"Information_RPO!A8","v":"Faculty/Department 1"}]
[null,null,"tenured",null,null,{"$f":"SUM(D20:E20)","v":0},{"$f":"D20/F20","v":{"$error":"#DIV/0!"}},{"$f":"E20/F20","v":{"$error":"#DIV/0!"}},null,null,{"$f":"SUM(I20:J20)","v":0},{"$f":"I20/K20","v":{"$error":"#DIV/0!"}},{"$f":"J20/K20","v":{"$error":"#DIV/0!"}},null,null,{"$f":"SUM(N20:O20)","v":0},{"$f":"N20/P20","v":{"$error":"#DIV/0!"}},{"$f":"O20/P20","v":{"$error":"#DIV/0!"}},null,null,{"$f":"SUM(S20:T20)","v":0},{"$f":"S20/U20","v":{"$error":"#DIV/0!"}},{"$f":"T20/U20","v":{"$error":"#DIV/0!"}},null,null,{"$f":"SUM(X20:Y20)","v":0},{"$f":"X20/Z20","v":{"$error":"#DIV/0!"}},{"$f":"Y20/Z20","v":{"$error":"#DIV/0!"}}]
[null,null,"fixed term (budget funded)",null,null,{"$f":"SUM(D21:E21)","v":0},{"$f":"D21/F21","v":{"$error":"#DIV/0!"}},{"$f":"E21/F21","v":{"$error":"#DIV/0!"}},null,null,{"$f":"SUM(I21:J21)","v":0},{"$f":"I21/K21","v":{"$error":"#DIV/0!"}},{"$f":"J21/K21","v":{"$error":"#DIV/0!"}},null,null,{"$f":"SUM(N21:O21)","v":0},{"$f":"N21/P21","v":{"$error":"#DIV/0!"}},{"$f":"O21/P21","v":{"$error":"#DIV/0!"}},null,null,{"$f":"SUM(S21:T21)","v":0},{"$f":"S21/U21","v":{"$error":"#DIV/0!"}},{"$f":"T21/U21","v":{"$error":"#DIV/0!"}},null,null,{"$f":"SUM(X21:Y21)","v":0},{"$f":"X21/Z21","v":{"$error":"#DIV/0!"}},{"$f":"Y21/Z21","v":{"$error":"#DIV/0!"}}]
[null,null,"fixed term (third party funded)",null,null,{"$f":"SUM(D22:E22)","v":0},{"$f":"D22/F22","v":{"$error":"#DIV/0!"}},{"$f":"E22/F22","v":{"$error":"#DIV/0!"}},null,null,{"$f":"SUM(I22:J22)","v":0},{"$f":"I22/K22","v":{"$error":"#DIV/0!"}},{"$f":"J22/K22","v":{"$error":"#DIV/0!"}},null,null,{"$f":"SUM(N22:O22)","v":0},{"$f":"N22/P22","v":{"$error":"#DIV/0!"}},{"$f":"O22/P22","v":{"$error":"#DIV/0!"}},null,null,{"$f":"SUM(S22:T22)","v":0},{"$f":"S22/U22","v":{"$error":"#DIV/0!"}},{"$f":"T22/U22","v":{"$error":"#DIV/0!"}},null,null,{"$f":"SUM(X22:Y22)","v":0},{"$f":"X22/Z22","v":{"$error":"#DIV/0!"}},{"$f":"Y22/Z22","v":{"$error":"#DIV/0!"}}]
[null,null,"TOTAL",{"$f":"SUM(D20:D22)","v":0},{"$f":"SUM(E20:E22)","v":0},{"$f":"SUM(D23:E23)","v":0},{"$f":"D23/F23","v":{"$error":"#DIV/0!"}},{"$f":"E23/F23","v":{"$error":"#DIV/0!"}},{"$f":"SUM(I20:I22)","v":0},{"$f":"SUM(J20:J22)","v":0},{"$f":"SUM(I23:J23)","v":0},{"$f":"I23/K23","v":{"$error":"#DIV/0!"}},{"$f":"J23/K23","v":{"$error":"#DIV/0!"}},{"$f":"SUM(N20:N22)","v":0},{"$f":"SUM(O20:O22)","v":0},{"$f":"SUM(N23:O23)","v":0},{"$f":"N23/P23","v":{"$error":"#DIV/0!"}},{"$f":"O23/P23","v":{"$error":"#DIV/0!"}},{"$f":"SUM(S20:S22)","v":0},{"$f":"SUM(T20:T22)","v":0},{"$f":"SUM(S23:T23)","v":0},{"$f":"S23/U23","v":{"$error":"#DIV/0!"}},{"$f":"T23/U23","v":{"$error":"#DIV/0!"}},{"$f":"SUM(X20:X22)","v":0},{"$f":"SUM(Y20:Y22)","v":0},{"$f":"SUM(X23:Y23)","v":0},{"$f":"X23/Z23","v":{"$error":"#DIV/0!"}},{"$f":"Y23/Z23","v":{"$error":"#DIV/0!"}}]
[]
[null,{"$f":"T2a_Staff_HC!C14","v":"Faculty/Department 2"}]
[null,null,"tenured",null,null,{"$f":"SUM(D26:E26)","v":0},{"$f":"D26/F26","v":{"$error":"#DIV/0!"}},{"$f":"E26/F26","v":{"$error":"#DIV/0!"}},null,null,{"$f":"SUM(I26:J26)","v":0},{"$f":"I26/K26","v":{"$error":"#DIV/0!"}},{"$f":"J26/K26","v":{"$error":"#DIV/0!"}},null,null,{"$f":"SUM(N26:O26)","v":0},{"$f":"N26/P26","v":{"$error":"#DIV/0!"}},{"$f":"O26/P26","v":{"$error":"#DIV/0!"}},null,null,{"$f":"SUM(S26:T26)","v":0},{"$f":"S26/U26","v":{"$error":"#DIV/0!"}},{"$f":"T26/U26","v":{"$error":"#DIV/0!"}},null,null,{"$f":"SUM(X26:Y26)","v":0},{"$f":"X26/Z26","v":{"$error":"#DIV/0!"}},{"$f":"Y26/Z26","v":{"$error":"#DIV/0!"}}]
[null,null,"fixed term (budget funded)",null,null,{"$f":"SUM(D27:E27)","v":0},{"$f":"D27/F27","v":{"$error":"#DIV/0!"}},{"$f":"E27/F27","v":{"$error":"#DIV/0!"}},null,null,{"$f":"SUM(I27:J27)","v":0},{"$f":"I27/K27","v":{"$error":"#DIV/0!"}},{"$f":"J27/K27","v":{"$error":"#DIV/0!"}},null,null,{"$f":"SUM(N27:O27)","v":0},{"$f":"N27/P27","v":{"$error":"#DIV/0!"}},{"$f":"O27/P27","v":{"$error":"#DIV/0!"}},null,null,{"$f":"SUM(S27:T27)","v":0},{"$f":"S27/U27","v":{"$error":"#DIV/0!"}},{"$f":"T27/U27","v":{"$error":"#DIV/0!"}},null,null,{"$f":"SUM(X27:Y27)","v":0},{"$f":"X27/Z27","v":{"$error":"#DIV/0!"}},{"$f":"Y27/Z27","v":{"$error":"#DIV/0!"}}]
[null,null,"fixed term (third party funded)",null,null,{"$f":"SUM(D28:E28)","v":0},{"$f":"D28/F28","v":{"$error":"#DIV/0!"}},{"$f":"E28/F28","v":{"$error":"#DIV/0!"}},null,null,{"$f":"SUM(I28:J28)","v":0},{"$f":"I28/K28","v":{"$error":"#DIV/0!"}},{"$f":"J28/K28","v":{"$error":"#DIV/0!"}},null,null,{"$f":"SUM(N28:O28)","v":0},{"$f":"N28/P28","v":{"$error":"#DIV/0!"}},{"$f":"O28/P28","v":{"$error":"#DIV/0!"}},null,null,{"$f":"SUM(S28:T28)","v":0},{"$f":"S28/U28","v":{"$error":"#DIV/0!"}},{"$f":"T28/U28","v":{"$error":"#DIV/0!"}},null,null,{"$f":"SUM(X28:Y28)","v":0},{"$f":"X28/Z28","v":{"$error":"#DIV/0!"}},{"$f":"Y28/Z28","v":{"$error":"#DIV/0!"}}]
[null,null,"TOTAL",{"$f":"SUM(D26:D28)","v":0},{"$f":"SUM(E26:E28)","v":0},{"$f":"SUM(D29:E29)","v":0},{"$f":"D29/F29","v":{"$error":"#DIV/0!"}},{"$f":"E29/F29","v":{"$error":"#DIV/0!"}},{"$f":"SUM(I26:I28)","v":0},{"$f":"SUM(J26:J28)","v":0},{"$f":"SUM(I29:J29)","v":0},{"$f":"I29/K29","v":{"$error":"#DIV/0!"}},{"$f":"J29/K29","v":{"$error":"#DIV/0!"}},{"$f":"SUM(N26:N28)","v":0},{"$f":"SUM(O26:O28)","v":0},{"$f":"SUM(N29:O29)","v":0},{"$f":"N29/P29","v":{"$error":"#DIV/0!"}},{"$f":"O29/P29","v":{"$error":"#DIV/0!"}},{"$f":"SUM(S26:S28)","v":0},{"$f":"SUM(T26:T28)","v":0},{"$f":"SUM(S29:T29)","v":0},{"$f":"S29/U29","v":{"$error":"#DIV/0!"}},{"$f":"T29/U29","v":{"$error":"#DIV/0!"}},{"$f":"SUM(X26:X28)","v":0},{"$f":"SUM(Y26:Y28)","v":0},{"$f":"SUM(X29:Y29)","v":0},{"$f":"X29/Z29","v":{"$error":"#DIV/0!"}},{"$f":"Y29/Z29","v":{"$error":"#DIV/0!"}}]
[]
[null,{"$f":"T2a_Staff_HC!C15","v":"Faculty/Department 3"}]
[null,null,"tenured",null,null,{"$f":"SUM(D32:E32)","v":0},{"$f":"D32/F32","v":{"$error":"#DIV/0!"}},{"$f":"E32/F32","v":{"$error":"#DIV/0!"}},null,null,{"$f":"SUM(I32:J32)","v":0},{"$f":"I32/K32","v":{"$error":"#DIV/0!"}},{"$f":"J32/K32","v":{"$error":"#DIV/0!"}},null,null,{"$f":"SUM(N32:O32)","v":0},{"$f":"N32/P32","v":{"$error":"#DIV/0!"}},{"$f":"O32/P32","v":{"$error":"#DIV/0!"}},null,null,{"$f":"SUM(S32:T32)","v":0},{"$f":"S32/U32","v":{"$error":"#DIV/0!"}},{"$f":"T32/U32","v":{"$error":"#DIV/0!"}},null,null,{"$f":"SUM(X32:Y32)","v":0},{"$f":"X32/Z32","v":{"$error":"#DIV/0!"}},{"$f":"Y32/Z32","v":{"$error":"#DIV/0!"}}]
[null,null,"fixed term (budget funded)",null,null,{"$f":"SUM(D33:E33)","v":0},{"$f":"D33/F33","v":{"$error":"#DIV/0!"}},{"$f":"E33/F33","v":{"$error":"#DIV/0!"}},null,null,{"$f":"SUM(I33:J33)","v":0},{"$f":"I33/K33","v":{"$error":"#DIV/0!"}},{"$f":"J33/K33","v":{"$error":"#DIV/0!"}},null,null,{"$f":"SUM(N33:O33)","v":0},{"$f":"N33/P33","v":{"$error":"#DIV/0!"}},{"$f":"O33/P33","v":{"$error":"#DIV/0!"}},null,null,{"$f":"SUM(S33:T33)","v":0},{"$f":"S33/U33","v":{"$error":"#DIV/0!"}},{"$f":"T33/U33","v":{"$error":"#DIV/0!"}},null,null,{"$f":"SUM(X33:Y33)","v":0},{"$f":"X33/Z33","v":{"$error":"#DIV/0!"}},{"$f":"Y33/Z33","v":{"$error":"#DIV/0!"}}]
[null,null,"fixed term (third party funded)",null,null,{"$f":"SUM(D34:E34)","v":0},{"$f":"D34/F34","v":{"$error":"#DIV/0!"}},{"$f":"E34/F34","v":{"$error":"#DIV/0!"}},null,null,{"$f":"SUM(I34:J34)","v":0},{"$f":"I34/K34","v":{"$error":"#DIV/0!"}},{"$f":"J34/K34","v":{"$error":"#DIV/0!"}},null,null,{"$f":"SUM(N34:O34)","v":0},{"$f":"N34/P34","v":{"$error":"#DIV/0!"}},{"$f":"O34/P34","v":{"$error":"#DIV/0!"}},null,null,{"$f":"SUM(S34:T34)","v":0},{"$f":"S34/U34","v":{"$error":"#DIV/0!"}},{"$f":"T34/U34","v":{"$error":"#DIV/0!"}},null,null,{"$f":"SUM(X34:Y34)","v":0},{"$f":"X34/Z34","v":{"$error":"#DIV/0!"}},{"$f":"Y34/Z34","v":{"$error":"#DIV/0!"}}]
[null,null,"TOTAL",{"$f":"SUM(D32:D34)","v":0},{"$f":"SUM(E32:E34)","v":0},{"$f":"SUM(D35:E35)","v":0},{"$f":"D35/F35","v":{"$error":"#DIV/0!"}},{"$f":"E35/F35","v":{"$error":"#DIV/0!"}},{"$f":"SUM(I32:I34)","v":0},{"$f":"SUM(J32:J34)","v":0},{"$f":"SUM(I35:J35)","v":0},{"$f":"I35/K35","v":{"$error":"#DIV/0!"}},{"$f":"J35/K35","v":{"$error":"#DIV/0!"}},{"$f":"SUM(N32:N34)","v":0},{"$f":"SUM(O32:O34)","v":0},{"$f":"SUM(N35:O35)","v":0},{"$f":"N35/P35","v":{"$error":"#DIV/0!"}},{"$f":"O35/P35","v":{"$error":"#DIV/0!"}},{"$f":"SUM(S32:S34)","v":0},{"$f":"SUM(T32:T34)","v":0},{"$f":"SUM(S35:T35)","v":0},{"$f":"S35/U35","v":{"$error":"#DIV/0!"}},{"$f":"T35/U35","v":{"$error":"#DIV/0!"}},{"$f":"SUM(X32:X34)","v":0},{"$f":"SUM(Y32:Y34)","v":0},{"$f":"SUM(X35:Y35)","v":0},{"$f":"X35/Z35","v":{"$error":"#DIV/0!"}},{"$f":"Y35/Z35","v":{"$error":"#DIV/0!"}}]
[]
[null,{"$f":"T2a_Staff_HC!C16","v":"Faculty/Department 4"}]
[null,null,"tenured",null,null,{"$f":"SUM(D38:E38)","v":0},{"$f":"D38/F38","v":{"$error":"#DIV/0!"}},{"$f":"E38/F38","v":{"$error":"#DIV/0!"}},null,null,{"$f":"SUM(I38:J38)","v":0},{"$f":"I38/K38","v":{"$error":"#DIV/0!"}},{"$f":"J38/K38","v":{"$error":"#DIV/0!"}},null,null,{"$f":"SUM(N38:O38)","v":0},{"$f":"N38/P38","v":{"$error":"#DIV/0!"}},{"$f":"O38/P38","v":{"$error":"#DIV/0!"}},null,null,{"$f":"SUM(S38:T38)","v":0},{"$f":"S38/U38","v":{"$error":"#DIV/0!"}},{"$f":"T38/U38","v":{"$error":"#DIV/0!"}},null,null,{"$f":"SUM(X38:Y38)","v":0},{"$f":"X38/Z38","v":{"$error":"#DIV/0!"}},{"$f":"Y38/Z38","v":{"$error":"#DIV/0!"}}]
[null,null,"fixed term (budget funded)",null,null,{"$f":"SUM(D39:E39)","v":0},{"$f":"D39/F39","v":{"$error":"#DIV/0!"}},{"$f":"E39/F39","v":{"$error":"#DIV/0!"}},null,null,{"$f":"SUM(I39:J39)","v":0},{"$f":"I39/K39","v":{"$error":"#DIV/0!"}},{"$f":"J39/K39","v":{"$error":"#DIV/0!"}},null,null,{"$f":"SUM(N39:O39)","v":0},{"$f":"N39/P39","v":{"$error":"#DIV/0!"}},{"$f":"O39/P39","v":{"$error":"#DIV/0!"}},null,null,{"$f":"SUM(S39:T39)","v":0},{"$f":"S39/U39","v":{"$error":"#DIV/0!"}},{"$f":"T39/U39","v":{"$error":"#DIV/0!"}},null,null,{"$f":"SUM(X39:Y39)","v":0},{"$f":"X39/Z39","v":{"$error":"#DIV/0!"}},{"$f":"Y39/Z39","v":{"$error":"#DIV/0!"}}]
[null,null,"fixed term (third party funded)",null,null,{"$f":"SUM(D40:E40)","v":0},{"$f":"D40/F40","v":{"$error":"#DIV/0!"}},{"$f":"E40/F40","v":{"$error":"#DIV/0!"}},null,null,{"$f":"SUM(I40:J40)","v":0},{"$f":"I40/K40","v":{"$error":"#DIV/0!"}},{"$f":"J40/K40","v":{"$error":"#DIV/0!"}},null,null,{"$f":"SUM(N40:O40)","v":0},{"$f":"N40/P40","v":{"$error":"#DIV/0!"}},{"$f":"O40/P40","v":{"$error":"#DIV/0!"}},null,null,{"$f":"SUM(S40:T40)","v":0},{"$f":"S40/U40","v":{"$error":"#DIV/0!"}},{"$f":"T40/U40","v":{"$error":"#DIV/0!"}},null,null,{"$f":"SUM(X40:Y40)","v":0},{"$f":"X40/Z40","v":{"$error":"#DIV/0!"}},{"$f":"Y40/Z40","v":{"$error":"#DIV/0!"}}]
[null,null,"TOTAL",{"$f":"SUM(D38:D40)","v":0},{"$f":"SUM(E38:E40)","v":0},{"$f":"SUM(D41:E41)","v":0},{"$f":"D41/F41","v":{"$error":"#DIV/0!"}},{"$f":"E41/F41","v":{"$error":"#DIV/0!"}},{"$f":"SUM(I38:I40)","v":0},{"$f":"SUM(J38:J40)","v":0},{"$f":"SUM(I41:J41)","v":0},{"$f":"I41/K41","v":{"$error":"#DIV/0!"}},{"$f":"J41/K41","v":{"$error":"#DIV/0!"}},{"$f":"SUM(N38:N40)","v":0},{"$f":"SUM(O38:O40)","v":0},{"$f":"SUM(N41:O41)","v":0},{"$f":"N41/P41","v":{"$error":"#DIV/0!"}},{"$f":"O41/P41","v":{"$error":"#DIV/0!"}},{"$f":"SUM(S38:S40)","v":0},{"$f":"SUM(T38:T40)","v":0},{"$f":"SUM(S41:T41)","v":0},{"$f":"S41/U41","v":{"$error":"#DIV/0!"}},{"$f":"T41/U41","v":{"$error":"#DIV/0!"}},{"$f":"SUM(X38:X40)","v":0},{"$f":"SUM(Y38:Y40)","v":0},{"$f":"SUM(X41:Y41)","v":0},{"$f":"X41/Z41","v":{"$error":"#DIV/0!"}},{"$f":"Y41/Z41","v":{"$error":"#DIV/0!"}}]
[]
[null,{"$f":"T2a_Staff_HC!C17","v":"Faculty/Department 5"}]
[null,null,"tenured",null,null,{"$f":"SUM(D44:E44)","v":0},{"$f":"D44/F44","v":{"$error":"#DIV/0!"}},{"$f":"E44/F44","v":{"$error":"#DIV/0!"}},null,null,{"$f":"SUM(I44:J44)","v":0},{"$f":"I44/K44","v":{"$error":"#DIV/0!"}},{"$f":"J44/K44","v":{"$error":"#DIV/0!"}},null,null,{"$f":"SUM(N44:O44)","v":0},{"$f":"N44/P44","v":{"$error":"#DIV/0!"}},{"$f":"O44/P44","v":{"$error":"#DIV/0!"}},null,null,{"$f":"SUM(S44:T44)","v":0},{"$f":"S44/U44","v":{"$error":"#DIV/0!"}},{"$f":"T44/U44","v":{"$error":"#DIV/0!"}},null,null,{"$f":"SUM(X44:Y44)","v":0},{"$f":"X44/Z44","v":{"$error":"#DIV/0!"}},{"$f":"Y44/Z44","v":{"$error":"#DIV/0!"}}]
[null,null,"fixed term (budget funded)",null,null,{"$f":"SUM(D45:E45)","v":0},{"$f":"D45/F45","v":{"$error":"#DIV/0!"}},{"$f":"E45/F45","v":{"$error":"#DIV/0!"}},null,null,{"$f":"SUM(I45:J45)","v":0},{"$f":"I45/K45","v":{"$error":"#DIV/0!"}},{"$f":"J45/K45","v":{"$error":"#DIV/0!"}},null,null,{"$f":"SUM(N45:O45)","v":0},{"$f":"N45/P45","v":{"$error":"#DIV/0!"}},{"$f":"O45/P45","v":{"$error":"#DIV/0!"}},null,null,{"$f":"SUM(S45:T45)","v":0},{"$f":"S45/U45","v":{"$error":"#DIV/0!"}},{"$f":"T45/U45","v":{"$error":"#DIV/0!"}},null,null,{"$f":"SUM(X45:Y45)","v":0},{"$f":"X45/Z45","v":{"$error":"#DIV/0!"}},{"$f":"Y45/Z45","v":{"$error":"#DIV/0!"}}]
[null,null,"fixed term (third party funded)",null,null,{"$f":"SUM(D46:E46)","v":0},{"$f":"D46/F46","v":{"$error":"#DIV/0!"}},{"$f":"E46/F46","v":{"$error":"#DIV/0!"}},null,null,{"$f":"SUM(I46:J46)","v":0},{"$f":"I46/K46","v":{"$error":"#DIV/0!"}},{"$f":"J46/K46","v":{"$error":"#DIV/0!"}},null,null,{"$f":"SUM(N46:O46)","v":0},{"$f":"N46/P46","v":{"$error":"#DIV/0!"}},{"$f":"O46/P46","v":{"$error":"#DIV/0!"}},null,null,{"$f":"SUM(S46:T46)","v":0},{"$f":"S46/U46","v":{"$error":"#DIV/0!"}},{"$f":"T46/U46","v":{"$error":"#DIV/0!"}},null,null,{"$f":"SUM(X46:Y46)","v":0},{"$f":"X46/Z46","v":{"$error":"#DIV/0!"}},{"$f":"Y46/Z46","v":{"$error":"#DIV/0!"}}]
[null,null,"TOTAL",{"$f":"SUM(D44:D46)","v":0},{"$f":"SUM(E44:E46)","v":0},{"$f":"SUM(D47:E47)","v":0},{"$f":"D47/F47","v":{"$error":"#DIV/0!"}},{"$f":"E47/F47","v":{"$error":"#DIV/0!"}},{"$f":"SUM(I44:I46)","v":0},{"$f":"SUM(J44:J46)","v":0},{"$f":"SUM(I47:J47)","v":0},{"$f":"I47/K47","v":{"$error":"#DIV/0!"}},{"$f":"J47/K47","v":{"$error":"#DIV/0!"}},{"$f":"SUM(N44:N46)","v":0},{"$f":"SUM(O44:O46)","v":0},{"$f":"SUM(N47:O47)","v":0},{"$f":"N47/P47","v":{"$error":"#DIV/0!"}},{"$f":"O47/P47","v":{"$error":"#DIV/0!"}},{"$f":"SUM(S44:S46)","v":0},{"$f":"SUM(T44:T46)","v":0},{"$f":"SUM(S47:T47)","v":0},{"$f":"S47/U47","v":{"$error":"#DIV/0!"}},{"$f":"T47/U47","v":{"$error":"#DIV/0!"}},{"$f":"SUM(X44:X46)","v":0},{"$f":"SUM(Y44:Y46)","v":0},{"$f":"SUM(X47:Y47)","v":0},{"$f":"X47/Z47","v":{"$error":"#DIV/0!"}},{"$f":"Y47/Z47","v":{"$error":"#DIV/0!"}}]
[]
[null,{"$f":"T2a_Staff_HC!C18","v":"Faculty/Department 6"}]
[null,null,"tenured",null,null,{"$f":"SUM(D50:E50)","v":0},{"$f":"D50/F50","v":{"$error":"#DIV/0!"}},{"$f":"E50/F50","v":{"$error":"#DIV/0!"}},null,null,{"$f":"SUM(I50:J50)","v":0},{"$f":"I50/K50","v":{"$error":"#DIV/0!"}},{"$f":"J50/K50","v":{"$error":"#DIV/0!"}},null,null,{"$f":"SUM(N50:O50)","v":0},{"$f":"N50/P50","v":{"$error":"#DIV/0!"}},{"$f":"O50/P50","v":{"$error":"#DIV/0!"}},null,null,{"$f":"SUM(S50:T50)","v":0},{"$f":"S50/U50","v":{"$error":"#DIV/0!"}},{"$f":"T50/U50","v":{"$error":"#DIV/0!"}},null,null,{"$f":"SUM(X50:Y50)","v":0},{"$f":"X50/Z50","v":{"$error":"#DIV/0!"}},{"$f":"Y50/Z50","v":{"$error":"#DIV/0!"}}]
[null,null,"fixed term (budget funded)",null,null,{"$f":"SUM(D51:E51)","v":0},{"$f":"D51/F51","v":{"$error":"#DIV/0!"}},{"$f":"E51/F51","v":{"$error":"#DIV/0!"}},null,null,{"$f":"SUM(I51:J51)","v":0},{"$f":"I51/K51","v":{"$error":"#DIV/0!"}},{"$f":"J51/K51","v":{"$error":"#DIV/0!"}},null,null,{"$f":"SUM(N51:O51)","v":0},{"$f":"N51/P51","v":{"$error":"#DIV/0!"}},{"$f":"O51/P51","v":{"$error":"#DIV/0!"}},null,null,{"$f":"SUM(S51:T51)","v":0},{"$f":"S51/U51","v":{"$error":"#DIV/0!"}},{"$f":"T51/U51","v":{"$error":"#DIV/0!"}},null,null,{"$f":"SUM(X51:Y51)","v":0},{"$f":"X51/Z51","v":{"$error":"#DIV/0!"}},{"$f":"Y51/Z51","v":{"$error":"#DIV/0!"}}]
[null,null,"fixed term (third party funded)",null,null,{"$f":"SUM(D52:E52)","v":0},{"$f":"D52/F52","v":{"$error":"#DIV/0!"}},{"$f":"E52/F52","v":{"$error":"#DIV/0!"}},null,null,{"$f":"SUM(I52:J52)","v":0},{"$f":"I52/K52","v":{"$error":"#DIV/0!"}},{"$f":"J52/K52","v":{"$error":"#DIV/0!"}},null,null,{"$f":"SUM(N52:O52)","v":0},{"$f":"N52/P52","v":{"$error":"#DIV/0!"}},{"$f":"O52/P52","v":{"$error":"#DIV/0!"}},null,null,{"$f":"SUM(S52:T52)","v":0},{"$f":"S52/U52","v":{"$error":"#DIV/0!"}},{"$f":"T52/U52","v":{"$error":"#DIV/0!"}},null,null,{"$f":"SUM(X52:Y52)","v":0},{"$f":"X52/Z52","v":{"$error":"#DIV/0!"}},{"$f":"Y52/Z52","v":{"$error":"#DIV/0!"}}]
[null,null,"TOTAL",{"$f":"SUM(D50:D52)","v":0},{"$f":"SUM(E50:E52)","v":0},{"$f":"SUM(D53:E53)","v":0},{"$f":"D53/F53","v":{"$error":"#DIV/0!"}},{"$f":"E53/F53","v":{"$error":"#DIV/0!"}},{"$f":"SUM(I50:I52)","v":0},{"$f":"SUM(J50:J52)","v":0},{"$f":"SUM(I53:J53)","v":0},{"$f":"I53/K53","v":{"$error":"#DIV/0!"}},{"$f":"J53/K53","v":{"$error":"#DIV/0!"}},{"$f":"SUM(N50:N52)","v":0},{"$f":"SUM(O50:O52)","v":0},{"$f":"SUM(N53:O53)","v":0},{"$f":"N53/P53","v":{"$error":"#DIV/0!"}},{"$f":"O53/P53","v":{"$error":"#DIV/0!"}},{"$f":"SUM(S50:S52)","v":0},{"$f":"SUM(T50:T52)","v":0},{"$f":"SUM(S53:T53)","v":0},{"$f":"S53/U53","v":{"$error":"#DIV/0!"}},{"$f":"T53/U53","v":{"$error":"#DIV/0!"}},{"$f":"SUM(X50:X52)","v":0},{"$f":"SUM(Y50:Y52)","v":0},{"$f":"SUM(X53:Y53)","v":0},{"$f":"X53/Z53","v":{"$error":"#DIV/0!"}},{"$f":"Y53/Z53","v":{"$error":"#DIV/0!"}}]
[]
[null,{"$f":"T2a_Staff_HC!C19","v":"Faculty/Department 7"}]
[null,null,"tenured",null,null,{"$f":"SUM(D56:E56)","v":0},{"$f":"D56/F56","v":{"$error":"#DIV/0!"}},{"$f":"E56/F56","v":{"$error":"#DIV/0!"}},null,null,{"$f":"SUM(I56:J56)","v":0},{"$f":"I56/K56","v":{"$error":"#DIV/0!"}},{"$f":"J56/K56","v":{"$error":"#DIV/0!"}},null,null,{"$f":"SUM(N56:O56)","v":0},{"$f":"N56/P56","v":{"$error":"#DIV/0!"}},{"$f":"O56/P56","v":{"$error":"#DIV/0!"}},null,null,{"$f":"SUM(S56:T56)","v":0},{"$f":"S56/U56","v":{"$error":"#DIV/0!"}},{"$f":"T56/U56","v":{"$error":"#DIV/0!"}},null,null,{"$f":"SUM(X56:Y56)","v":0},{"$f":"X56/Z56","v":{"$error":"#DIV/0!"}},{"$f":"Y56/Z56","v":{"$error":"#DIV/0!"}}]
[null,null,"fixed term (budget funded)",null,null,{"$f":"SUM(D57:E57)","v":0},{"$f":"D57/F57","v":{"$error":"#DIV/0!"}},{"$f":"E57/F57","v":{"$error":"#DIV/0!"}},null,null,{"$f":"SUM(I57:J57)","v":0},{"$f":"I57/K57","v":{"$error":"#DIV/0!"}},{"$f":"J57/K57","v":{"$error":"#DIV/0!"}},null,null,{"$f":"SUM(N57:O57)","v":0},{"$f":"N57/P57","v":{"$error":"#DIV/0!"}},{"$f":"O57/P57","v":{"$error":"#DIV/0!"}},null,null,{"$f":"SUM(S57:T57)","v":0},{"$f":"S57/U57","v":{"$error":"#DIV/0!"}},{"$f":"T57/U57","v":{"$error":"#DIV/0!"}},null,null,{"$f":"SUM(X57:Y57)","v":0},{"$f":"X57/Z57","v":{"$error":"#DIV/0!"}},{"$f":"Y57/Z57","v":{"$error":"#DIV/0!"}}]
[null,null,"fixed term (third party funded)",null,null,{"$f":"SUM(D58:E58)","v":0},{"$f":"D58/F58","v":{"$error":"#DIV/0!"}},{"$f":"E58/F58","v":{"$error":"#DIV/0!"}},null,null,{"$f":"SUM(I58:J58)","v":0},{"$f":"I58/K58","v":{"$error":"#DIV/0!"}},{"$f":"J58/K58","v":{"$error":"#DIV/0!"}},null,null,{"$f":"SUM(N58:O58)","v":0},{"$f":"N58/P58","v":{"$error":"#DIV/0!"}},{"$f":"O58/P58","v":{"$error":"#DIV/0!"}},null,null,{"$f":"SUM(S58:T58)","v":0},{"$f":"S58/U58","v":{"$error":"#DIV/0!"}},{"$f":"T58/U58","v":{"$error":"#DIV/0!"}},null,null,{"$f":"SUM(X58:Y58)","v":0},{"$f":"X58/Z58","v":{"$error":"#DIV/0!"}},{"$f":"Y58/Z58","v":{"$error":"#DIV/0!"}}]
[null,null,"TOTAL",{"$f":"SUM(D56:D58)","v":0},{"$f":"SUM(E56:E58)","v":0},{"$f":"SUM(D59:E59)","v":0},{"$f":"D59/F59","v":{"$error":"#DIV/0!"}},{"$f":"E59/F59","v":{"$error":"#DIV/0!"}},{"$f":"SUM(I56:I58)","v":0},{"$f":"SUM(J56:J58)","v":0},{"$f":"SUM(I59:J59)","v":0},{"$f":"I59/K59","v":{"$error":"#DIV/0!"}},{"$f":"J59/K59","v":{"$error":"#DIV/0!"}},{"$f":"SUM(N56:N58)","v":0},{"$f":"SUM(O56:O58)","v":0},{"$f":"SUM(N59:O59)","v":0},{"$f":"N59/P59","v":{"$error":"#DIV/0!"}},{"$f":"O59/P59","v":{"$error":"#DIV/0!"}},{"$f":"SUM(S56:S58)","v":0},{"$f":"SUM(T56:T58)","v":0},{"$f":"SUM(S59:T59)","v":0},{"$f":"S59/U59","v":{"$error":"#DIV/0!"}},{"$f":"T59/U59","v":{"$error":"#DIV/0!"}},{"$f":"SUM(X56:X58)","v":0},{"$f":"SUM(Y56:Y58)","v":0},{"$f":"SUM(X59:Y59)","v":0},{"$f":"X59/Z59","v":{"$error":"#DIV/0!"}},{"$f":"Y59/Z59","v":{"$error":"#DIV/0!"}}]
[]
[null,{"$f":"Information_RPO!A15","v":"Faculty/Department 8"}]
[null,null,"tenured",null,null,{"$f":"SUM(D62:E62)","v":0},{"$f":"D62/F62","v":{"$error":"#DIV/0!"}},{"$f":"E62/F62","v":{"$error":"#DIV/0!"}},null,null,{"$f":"SUM(I62:J62)","v":0},{"$f":"I62/K62","v":{"$error":"#DIV/0!"}},{"$f":"J62/K62","v":{"$error":"#DIV/0!"}},null,null,{"$f":"SUM(N62:O62)","v":0},{"$f":"N62/P62","v":{"$error":"#DIV/0!"}},{"$f":"O62/P62","v":{"$error":"#DIV/0!"}},null,null,{"$f":"SUM(S62:T62)","v":0},{"$f":"S62/U62","v":{"$error":"#DIV/0!"}},{"$f":"T62/U62","v":{"$error":"#DIV/0!"}},null,null,{"$f":"SUM(X62:Y62)","v":0},{"$f":"X62/Z62","v":{"$error":"#DIV/0!"}},{"$f":"Y62/Z62","v":{"$error":"#DIV/0!"}}]
[null,null,"fixed term (budget funded)",null,null,{"$f":"SUM(D63:E63)","v":0},{"$f":"D63/F63","v":{"$error":"#DIV/0!"}},{"$f":"E63/F63","v":{"$error":"#DIV/0!"}},null,null,{"$f":"SUM(I63:J63)","v":0},{"$f":"I63/K63","v":{"$error":"#DIV/0!"}},{"$f":"J63/K63","v":{"$error":"#DIV/0!"}},null,null,{"$f":"SUM(N63:O63)","v":0},{"$f":"N63/P63","v":{"$error":"#DIV/0!"}},{"$f":"O63/P63","v":{"$error":"#DIV/0!"}},null,null,{"$f":"SUM(S63:T63)","v":0},{"$f":"S63/U63","v":{"$error":"#DIV/0!"}},{"$f":"T63/U63","v":{"$error":"#DIV/0!"}},null,null,{"$f":"SUM(X63:Y63)","v":0},{"$f":"X63/Z63","v":{"$error":"#DIV/0!"}},{"$f":"Y63/Z63","v":{"$error":"#DIV/0!"}}]
[null,null,"fixed term (third party funded)",null,null,{"$f":"SUM(D64:E64)","v":0},{"$f":"D64/F64","v":{"$error":"#DIV/0!"}},{"$f":"E64/F64","v":{"$error":"#DIV/0!"}},null,null,{"$f":"SUM(I64:J64)","v":0},{"$f":"I64/K64","v":{"$error":"#DIV/0!"}},{"$f":"J64/K64","v":{"$error":"#DIV/0!"}},null,null,{"$f":"SUM(N64:O64)","v":0},{"$f":"N64/P64","v":{"$error":"#DIV/0!"}},{"$f":"O64/P64","v":{"$error":"#DIV/0!"}},null,null,{"$f":"SUM(S64:T64)","v":0},{"$f":"S64/U64","v":{"$error":"#DIV/0!"}},{"$f":"T64/U64","v":{"$error":"#DIV/0!"}},null,null,{"$f":"SUM(X64:Y64)","v":0},{"$f":"X64/Z64","v":{"$error":"#DIV/0!"}},{"$f":"Y64/Z64","v":{"$error":"#DIV/0!"}}]
[null,null,"TOTAL",{"$f":"SUM(D62:D64)","v":0},{"$f":"SUM(E62:E64)","v":0},{"$f":"SUM(D65:E65)","v":0},{"$f":"D65/F65","v":{"$error":"#DIV/0!"}},{"$f":"E65/F65","v":{"$error":"#DIV/0!"}},{"$f":"SUM(I62:I64)","v":0},{"$f":"SUM(J62:J64)","v":0},{"$f":"SUM(I65:J65)","v":0},{"$f":"I65/K65","v":{"$error":"#DIV/0!"}},{"$f":"J65/K65","v":{"$error":"#DIV/0!"}},{"$f":"SUM(N62:N64)","v":0},{"$f":"SUM(O62:O64)","v":0},{"$f":"SUM(N65:O65)","v":0},{"$f":"N65/P65","v":{"$error":"#DIV/0!"}},{"$f":"O65/P65","v":{"$error":"#DIV/0!"}},{"$f":"SUM(S62:S64)","v":0},{"$f":"SUM(T62:T64)","v":0},{"$f":"SUM(S65:T65)","v":0},{"$f":"S65/U65","v":{"$error":"#DIV/0!"}},{"$f":"T65/U65","v":{"$error":"#DIV/0!"}},{"$f":"SUM(X62:X64)","v":0},{"$f":"SUM(Y62:Y64)","v":0},{"$f":"SUM(X65:Y65)","v":0},{"$f":"X65/Z65","v":{"$error":"#DIV/0!"}},{"$f":"Y65/Z65","v":{"$error":"#DIV/0!"}}]

{"sheet":"T3b_Employment","index":15,"n_rows":57,"n_cols":28,"rows_kept":57,"cut":false,"hidden":false,"merged":[[9,23,9,27],[2,0,5,2],[9,18,9,22],[8,3,8,7],[9,3,9,7],[9,8,9,12],[9,13,9,17]]}
["TABLE 3B: ACADEMIC STAFF BY WORKING TIME"]
[]
["To Do:  Please enter the number of academic staff by sex, working time, faculty/department, and year. If necessary, please add further lines (faculties/departments) to the tables. Please also add the source of data and the cut-off date referring to the year columns. "]
[]
[]
[]
[]
["source of data: "]
["year comment:"]
[null,null,null,2014,null,null,null,null,2016,null,null,null,null,2018,null,null,null,null,2020,null,null,null,null,2022]
[null,null,null,"f","m","t","f %","m %","f","m","t","f %","m %","f","m","t","f %","m %","f","m","t","f %","m %","f","m","t","f %","m %"]
[]
[null,{"$f":"Information_RPO!A6","v":"Name of Research Performing Organization (RPO)"}]
[null,null,"Full Time employment",null,null,{"$f":"SUM(D14:E14)","v":0},{"$f":"D14/F14","v":{"$error":"#DIV/0!"}},{"$f":"E14/F14","v":{"$error":"#DIV/0!"}},null,null,{"$f":"SUM(I14:J14)","v":0},{"$f":"I14/K14","v":{"$error":"#DIV/0!"}},{"$f":"J14/K14","v":{"$error":"#DIV/0!"}},null,null,{"$f":"SUM(N14:O14)","v":0},{"$f":"N14/P14","v":{"$error":"#DIV/0!"}},{"$f":"O14/P14","v":{"$error":"#DIV/0!"}},null,null,{"$f":"SUM(S14:T14)","v":0},{"$f":"S14/U14","v":{"$error":"#DIV/0!"}},{"$f":"T14/U14","v":{"$error":"#DIV/0!"}},null,null,{"$f":"SUM(X14:Y14)","v":0},{"$f":"X14/Z14","v":{"$error":"#DIV/0!"}},{"$f":"Y14/Z14","v":{"$error":"#DIV/0!"}}]
[null,null,"Part Time employment",null,null,{"$f":"SUM(D15:E15)","v":0},{"$f":"D15/F15","v":{"$error":"#DIV/0!"}},{"$f":"E15/F15","v":{"$error":"#DIV/0!"}},null,null,{"$f":"SUM(I15:J15)","v":0},{"$f":"I15/K15","v":{"$error":"#DIV/0!"}},{"$f":"J15/K15","v":{"$error":"#DIV/0!"}},null,null,{"$f":"SUM(N15:O15)","v":0},{"$f":"N15/P15","v":{"$error":"#DIV/0!"}},{"$f":"O15/P15","v":{"$error":"#DIV/0!"}},null,null,{"$f":"SUM(S15:T15)","v":0},{"$f":"S15/U15","v":{"$error":"#DIV/0!"}},{"$f":"T15/U15","v":{"$error":"#DIV/0!"}},null,null,{"$f":"SUM(X15:Y15)","v":0},{"$f":"X15/Z15","v":{"$error":"#DIV/0!"}},{"$f":"Y15/Z15","v":{"$error":"#DIV/0!"}}]
[null,null,"TOTAL",{"$f":"SUM(D14:D15)","v":0},{"$f":"SUM(E14:E15)","v":0},{"$f":"SUM(D16:E16)","v":0},{"$f":"D16/F16","v":{"$error":"#DIV/0!"}},{"$f":"E16/F16","v":{"$error":"#DIV/0!"}},{"$f":"SUM(I14:I15)","v":0},{"$f":"SUM(J14:J15)","v":0},{"$f":"SUM(I16:J16)","v":0},{"$f":"I16/K16","v":{"$error":"#DIV/0!"}},{"$f":"J16/K16","v":{"$error":"#DIV/0!"}},{"$f":"SUM(N14:N15)","v":0},{"$f":"SUM(O14:O15)","v":0},{"$f":"SUM(N16:O16)","v":0},{"$f":"N16/P16","v":{"$error":"#DIV/0!"}},{"$f":"O16/P16","v":{"$error":"#DIV/0!"}},{"$f":"SUM(S14:S15)","v":0},{"$f":"SUM(T14:T15)","v":0},{"$f":"SUM(S16:T16)","v":0},{"$f":"S16/U16","v":{"$error":"#DIV/0!"}},{"$f":"T16/U16","v":{"$error":"#DIV/0!"}},{"$f":"SUM(X14:X15)","v":0},{"$f":"SUM(Y14:Y15)","v":0},{"$f":"SUM(X16:Y16)","v":0},{"$f":"X16/Z16","v":{"$error":"#DIV/0!"}},{"$f":"Y16/Z16","v":{"$error":"#DIV/0!"}}]
[]
[null,{"$f":"Information_RPO!A8","v":"Faculty/Department 1"}]
[null,null,"Full Time employment",null,null,{"$f":"SUM(D19:E19)","v":0},{"$f":"D19/F19","v":{"$error":"#DIV/0!"}},{"$f":"E19/F19","v":{"$error":"#DIV/0!"}},null,null,{"$f":"SUM(I19:J19)","v":0},{"$f":"I19/K19","v":{"$error":"#DIV/0!"}},{"$f":"J19/K19","v":{"$error":"#DIV/0!"}},null,null,{"$f":"SUM(N19:O19)","v":0},{"$f":"N19/P19","v":{"$error":"#DIV/0!"}},{"$f":"O19/P19","v":{"$error":"#DIV/0!"}},null,null,{"$f":"SUM(S19:T19)","v":0},{"$f":"S19/U19","v":{"$error":"#DIV/0!"}},{"$f":"T19/U19","v":{"$error":"#DIV/0!"}},null,null,{"$f":"SUM(X19:Y19)","v":0},{"$f":"X19/Z19","v":{"$error":"#DIV/0!"}},{"$f":"Y19/Z19","v":{"$error":"#DIV/0!"}}]
[null,null,"Part Time employment",null,null,{"$f":"SUM(D20:E20)","v":0},{"$f":"D20/F20","v":{"$error":"#DIV/0!"}},{"$f":"E20/F20","v":{"$error":"#DIV/0!"}},null,null,{"$f":"SUM(I20:J20)","v":0},{"$f":"I20/K20","v":{"$error":"#DIV/0!"}},{"$f":"J20/K20","v":{"$error":"#DIV/0!"}},null,null,{"$f":"SUM(N20:O20)","v":0},{"$f":"N20/P20","v":{"$error":"#DIV/0!"}},{"$f":"O20/P20","v":{"$error":"#DIV/0!"}},null,null,{"$f":"SUM(S20:T20)","v":0},{"$f":"S20/U20","v":{"$error":"#DIV/0!"}},{"$f":"T20/U20","v":{"$error":"#DIV/0!"}},null,null,{"$f":"SUM(X20:Y20)","v":0},{"$f":"X20/Z20","v":{"$error":"#DIV/0!"}},{"$f":"Y20/Z20","v":{"$error":"#DIV/0!"}}]
[null,null,"TOTAL",{"$f":"SUM(D19:D20)","v":0},{"$f":"SUM(E19:E20)","v":0},{"$f":"SUM(D21:E21)","v":0},{"$f":"D21/F21","v":{"$error":"#DIV/0!"}},{"$f":"E21/F21","v":{"$error":"#DIV/0!"}},{"$f":"SUM(I19:I20)","v":0},{"$f":"SUM(J19:J20)","v":0},{"$f":"SUM(I21:J21)","v":0},{"$f":"I21/K21","v":{"$error":"#DIV/0!"}},{"$f":"J21/K21","v":{"$error":"#DIV/0!"}},{"$f":"SUM(N19:N20)","v":0},{"$f":"SUM(O19:O20)","v":0},{"$f":"SUM(N21:O21)","v":0},{"$f":"N21/P21","v":{"$error":"#DIV/0!"}},{"$f":"O21/P21","v":{"$error":"#DIV/0!"}},{"$f":"SUM(S19:S20)","v":0},{"$f":"SUM(T19:T20)","v":0},{"$f":"SUM(S21:T21)","v":0},{"$f":"S21/U21","v":{"$error":"#DIV/0!"}},{"$f":"T21/U21","v":{"$error":"#DIV/0!"}},{"$f":"SUM(X19:X20)","v":0},{"$f":"SUM(Y19:Y20)","v":0},{"$f":"SUM(X21:Y21)","v":0},{"$f":"X21/Z21","v":{"$error":"#DIV/0!"}},{"$f":"Y21/Z21","v":{"$error":"#DIV/0!"}}]
[]
[null,{"$f":"Information_RPO!A9","v":"Faculty/Department 2"}]
[null,null,"Full Time employment",null,null,{"$f":"SUM(D24:E24)","v":0},{"$f":"D24/F24","v":{"$error":"#DIV/0!"}},{"$f":"E24/F24","v":{"$error":"#DIV/0!"}},null,null,{"$f":"SUM(I24:J24)","v":0},{"$f":"I24/K24","v":{"$error":"#DIV/0!"}},{"$f":"J24/K24","v":{"$error":"#DIV/0!"}},null,null,{"$f":"SUM(N24:O24)","v":0},{"$f":"N24/P24","v":{"$error":"#DIV/0!"}},{"$f":"O24/P24","v":{"$error":"#DIV/0!"}},null,null,{"$f":"SUM(S24:T24)","v":0},{"$f":"S24/U24","v":{"$error":"#DIV/0!"}},{"$f":"T24/U24","v":{"$error":"#DIV/0!"}},null,null,{"$f":"SUM(X24:Y24)","v":0},{"$f":"X24/Z24","v":{"$error":"#DIV/0!"}},{"$f":"Y24/Z24","v":{"$error":"#DIV/0!"}}]
[null,null,"Part Time employment",null,null,{"$f":"SUM(D25:E25)","v":0},{"$f":"D25/F25","v":{"$error":"#DIV/0!"}},{"$f":"E25/F25","v":{"$error":"#DIV/0!"}},null,null,{"$f":"SUM(I25:J25)","v":0},{"$f":"I25/K25","v":{"$error":"#DIV/0!"}},{"$f":"J25/K25","v":{"$error":"#DIV/0!"}},null,null,{"$f":"SUM(N25:O25)","v":0},{"$f":"N25/P25","v":{"$error":"#DIV/0!"}},{"$f":"O25/P25","v":{"$error":"#DIV/0!"}},null,null,{"$f":"SUM(S25:T25)","v":0},{"$f":"S25/U25","v":{"$error":"#DIV/0!"}},{"$f":"T25/U25","v":{"$error":"#DIV/0!"}},null,null,{"$f":"SUM(X25:Y25)","v":0},{"$f":"X25/Z25","v":{"$error":"#DIV/0!"}},{"$f":"Y25/Z25","v":{"$error":"#DIV/0!"}}]
[null,null,"TOTAL",{"$f":"SUM(D24:D25)","v":0},{"$f":"SUM(E24:E25)","v":0},{"$f":"SUM(D26:E26)","v":0},{"$f":"D26/F26","v":{"$error":"#DIV/0!"}},{"$f":"E26/F26","v":{"$error":"#DIV/0!"}},{"$f":"SUM(I24:I25)","v":0},{"$f":"SUM(J24:J25)","v":0},{"$f":"SUM(I26:J26)","v":0},{"$f":"I26/K26","v":{"$error":"#DIV/0!"}},{"$f":"J26/K26","v":{"$error":"#DIV/0!"}},{"$f":"SUM(N24:N25)","v":0},{"$f":"SUM(O24:O25)","v":0},{"$f":"SUM(N26:O26)","v":0},{"$f":"N26/P26","v":{"$error":"#DIV/0!"}},{"$f":"O26/P26","v":{"$error":"#DIV/0!"}},{"$f":"SUM(S24:S25)","v":0},{"$f":"SUM(T24:T25)","v":0},{"$f":"SUM(S26:T26)","v":0},{"$f":"S26/U26","v":{"$error":"#DIV/0!"}},{"$f":"T26/U26","v":{"$error":"#DIV/0!"}},{"$f":"SUM(X24:X25)","v":0},{"$f":"SUM(Y24:Y25)","v":0},{"$f":"SUM(X26:Y26)","v":0},{"$f":"X26/Z26","v":{"$error":"#DIV/0!"}},{"$f":"Y26/Z26","v":{"$error":"#DIV/0!"}}]
[]
[null,{"$f":"Information_RPO!A10","v":"Faculty/Department 3"}]
[null,null,"Full Time employment",null,null,{"$f":"SUM(D29:E29)","v":0},{"$f":"D29/F29","v":{"$error":"#DIV/0!"}},{"$f":"E29/F29","v":{"$error":"#DIV/0!"}},null,null,{"$f":"SUM(I29:J29)","v":0},{"$f":"I29/K29","v":{"$error":"#DIV/0!"}},{"$f":"J29/K29","v":{"$error":"#DIV/0!"}},null,null,{"$f":"SUM(N29:O29)","v":0},{"$f":"N29/P29","v":{"$error":"#DIV/0!"}},{"$f":"O29/P29","v":{"$error":"#DIV/0!"}},null,null,{"$f":"SUM(S29:T29)","v":0},{"$f":"S29/U29","v":{"$error":"#DIV/0!"}},{"$f":"T29/U29","v":{"$error":"#DIV/0!"}},null,null,{"$f":"SUM(X29:Y29)","v":0},{"$f":"X29/Z29","v":{"$error":"#DIV/0!"}},{"$f":"Y29/Z29","v":{"$error":"#DIV/0!"}}]
[null,null,"Part Time employment",null,null,{"$f":"SUM(D30:E30)","v":0},{"$f":"D30/F30","v":{"$error":"#DIV/0!"}},{"$f":"E30/F30","v":{"$error":"#DIV/0!"}},null,null,{"$f":"SUM(I30:J30)","v":0},{"$f":"I30/K30","v":{"$error":"#DIV/0!"}},{"$f":"J30/K30","v":{"$error":"#DIV/0!"}},null,null,{"$f":"SUM(N30:O30)","v":0},{"$f":"N30/P30","v":{"$error":"#DIV/0!"}},{"$f":"O30/P30","v":{"$error":"#DIV/0!"}},null,null,{"$f":"SUM(S30:T30)","v":0},{"$f":"S30/U30","v":{"$error":"#DIV/0!"}},{"$f":"T30/U30","v":{"$error":"#DIV/0!"}},null,null,{"$f":"SUM(X30:Y30)","v":0},{"$f":"X30/Z30","v":{"$error":"#DIV/0!"}},{"$f":"Y30/Z30","v":{"$error":"#DIV/0!"}}]
[null,null,"TOTAL",{"$f":"SUM(D29:D30)","v":0},{"$f":"SUM(E29:E30)","v":0},{"$f":"SUM(D31:E31)","v":0},{"$f":"D31/F31","v":{"$error":"#DIV/0!"}},{"$f":"E31/F31","v":{"$error":"#DIV/0!"}},{"$f":"SUM(I29:I30)","v":0},{"$f":"SUM(J29:J30)","v":0},{"$f":"SUM(I31:J31)","v":0},{"$f":"I31/K31","v":{"$error":"#DIV/0!"}},{"$f":"J31/K31","v":{"$error":"#DIV/0!"}},{"$f":"SUM(N29:N30)","v":0},{"$f":"SUM(O29:O30)","v":0},{"$f":"SUM(N31:O31)","v":0},{"$f":"N31/P31","v":{"$error":"#DIV/0!"}},{"$f":"O31/P31","v":{"$error":"#DIV/0!"}},{"$f":"SUM(S29:S30)","v":0},{"$f":"SUM(T29:T30)","v":0},{"$f":"SUM(S31:T31)","v":0},{"$f":"S31/U31","v":{"$error":"#DIV/0!"}},{"$f":"T31/U31","v":{"$error":"#DIV/0!"}},{"$f":"SUM(X29:X30)","v":0},{"$f":"SUM(Y29:Y30)","v":0},{"$f":"SUM(X31:Y31)","v":0},{"$f":"X31/Z31","v":{"$error":"#DIV/0!"}},{"$f":"Y31/Z31","v":{"$error":"#DIV/0!"}}]
[]
[null,{"$f":"Information_RPO!A11","v":"Faculty/Department 4"}]
[null,null,"Full Time employment",null,null,{"$f":"SUM(D34:E34)","v":0},{"$f":"D34/F34","v":{"$error":"#DIV/0!"}},{"$f":"E34/F34","v":{"$error":"#DIV/0!"}},null,null,{"$f":"SUM(I34:J34)","v":0},{"$f":"I34/K34","v":{"$error":"#DIV/0!"}},{"$f":"J34/K34","v":{"$error":"#DIV/0!"}},null,null,{"$f":"SUM(N34:O34)","v":0},{"$f":"N34/P34","v":{"$error":"#DIV/0!"}},{"$f":"O34/P34","v":{"$error":"#DIV/0!"}},null,null,{"$f":"SUM(S34:T34)","v":0},{"$f":"S34/U34","v":{"$error":"#DIV/0!"}},{"$f":"T34/U34","v":{"$error":"#DIV/0!"}},null,null,{"$f":"SUM(X34:Y34)","v":0},{"$f":"X34/Z34","v":{"$error":"#DIV/0!"}},{"$f":"Y34/Z34","v":{"$error":"#DIV/0!"}}]
[null,null,"Part Time employment",null,null,{"$f":"SUM(D35:E35)","v":0},{"$f":"D35/F35","v":{"$error":"#DIV/0!"}},{"$f":"E35/F35","v":{"$error":"#DIV/0!"}},null,null,{"$f":"SUM(I35:J35)","v":0},{"$f":"I35/K35","v":{"$error":"#DIV/0!"}},{"$f":"J35/K35","v":{"$error":"#DIV/0!"}},null,null,{"$f":"SUM(N35:O35)","v":0},{"$f":"N35/P35","v":{"$error":"#DIV/0!"}},{"$f":"O35/P35","v":{"$error":"#DIV/0!"}},null,null,{"$f":"SUM(S35:T35)","v":0},{"$f":"S35/U35","v":{"$error":"#DIV/0!"}},{"$f":"T35/U35","v":{"$error":"#DIV/0!"}},null,null,{"$f":"SUM(X35:Y35)","v":0},{"$f":"X35/Z35","v":{"$error":"#DIV/0!"}},{"$f":"Y35/Z35","v":{"$error":"#DIV/0!"}}]
[null,null,"TOTAL",{"$f":"SUM(D34:D35)","v":0},{"$f":"SUM(E34:E35)","v":0},{"$f":"SUM(D36:E36)","v":0},{"$f":"D36/F36","v":{"$error":"#DIV/0!"}},{"$f":"E36/F36","v":{"$error":"#DIV/0!"}},{"$f":"SUM(I34:I35)","v":0},{"$f":"SUM(J34:J35)","v":0},{"$f":"SUM(I36:J36)","v":0},{"$f":"I36/K36","v":{"$error":"#DIV/0!"}},{"$f":"J36/K36","v":{"$error":"#DIV/0!"}},{"$f":"SUM(N34:N35)","v":0},{"$f":"SUM(O34:O35)","v":0},{"$f":"SUM(N36:O36)","v":0},{"$f":"N36/P36","v":{"$error":"#DIV/0!"}},{"$f":"O36/P36","v":{"$error":"#DIV/0!"}},{"$f":"SUM(S34:S35)","v":0},{"$f":"SUM(T34:T35)","v":0},{"$f":"SUM(S36:T36)","v":0},{"$f":"S36/U36","v":{"$error":"#DIV/0!"}},{"$f":"T36/U36","v":{"$error":"#DIV/0!"}},{"$f":"SUM(X34:X35)","v":0},{"$f":"SUM(Y34:Y35)","v":0},{"$f":"SUM(X36:Y36)","v":0},{"$f":"X36/Z36","v":{"$error":"#DIV/0!"}},{"$f":"Y36/Z36","v":{"$error":"#DIV/0!"}}]
[]
[null,{"$f":"Information_RPO!A12","v":"Faculty/Department 5"}]
[null,null,"Full Time employment",null,null,{"$f":"SUM(D39:E39)","v":0},{"$f":"D39/F39","v":{"$error":"#DIV/0!"}},{"$f":"E39/F39","v":{"$error":"#DIV/0!"}},null,null,{"$f":"SUM(I39:J39)","v":0},{"$f":"I39/K39","v":{"$error":"#DIV/0!"}},{"$f":"J39/K39","v":{"$error":"#DIV/0!"}},null,null,{"$f":"SUM(N39:O39)","v":0},{"$f":"N39/P39","v":{"$error":"#DIV/0!"}},{"$f":"O39/P39","v":{"$error":"#DIV/0!"}},null,null,{"$f":"SUM(S39:T39)","v":0},{"$f":"S39/U39","v":{"$error":"#DIV/0!"}},{"$f":"T39/U39","v":{"$error":"#DIV/0!"}},null,null,{"$f":"SUM(X39:Y39)","v":0},{"$f":"X39/Z39","v":{"$error":"#DIV/0!"}},{"$f":"Y39/Z39","v":{"$error":"#DIV/0!"}}]
[null,null,"Part Time employment",null,null,{"$f":"SUM(D40:E40)","v":0},{"$f":"D40/F40","v":{"$error":"#DIV/0!"}},{"$f":"E40/F40","v":{"$error":"#DIV/0!"}},null,null,{"$f":"SUM(I40:J40)","v":0},{"$f":"I40/K40","v":{"$error":"#DIV/0!"}},{"$f":"J40/K40","v":{"$error":"#DIV/0!"}},null,null,{"$f":"SUM(N40:O40)","v":0},{"$f":"N40/P40","v":{"$error":"#DIV/0!"}},{"$f":"O40/P40","v":{"$error":"#DIV/0!"}},null,null,{"$f":"SUM(S40:T40)","v":0},{"$f":"S40/U40","v":{"$error":"#DIV/0!"}},{"$f":"T40/U40","v":{"$error":"#DIV/0!"}},null,null,{"$f":"SUM(X40:Y40)","v":0},{"$f":"X40/Z40","v":{"$error":"#DIV/0!"}},{"$f":"Y40/Z40","v":{"$error":"#DIV/0!"}}]
[null,null,"TOTAL",{"$f":"SUM(D39:D40)","v":0},{"$f":"SUM(E39:E40)","v":0},{"$f":"SUM(D41:E41)","v":0},{"$f":"D41/F41","v":{"$error":"#DIV/0!"}},{"$f":"E41/F41","v":{"$error":"#DIV/0!"}},{"$f":"SUM(I39:I40)","v":0},{"$f":"SUM(J39:J40)","v":0},{"$f":"SUM(I41:J41)","v":0},{"$f":"I41/K41","v":{"$error":"#DIV/0!"}},{"$f":"J41/K41","v":{"$error":"#DIV/0!"}},{"$f":"SUM(N39:N40)","v":0},{"$f":"SUM(O39:O40)","v":0},{"$f":"SUM(N41:O41)","v":0},{"$f":"N41/P41","v":{"$error":"#DIV/0!"}},{"$f":"O41/P41","v":{"$error":"#DIV/0!"}},{"$f":"SUM(S39:S40)","v":0},{"$f":"SUM(T39:T40)","v":0},{"$f":"SUM(S41:T41)","v":0},{"$f":"S41/U41","v":{"$error":"#DIV/0!"}},{"$f":"T41/U41","v":{"$error":"#DIV/0!"}},{"$f":"SUM(X39:X40)","v":0},{"$f":"SUM(Y39:Y40)","v":0},{"$f":"SUM(X41:Y41)","v":0},{"$f":"X41/Z41","v":{"$error":"#DIV/0!"}},{"$f":"Y41/Z41","v":{"$error":"#DIV/0!"}}]
[]
[null,{"$f":"Information_RPO!A13","v":"Faculty/Department 6"}]
[null,null,"Full Time employment",null,null,{"$f":"SUM(D44:E44)","v":0},{"$f":"D44/F44","v":{"$error":"#DIV/0!"}},{"$f":"E44/F44","v":{"$error":"#DIV/0!"}},null,null,{"$f":"SUM(I44:J44)","v":0},{"$f":"I44/K44","v":{"$error":"#DIV/0!"}},{"$f":"J44/K44","v":{"$error":"#DIV/0!"}},null,null,{"$f":"SUM(N44:O44)","v":0},{"$f":"N44/P44","v":{"$error":"#DIV/0!"}},{"$f":"O44/P44","v":{"$error":"#DIV/0!"}},null,null,{"$f":"SUM(S44:T44)","v":0},{"$f":"S44/U44","v":{"$error":"#DIV/0!"}},{"$f":"T44/U44","v":{"$error":"#DIV/0!"}},null,null,{"$f":"SUM(X44:Y44)","v":0},{"$f":"X44/Z44","v":{"$error":"#DIV/0!"}},{"$f":"Y44/Z44","v":{"$error":"#DIV/0!"}}]
[null,null,"Part Time employment",null,null,{"$f":"SUM(D45:E45)","v":0},{"$f":"D45/F45","v":{"$error":"#DIV/0!"}},{"$f":"E45/F45","v":{"$error":"#DIV/0!"}},null,null,{"$f":"SUM(I45:J45)","v":0},{"$f":"I45/K45","v":{"$error":"#DIV/0!"}},{"$f":"J45/K45","v":{"$error":"#DIV/0!"}},null,null,{"$f":"SUM(N45:O45)","v":0},{"$f":"N45/P45","v":{"$error":"#DIV/0!"}},{"$f":"O45/P45","v":{"$error":"#DIV/0!"}},null,null,{"$f":"SUM(S45:T45)","v":0},{"$f":"S45/U45","v":{"$error":"#DIV/0!"}},{"$f":"T45/U45","v":{"$error":"#DIV/0!"}},null,null,{"$f":"SUM(X45:Y45)","v":0},{"$f":"X45/Z45","v":{"$error":"#DIV/0!"}},{"$f":"Y45/Z45","v":{"$error":"#DIV/0!"}}]
[null,null,"TOTAL",{"$f":"SUM(D44:D45)","v":0},{"$f":"SUM(E44:E45)","v":0},{"$f":"SUM(D46:E46)","v":0},{"$f":"D46/F46","v":{"$error":"#DIV/0!"}},{"$f":"E46/F46","v":{"$error":"#DIV/0!"}},{"$f":"SUM(I44:I45)","v":0},{"$f":"SUM(J44:J45)","v":0},{"$f":"SUM(I46:J46)","v":0},{"$f":"I46/K46","v":{"$error":"#DIV/0!"}},{"$f":"J46/K46","v":{"$error":"#DIV/0!"}},{"$f":"SUM(N44:N45)","v":0},{"$f":"SUM(O44:O45)","v":0},{"$f":"SUM(N46:O46)","v":0},{"$f":"N46/P46","v":{"$error":"#DIV/0!"}},{"$f":"O46/P46","v":{"$error":"#DIV/0!"}},{"$f":"SUM(S44:S45)","v":0},{"$f":"SUM(T44:T45)","v":0},{"$f":"SUM(S46:T46)","v":0},{"$f":"S46/U46","v":{"$error":"#DIV/0!"}},{"$f":"T46/U46","v":{"$error":"#DIV/0!"}},{"$f":"SUM(X44:X45)","v":0},{"$f":"SUM(Y44:Y45)","v":0},{"$f":"SUM(X46:Y46)","v":0},{"$f":"X46/Z46","v":{"$error":"#DIV/0!"}},{"$f":"Y46/Z46","v":{"$error":"#DIV/0!"}}]
[]
[]
[null,{"$f":"Information_RPO!A14","v":"Faculty/Department 7"}]
[null,null,"Full Time employment",null,null,{"$f":"SUM(D50:E50)","v":0},{"$f":"D50/F50","v":{"$error":"#DIV/0!"}},{"$f":"E50/F50","v":{"$error":"#DIV/0!"}},null,null,{"$f":"SUM(I50:J50)","v":0},{"$f":"I50/K50","v":{"$error":"#DIV/0!"}},{"$f":"J50/K50","v":{"$error":"#DIV/0!"}},null,null,{"$f":"SUM(N50:O50)","v":0},{"$f":"N50/P50","v":{"$error":"#DIV/0!"}},{"$f":"O50/P50","v":{"$error":"#DIV/0!"}},null,null,{"$f":"SUM(S50:T50)","v":0},{"$f":"S50/U50","v":{"$error":"#DIV/0!"}},{"$f":"T50/U50","v":{"$error":"#DIV/0!"}},null,null,{"$f":"SUM(X50:Y50)","v":0},{"$f":"X50/Z50","v":{"$error":"#DIV/0!"}},{"$f":"Y50/Z50","v":{"$error":"#DIV/0!"}}]
[null,null,"Part Time employment",null,null,{"$f":"SUM(D51:E51)","v":0},{"$f":"D51/F51","v":{"$error":"#DIV/0!"}},{"$f":"E51/F51","v":{"$error":"#DIV/0!"}},null,null,{"$f":"SUM(I51:J51)","v":0},{"$f":"I51/K51","v":{"$error":"#DIV/0!"}},{"$f":"J51/K51","v":{"$error":"#DIV/0!"}},null,null,{"$f":"SUM(N51:O51)","v":0},{"$f":"N51/P51","v":{"$error":"#DIV/0!"}},{"$f":"O51/P51","v":{"$error":"#DIV/0!"}},null,null,{"$f":"SUM(S51:T51)","v":0},{"$f":"S51/U51","v":{"$error":"#DIV/0!"}},{"$f":"T51/U51","v":{"$error":"#DIV/0!"}},null,null,{"$f":"SUM(X51:Y51)","v":0},{"$f":"X51/Z51","v":{"$error":"#DIV/0!"}},{"$f":"Y51/Z51","v":{"$error":"#DIV/0!"}}]
[null,null,"TOTAL",{"$f":"SUM(D50:D51)","v":0},{"$f":"SUM(E50:E51)","v":0},{"$f":"SUM(D52:E52)","v":0},{"$f":"D52/F52","v":{"$error":"#DIV/0!"}},{"$f":"E52/F52","v":{"$error":"#DIV/0!"}},{"$f":"SUM(I50:I51)","v":0},{"$f":"SUM(J50:J51)","v":0},{"$f":"SUM(I52:J52)","v":0},{"$f":"I52/K52","v":{"$error":"#DIV/0!"}},{"$f":"J52/K52","v":{"$error":"#DIV/0!"}},{"$f":"SUM(N50:N51)","v":0},{"$f":"SUM(O50:O51)","v":0},{"$f":"SUM(N52:O52)","v":0},{"$f":"N52/P52","v":{"$error":"#DIV/0!"}},{"$f":"O52/P52","v":{"$error":"#DIV/0!"}},{"$f":"SUM(S50:S51)","v":0},{"$f":"SUM(T50:T51)","v":0},{"$f":"SUM(S52:T52)","v":0},{"$f":"S52/U52","v":{"$error":"#DIV/0!"}},{"$f":"T52/U52","v":{"$error":"#DIV/0!"}},{"$f":"SUM(X50:X51)","v":0},{"$f":"SUM(Y50:Y51)","v":0},{"$f":"SUM(X52:Y52)","v":0},{"$f":"X52/Z52","v":{"$error":"#DIV/0!"}},{"$f":"Y52/Z52","v":{"$error":"#DIV/0!"}}]
[]
[null,{"$f":"Information_RPO!A15","v":"Faculty/Department 8"}]
[null,null,"Full Time employment",null,null,{"$f":"SUM(D55:E55)","v":0},{"$f":"D55/F55","v":{"$error":"#DIV/0!"}},{"$f":"E55/F55","v":{"$error":"#DIV/0!"}},null,null,{"$f":"SUM(I55:J55)","v":0},{"$f":"I55/K55","v":{"$error":"#DIV/0!"}},{"$f":"J55/K55","v":{"$error":"#DIV/0!"}},null,null,{"$f":"SUM(N55:O55)","v":0},{"$f":"N55/P55","v":{"$error":"#DIV/0!"}},{"$f":"O55/P55","v":{"$error":"#DIV/0!"}},null,null,{"$f":"SUM(S55:T55)","v":0},{"$f":"S55/U55","v":{"$error":"#DIV/0!"}},{"$f":"T55/U55","v":{"$error":"#DIV/0!"}},null,null,{"$f":"SUM(X55:Y55)","v":0},{"$f":"X55/Z55","v":{"$error":"#DIV/0!"}},{"$f":"Y55/Z55","v":{"$error":"#DIV/0!"}}]
[null,null,"Part Time employment",null,null,{"$f":"SUM(D56:E56)","v":0},{"$f":"D56/F56","v":{"$error":"#DIV/0!"}},{"$f":"E56/F56","v":{"$error":"#DIV/0!"}},null,null,{"$f":"SUM(I56:J56)","v":0},{"$f":"I56/K56","v":{"$error":"#DIV/0!"}},{"$f":"J56/K56","v":{"$error":"#DIV/0!"}},null,null,{"$f":"SUM(N56:O56)","v":0},{"$f":"N56/P56","v":{"$error":"#DIV/0!"}},{"$f":"O56/P56","v":{"$error":"#DIV/0!"}},null,null,{"$f":"SUM(S56:T56)","v":0},{"$f":"S56/U56","v":{"$error":"#DIV/0!"}},{"$f":"T56/U56","v":{"$error":"#DIV/0!"}},null,null,{"$f":"SUM(X56:Y56)","v":0},{"$f":"X56/Z56","v":{"$error":"#DIV/0!"}},{"$f":"Y56/Z56","v":{"$error":"#DIV/0!"}}]
[null,null,"TOTAL",{"$f":"SUM(D55:D56)","v":0},{"$f":"SUM(E55:E56)","v":0},{"$f":"SUM(D57:E57)","v":0},{"$f":"D57/F57","v":{"$error":"#DIV/0!"}},{"$f":"E57/F57","v":{"$error":"#DIV/0!"}},{"$f":"SUM(I55:I56)","v":0},{"$f":"SUM(J55:J56)","v":0},{"$f":"SUM(I57:J57)","v":0},{"$f":"I57/K57","v":{"$error":"#DIV/0!"}},{"$f":"J57/K57","v":{"$error":"#DIV/0!"}},{"$f":"SUM(N55:N56)","v":0},{"$f":"SUM(O55:O56)","v":0},{"$f":"SUM(N57:O57)","v":0},{"$f":"N57/P57","v":{"$error":"#DIV/0!"}},{"$f":"O57/P57","v":{"$error":"#DIV/0!"}},{"$f":"SUM(S55:S56)","v":0},{"$f":"SUM(T55:T56)","v":0},{"$f":"SUM(S57:T57)","v":0},{"$f":"S57/U57","v":{"$error":"#DIV/0!"}},{"$f":"T57/U57","v":{"$error":"#DIV/0!"}},{"$f":"SUM(X55:X56)","v":0},{"$f":"SUM(Y55:Y56)","v":0},{"$f":"SUM(X57:Y57)","v":0},{"$f":"X57/Z57","v":{"$error":"#DIV/0!"}},{"$f":"Y57/Z57","v":{"$error":"#DIV/0!"}}]

{"sheet":"D_Funds","index":16,"n_rows":11,"n_cols":2,"rows_kept":11,"cut":false,"hidden":false,"merged":[[2,0,3,1]]}
["DESCRIPTION: BUDGET, FUNDS, BONUS, PAY GAP"]
[]
["To Do: Adapt the description of the types of budget, funds and bonus payments to the ones common in your country. "]
[]
[]
[]
["TYPE OF BUDGET, FUNDS, BONUS","DESCRIPTION"]
["Internal Funds","e.g. benefits payed by research performing organisation for example to retain international high-level experts"]
["External Funds/ Third party funds","e.g. salary or benefits payed by companies or other parties in addition to salary of research performing organisation"]
["Bonus","e.g. performance bonus pay for academic accomplishments"]
["Allowances","e.g. extra compensational pay for functional positions at RPO"]

{"sheet":"T4_Funds","index":17,"n_rows":145,"n_cols":23,"rows_kept":145,"cut":false,"hidden":false,"merged":[[2,0,5,2],[9,3,9,6],[9,19,9,22],[8,11,8,14],[9,7,9,10],[9,11,9,14],[9,15,9,18]]}
["TABLE 4: ALLOCATION OF FUNDS, BONUS AND ALLOWANCES"]
[]
["To Do: Please enter the number of allocated funds, bonus and allowances by sex, faculty/department, and year. If necessary, please add further lines (faculties/departments) to the tables. Please also add the source of data and the cut-off date referring to the year columns. "]
[]
[]
[]
[]
["source of data:"]
["year comment:"]
[null,null,null,2014,null,null,null,2016,null,null,null,2018,null,null,null,2020,null,null,null,2022]
[null,null,null,"f","m","total","%","f","m","total","%","f","m","total","%","f","m","total","%","f","m","total","%"]
[]
[{"$f":"Information_RPO!A6","v":"Name of Research Performing Organization (RPO)"}]
[]
[null,"FUNDS"]
[null,null,"Internal Funds",{"$f":"D32+D47+D62+D77+D92+D107+D122+D136","v":0},{"$f":"E32+E47+E62+E77+E92+E107+E122+E136","v":0},{"$f":"D16+E16","v":0},{"$f":"E16/D16","v":{"$error":"#DIV/0!"}},{"$f":"H32+H47+H62+H77+H92+H107+H122+H136","v":0},{"$f":"I32+I47+I62+I77+I92+I107+I122+I136","v":0},{"$f":"H16+I16","v":0},{"$f":"I16/H16","v":{"$error":"#DIV/0!"}},{"$f":"L32+L47+L62+L77+L92+L107+L122+L136","v":0},{"$f":"M32+M47+M62+M77+M92+M107+M122+M136","v":0},{"$f":"L16+M16","v":0},{"$f":"M16/L16","v":{"$error":"#DIV/0!"}},{"$f":"P32+P47+P62+P77+P92+P107+P122+P136","v":0},{"$f":"Q32+Q47+Q62+Q77+Q92+Q107+Q122+Q136","v":0},{"$f":"P16+Q16","v":0},{"$f":"Q16/P16","v":{"$error":"#DIV/0!"}},{"$f":"T32+T47+T62+T77+T92+T107+T122+T136","v":0},{"$f":"U32+U47+U62+U77+U92+U107+U122+U136","v":0},{"$f":"T16+U16","v":0},{"$f":"U16/T16","v":{"$error":"#DIV/0!"}}]
[null,null,"External Funds / Third party funds",{"$f":"D33+D48+D63+D78+D93+D108+D123+D137","v":0},{"$f":"E33+E48+E63+E78+E93+E108+E123+E137","v":0},{"$f":"D17+E17","v":0},{"$f":"E17/D17","v":{"$error":"#DIV/0!"}},{"$f":"H33+H48+H63+H78+H93+H108+H123+H137","v":0},{"$f":"I33+I48+I63+I78+I93+I108+I123+I137","v":0},{"$f":"H17+I17","v":0},{"$f":"I17/H17","v":{"$error":"#DIV/0!"}},{"$f":"L33+L48+L63+L78+L93+L108+L123+L137","v":0},{"$f":"M33+M48+M63+M78+M93+M108+M123+M137","v":0},{"$f":"L17+M17","v":0},{"$f":"M17/L17","v":{"$error":"#DIV/0!"}},{"$f":"P33+P48+P63+P78+P93+P108+P123+P137","v":0},{"$f":"Q33+Q48+Q63+Q78+Q93+Q108+Q123+Q137","v":0},{"$f":"P17+Q17","v":0},{"$f":"Q17/P17","v":{"$error":"#DIV/0!"}},{"$f":"T33+T48+T63+T78+T93+T108+T123+T137","v":0},{"$f":"U33+U48+U63+U78+U93+U108+U123+U137","v":0},{"$f":"T17+U17","v":0},{"$f":"U17/T17","v":{"$error":"#DIV/0!"}}]
[null,null,"TOTAL",{"$f":"D16+D17","v":0},{"$f":"E16+E17","v":0},{"$f":"SUM(F16+F17)","v":0},{"$f":"E18/D18","v":{"$error":"#DIV/0!"}},{"$f":"H16+H17","v":0},{"$f":"I16+I17","v":0},{"$f":"SUM(J16+J17)","v":0},{"$f":"I18/H18","v":{"$error":"#DIV/0!"}},{"$f":"L16+L17","v":0},{"$f":"M16+M17","v":0},{"$f":"SUM(N16+N17)","v":0},{"$f":"M18/L18","v":{"$error":"#DIV/0!"}},{"$f":"P16+P17","v":0},{"$f":"Q16+Q17","v":0},{"$f":"SUM(R16+R17)","v":0},{"$f":"Q18/P18","v":{"$error":"#DIV/0!"}},{"$f":"T16+T17","v":0},{"$f":"U16+U17","v":0},{"$f":"SUM(V16+V17)","v":0},{"$f":"U18/T18","v":{"$error":"#DIV/0!"}}]
[null,"BONUS"]
[null,null,"Performance Bonus",{"$f":"D36+D51+D66+D81+D96+D111+D126+D140","v":0},{"$f":"E36+E51+E66+E81+E96+E111+E126+E140","v":0},{"$f":"D20+E20","v":0},{"$f":"E20/D20","v":{"$error":"#DIV/0!"}},{"$f":"H36+H51+H66+H81+H96+H111+H126+H140","v":0},{"$f":"I36+I51+I66+I81+I96+I111+I126+I140","v":0},{"$f":"H20+I20","v":0},{"$f":"I20/H20","v":{"$error":"#DIV/0!"}},{"$f":"L36+L51+L66+L81+L96+L111+L126+L140","v":0},{"$f":"M36+M51+M66+M81+M96+M111+M126+M140","v":0},{"$f":"L20+M20","v":0},{"$f":"M20/L20","v":{"$error":"#DIV/0!"}},{"$f":"P36+P51+P66+P81+P96+P111+P126+P140","v":0},{"$f":"Q36+Q51+Q66+Q81+Q96+Q111+Q126+Q140","v":0},{"$f":"P20+Q20","v":0},{"$f":"Q20/P20","v":{"$error":"#DIV/0!"}},{"$f":"T36+T51+T66+T81+T96+T111+T126+T140","v":0},{"$f":"U36+U51+U66+U81+U96+U111+U126+U140","v":0},{"$f":"T20+U20","v":0},{"$f":"U20/T20","v":{"$error":"#DIV/0!"}}]
[null,null,"TOTAL",{"$f":"D20","v":0},{"$f":"E19+E20","v":0},{"$f":"SUM(F19+F20)","v":0},{"$f":"E21/D21","v":{"$error":"#DIV/0!"}},{"$f":"H20","v":0},{"$f":"I19+I20","v":0},{"$f":"SUM(J19+J20)","v":0},{"$f":"I21/H21","v":{"$error":"#DIV/0!"}},{"$f":"L19+L20","v":0},{"$f":"M19+M20","v":0},{"$f":"SUM(N19+N20)","v":0},{"$f":"M21/L21","v":{"$error":"#DIV/0!"}},{"$f":"P19+P20","v":0},{"$f":"Q19+Q20","v":0},{"$f":"SUM(R19+R20)","v":0},{"$f":"Q21/P21","v":{"$error":"#DIV/0!"}},{"$f":"T19+T20","v":0},{"$f":"U19+U20","v":0},{"$f":"SUM(V19+V20)","v":0},{"$f":"U21/T21","v":{"$error":"#DIV/0!"}}]
[]
[null,"ALLOWANCES"]
[null,null,"Allowances",{"$f":"D40+D55+D70+D85+D100+D115+D130+D144","v":0},{"$f":"E40+E55+E70+E85+E100+E115+E130+E144","v":0},{"$f":"D24+E24","v":0},{"$f":"E24/D24","v":{"$error":"#DIV/0!"}},{"$f":"H40+H55+H70+H85+H100+H115+H130+H144","v":0},{"$f":"I40+I55+I70+I85+I100+I115+I130+I144","v":0},{"$f":"H24+I24","v":0},{"$f":"I24/H24","v":{"$error":"#DIV/0!"}},{"$f":"L40+L55+L70+L85+L100+L115+L130+L144","v":0},{"$f":"M40+M55+M70+M85+M100+M115+M130+M144","v":0},{"$f":"L24+M24","v":0},{"$f":"M24/L24","v":{"$error":"#DIV/0!"}},{"$f":"P40+P55+P70+P85+P100+P115+P130+P144","v":0},{"$f":"Q40+Q55+Q70+Q85+Q100+Q115+Q130+Q144","v":0},{"$f":"P24+Q24","v":0},{"$f":"Q24/P24","v":{"$error":"#DIV/0!"}},{"$f":"T40+T55+T70+T85+T100+T115+T130+T144","v":0},{"$f":"U40+U55+U70+U85+U100+U115+U130+U144","v":0},{"$f":"T24+U24","v":0},{"$f":"U24/T24","v":{"$error":"#DIV/0!"}}]
[null,null,"TOTAL",{"$f":"D23+D24","v":0},{"$f":"E23+E24","v":0},{"$f":"SUM(F23+F24)","v":0},{"$f":"E25/D25","v":{"$error":"#DIV/0!"}},{"$f":"H23+H24","v":0},{"$f":"I23+I24","v":0},{"$f":"SUM(J23+J24)","v":0},{"$f":"I25/H25","v":{"$error":"#DIV/0!"}},{"$f":"L23+L24","v":0},{"$f":"M23+M24","v":0},{"$f":"SUM(N23+N24)","v":0},{"$f":"M25/L25","v":{"$error":"#DIV/0!"}},{"$f":"P23+P24","v":0},{"$f":"Q23+Q24","v":0},{"$f":"SUM(R23+R24)","v":0},{"$f":"Q25/P25","v":{"$error":"#DIV/0!"}},{"$f":"T23+T24","v":0},{"$f":"U23+U24","v":0},{"$f":"SUM(V23+V24)","v":0},{"$f":"U25/T25","v":{"$error":"#DIV/0!"}}]
[]
[]
[]
[{"$f":"Information_RPO!A8","v":"Faculty/Department 1"}]
[]
[null,"FUNDS"]
[null,null,"Internal Funds",null,null,{"$f":"D32+E32","v":0},{"$f":"E32/D32","v":{"$error":"#DIV/0!"}},null,null,{"$f":"H32+I32","v":0},{"$f":"I32/H32","v":{"$error":"#DIV/0!"}},null,null,{"$f":"L32+M32","v":0},{"$f":"M32/L32","v":{"$error":"#DIV/0!"}},null,null,{"$f":"P32+Q32","v":0},{"$f":"Q32/P32","v":{"$error":"#DIV/0!"}},null,null,{"$f":"T32+U32","v":0},{"$f":"U32/T32","v":{"$error":"#DIV/0!"}}]
[null,null,"External Funds / Third party funds",null,null,{"$f":"D33+E33","v":0},{"$f":"E33/D33","v":{"$error":"#DIV/0!"}},null,null,{"$f":"H33+I33","v":0},{"$f":"I33/H33","v":{"$error":"#DIV/0!"}},null,null,{"$f":"L33+M33","v":0},{"$f":"M33/L33","v":{"$error":"#DIV/0!"}},null,null,{"$f":"P33+Q33","v":0},{"$f":"Q33/P33","v":{"$error":"#DIV/0!"}},null,null,{"$f":"T33+U33","v":0},{"$f":"U33/T33","v":{"$error":"#DIV/0!"}}]
[null,null,"TOTAL",{"$f":"D32+D33","v":0},{"$f":"E32+E33","v":0},{"$f":"SUM(F32+F33)","v":0},{"$f":"E34/D34","v":{"$error":"#DIV/0!"}},{"$f":"H32+H33","v":0},{"$f":"I32+I33","v":0},{"$f":"SUM(J32+J33)","v":0},{"$f":"I34/H34","v":{"$error":"#DIV/0!"}},{"$f":"L32+L33","v":0},{"$f":"M32+M33","v":0},{"$f":"SUM(N32+N33)","v":0},{"$f":"M34/L34","v":{"$error":"#DIV/0!"}},{"$f":"P32+P33","v":0},{"$f":"Q32+Q33","v":0},{"$f":"SUM(R32+R33)","v":0},{"$f":"Q34/P34","v":{"$error":"#DIV/0!"}},{"$f":"T32+T33","v":0},{"$f":"U32+U33","v":0},{"$f":"SUM(V32+V33)","v":0},{"$f":"U34/T34","v":{"$error":"#DIV/0!"}}]
[null,"BONUS"]
[null,null,"Performance Bonus",null,null,{"$f":"D36+E36","v":0},{"$f":"E36/D36","v":{"$error":"#DIV/0!"}},null,null,{"$f":"H36+I36","v":0},{"$f":"I36/H36","v":{"$error":"#DIV/0!"}},null,null,{"$f":"L36+M36","v":0},{"$f":"M36/L36","v":{"$error":"#DIV/0!"}},null,null,{"$f":"P36+Q36","v":0},{"$f":"Q36/P36","v":{"$error":"#DIV/0!"}},null,null,{"$f":"T36+U36","v":0},{"$f":"U36/T36","v":{"$error":"#DIV/0!"}}]
[null,null,"TOTAL",{"$f":"D35+D36","v":0},{"$f":"E35+E36","v":0},{"$f":"SUM(F35+F36)","v":0},{"$f":"E37/D37","v":{"$error":"#DIV/0!"}},{"$f":"H35+H36","v":0},{"$f":"I35+I36","v":0},{"$f":"SUM(J35+J36)","v":0},{"$f":"I37/H37","v":{"$error":"#DIV/0!"}},{"$f":"L35+L36","v":0},{"$f":"M35+M36","v":0},{"$f":"SUM(N35+N36)","v":0},{"$f":"M37/L37","v":{"$error":"#DIV/0!"}},{"$f":"P35+P36","v":0},{"$f":"Q35+Q36","v":0},{"$f":"SUM(R35+R36)","v":0},{"$f":"Q37/P37","v":{"$error":"#DIV/0!"}},{"$f":"T35+T36","v":0},{"$f":"U35+U36","v":0},{"$f":"SUM(V35+V36)","v":0},{"$f":"U37/T37","v":{"$error":"#DIV/0!"}}]
[]
[null,"ALLOWANCES"]
[null,null,"Allowances",null,null,{"$f":"D40+E40","v":0},{"$f":"E40/D40","v":{"$error":"#DIV/0!"}},null,null,{"$f":"H40+I40","v":0},{"$f":"I40/H40","v":{"$error":"#DIV/0!"}},null,null,{"$f":"L40+M40","v":0},{"$f":"M40/L40","v":{"$error":"#DIV/0!"}},null,null,{"$f":"P40+Q40","v":0},{"$f":"Q40/P40","v":{"$error":"#DIV/0!"}},null,null,{"$f":"T40+U40","v":0},{"$f":"U40/T40","v":{"$error":"#DIV/0!"}}]
[null,null,"TOTAL",{"$f":"D39+D40","v":0},{"$f":"E39+E40","v":0},{"$f":"SUM(F39+F40)","v":0},{"$f":"E41/D41","v":{"$error":"#DIV/0!"}},{"$f":"H39+H40","v":0},{"$f":"I39+I40","v":0},{"$f":"SUM(J39+J40)","v":0},{"$f":"I41/H41","v":{"$error":"#DIV/0!"}},{"$f":"L39+L40","v":0},{"$f":"M39+M40","v":0},{"$f":"SUM(N39+N40)","v":0},{"$f":"M41/L41","v":{"$error":"#DIV/0!"}},{"$f":"P39+P40","v":0},{"$f":"Q39+Q40","v":0},{"$f":"SUM(R39+R40)","v":0},{"$f":"Q41/P41","v":{"$error":"#DIV/0!"}},{"$f":"T39+T40","v":0},{"$f":"U39+U40","v":0},{"$f":"SUM(V39+V40)","v":0},{"$f":"U41/T41","v":{"$error":"#DIV/0!"}}]
[]
[]
[{"$f":"Information_RPO!A9","v":"Faculty/Department 2"}]
[]
[null,"FUNDS"]
[null,null,"Internal Funds",null,null,{"$f":"D47+E47","v":0},{"$f":"E47/D47","v":{"$error":"#DIV/0!"}},null,null,{"$f":"H47+I47","v":0},{"$f":"I47/H47","v":{"$error":"#DIV/0!"}},null,null,{"$f":"L47+M47","v":0},{"$f":"M47/L47","v":{"$error":"#DIV/0!"}},null,null,{"$f":"P47+Q47","v":0},{"$f":"Q47/P47","v":{"$error":"#DIV/0!"}},null,null,{"$f":"T47+U47","v":0},{"$f":"U47/T47","v":{"$error":"#DIV/0!"}}]
[null,null,"External Funds / Third party funds",null,null,{"$f":"D48+E48","v":0},{"$f":"E48/D48","v":{"$error":"#DIV/0!"}},null,null,{"$f":"H48+I48","v":0},{"$f":"I48/H48","v":{"$error":"#DIV/0!"}},null,null,{"$f":"L48+M48","v":0},{"$f":"M48/L48","v":{"$error":"#DIV/0!"}},null,null,{"$f":"P48+Q48","v":0},{"$f":"Q48/P48","v":{"$error":"#DIV/0!"}},null,null,{"$f":"T48+U48","v":0},{"$f":"U48/T48","v":{"$error":"#DIV/0!"}}]
[null,null,"TOTAL",{"$f":"D47+D48","v":0},{"$f":"E47+E48","v":0},{"$f":"SUM(F47+F48)","v":0},{"$f":"E49/D49","v":{"$error":"#DIV/0!"}},{"$f":"H47+H48","v":0},{"$f":"I47+I48","v":0},{"$f":"SUM(J47+J48)","v":0},{"$f":"I49/H49","v":{"$error":"#DIV/0!"}},{"$f":"L47+L48","v":0},{"$f":"M47+M48","v":0},{"$f":"SUM(N47+N48)","v":0},{"$f":"M49/L49","v":{"$error":"#DIV/0!"}},{"$f":"P47+P48","v":0},{"$f":"Q47+Q48","v":0},{"$f":"SUM(R47+R48)","v":0},{"$f":"Q49/P49","v":{"$error":"#DIV/0!"}},{"$f":"T47+T48","v":0},{"$f":"U47+U48","v":0},{"$f":"SUM(V47+V48)","v":0},{"$f":"U49/T49","v":{"$error":"#DIV/0!"}}]
[null,"BONUS"]
[null,null,"Performance Bonus",null,null,{"$f":"D51+E51","v":0},{"$f":"E51/D51","v":{"$error":"#DIV/0!"}},null,null,{"$f":"H51+I51","v":0},{"$f":"I51/H51","v":{"$error":"#DIV/0!"}},null,null,{"$f":"L51+M51","v":0},{"$f":"M51/L51","v":{"$error":"#DIV/0!"}},null,null,{"$f":"P51+Q51","v":0},{"$f":"Q51/P51","v":{"$error":"#DIV/0!"}},null,null,{"$f":"T51+U51","v":0},{"$f":"U51/T51","v":{"$error":"#DIV/0!"}}]
[null,null,"TOTAL",{"$f":"D50+D51","v":0},{"$f":"E50+E51","v":0},{"$f":"SUM(F50+F51)","v":0},{"$f":"E52/D52","v":{"$error":"#DIV/0!"}},{"$f":"H50+H51","v":0},{"$f":"I50+I51","v":0},{"$f":"SUM(J50+J51)","v":0},{"$f":"I52/H52","v":{"$error":"#DIV/0!"}},{"$f":"L50+L51","v":0},{"$f":"M50+M51","v":0},{"$f":"SUM(N50+N51)","v":0},{"$f":"M52/L52","v":{"$error":"#DIV/0!"}},{"$f":"P50+P51","v":0},{"$f":"Q50+Q51","v":0},{"$f":"SUM(R50+R51)","v":0},{"$f":"Q52/P52","v":{"$error":"#DIV/0!"}},{"$f":"T50+T51","v":0},{"$f":"U50+U51","v":0},{"$f":"SUM(V50+V51)","v":0},{"$f":"U52/T52","v":{"$error":"#DIV/0!"}}]
[]
[null,"ALLOWANCES"]
[null,null,"Allowances",null,null,{"$f":"D55+E55","v":0},{"$f":"E55/D55","v":{"$error":"#DIV/0!"}},null,null,{"$f":"H55+I55","v":0},{"$f":"I55/H55","v":{"$error":"#DIV/0!"}},null,null,{"$f":"L55+M55","v":0},{"$f":"M55/L55","v":{"$error":"#DIV/0!"}},null,null,{"$f":"P55+Q55","v":0},{"$f":"Q55/P55","v":{"$error":"#DIV/0!"}},null,null,{"$f":"T55+U55","v":0},{"$f":"U55/T55","v":{"$error":"#DIV/0!"}}]
[null,null,"TOTAL",{"$f":"D54+D55","v":0},{"$f":"E54+E55","v":0},{"$f":"SUM(F54+F55)","v":0},{"$f":"E56/D56","v":{"$error":"#DIV/0!"}},{"$f":"H54+H55","v":0},{"$f":"I54+I55","v":0},{"$f":"SUM(J54+J55)","v":0},{"$f":"I56/H56","v":{"$error":"#DIV/0!"}},{"$f":"L54+L55","v":0},{"$f":"M54+M55","v":0},{"$f":"SUM(N54+N55)","v":0},{"$f":"M56/L56","v":{"$error":"#DIV/0!"}},{"$f":"P54+P55","v":0},{"$f":"Q54+Q55","v":0},{"$f":"SUM(R54+R55)","v":0},{"$f":"Q56/P56","v":{"$error":"#DIV/0!"}},{"$f":"T54+T55","v":0},{"$f":"U54+U55","v":0},{"$f":"SUM(V54+V55)","v":0},{"$f":"U56/T56","v":{"$error":"#DIV/0!"}}]
[]
[]
[{"$f":"Information_RPO!A10","v":"Faculty/Department 3"}]
[]
[null,"FUNDS"]
[null,null,"Internal Funds",null,null,{"$f":"D62+E62","v":0},{"$f":"E62/D62","v":{"$error":"#DIV/0!"}},null,null,{"$f":"H62+I62","v":0},{"$f":"I62/H62","v":{"$error":"#DIV/0!"}},null,null,{"$f":"L62+M62","v":0},{"$f":"M62/L62","v":{"$error":"#DIV/0!"}},null,null,{"$f":"P62+Q62","v":0},{"$f":"Q62/P62","v":{"$error":"#DIV/0!"}},null,null,{"$f":"T62+U62","v":0},{"$f":"U62/T62","v":{"$error":"#DIV/0!"}}]
[null,null,"External Funds / Third party funds",null,null,{"$f":"D63+E63","v":0},{"$f":"E63/D63","v":{"$error":"#DIV/0!"}},null,null,{"$f":"H63+I63","v":0},{"$f":"I63/H63","v":{"$error":"#DIV/0!"}},null,null,{"$f":"L63+M63","v":0},{"$f":"M63/L63","v":{"$error":"#DIV/0!"}},null,null,{"$f":"P63+Q63","v":0},{"$f":"Q63/P63","v":{"$error":"#DIV/0!"}},null,null,{"$f":"T63+U63","v":0},{"$f":"U63/T63","v":{"$error":"#DIV/0!"}}]
[null,null,"TOTAL",{"$f":"D62+D63","v":0},{"$f":"E62+E63","v":0},{"$f":"SUM(F62+F63)","v":0},{"$f":"E64/D64","v":{"$error":"#DIV/0!"}},{"$f":"H62+H63","v":0},{"$f":"I62+I63","v":0},{"$f":"SUM(J62+J63)","v":0},{"$f":"I64/H64","v":{"$error":"#DIV/0!"}},{"$f":"L62+L63","v":0},{"$f":"M62+M63","v":0},{"$f":"SUM(N62+N63)","v":0},{"$f":"M64/L64","v":{"$error":"#DIV/0!"}},{"$f":"P62+P63","v":0},{"$f":"Q62+Q63","v":0},{"$f":"SUM(R62+R63)","v":0},{"$f":"Q64/P64","v":{"$error":"#DIV/0!"}},{"$f":"T62+T63","v":0},{"$f":"U62+U63","v":0},{"$f":"SUM(V62+V63)","v":0},{"$f":"U64/T64","v":{"$error":"#DIV/0!"}}]
[null,"BONUS"]
[null,null,"Performance Bonus",null,null,{"$f":"D66+E66","v":0},{"$f":"E66/D66","v":{"$error":"#DIV/0!"}},null,null,{"$f":"H66+I66","v":0},{"$f":"I66/H66","v":{"$error":"#DIV/0!"}},null,null,{"$f":"L66+M66","v":0},{"$f":"M66/L66","v":{"$error":"#DIV/0!"}},null,null,{"$f":"P66+Q66","v":0},{"$f":"Q66/P66","v":{"$error":"#DIV/0!"}},null,null,{"$f":"T66+U66","v":0},{"$f":"U66/T66","v":{"$error":"#DIV/0!"}}]
[null,null,"TOTAL",{"$f":"D65+D66","v":0},{"$f":"E65+E66","v":0},{"$f":"SUM(F65+F66)","v":0},{"$f":"E67/D67","v":{"$error":"#DIV/0!"}},{"$f":"H65+H66","v":0},{"$f":"I65+I66","v":0},{"$f":"SUM(J65+J66)","v":0},{"$f":"I67/H67","v":{"$error":"#DIV/0!"}},{"$f":"L65+L66","v":0},{"$f":"M65+M66","v":0},{"$f":"SUM(N65+N66)","v":0},{"$f":"M67/L67","v":{"$error":"#DIV/0!"}},{"$f":"P65+P66","v":0},{"$f":"Q65+Q66","v":0},{"$f":"SUM(R65+R66)","v":0},{"$f":"Q67/P67","v":{"$error":"#DIV/0!"}},{"$f":"T65+T66","v":0},{"$f":"U65+U66","v":0},{"$f":"SUM(V65+V66)","v":0},{"$f":"U67/T67","v":{"$error":"#DIV/0!"}}]
[]
[null,"ALLOWANCES"]
[null,null,"Allowances",null,null,{"$f":"D70+E70","v":0},{"$f":"E70/D70","v":{"$error":"#DIV/0!"}},null,null,{"$f":"H70+I70","v":0},{"$f":"I70/H70","v":{"$error":"#DIV/0!"}},null,null,{"$f":"L70+M70","v":0},{"$f":"M70/L70","v":{"$error":"#DIV/0!"}},null,null,{"$f":"P70+Q70","v":0},{"$f":"Q70/P70","v":{"$error":"#DIV/0!"}},null,null,{"$f":"T70+U70","v":0},{"$f":"U70/T70","v":{"$error":"#DIV/0!"}}]
[null,null,"TOTAL",{"$f":"D69+D70","v":0},{"$f":"E69+E70","v":0},{"$f":"SUM(F69+F70)","v":0},{"$f":"E71/D71","v":{"$error":"#DIV/0!"}},{"$f":"H69+H70","v":0},{"$f":"I69+I70","v":0},{"$f":"SUM(J69+J70)","v":0},{"$f":"I71/H71","v":{"$error":"#DIV/0!"}},{"$f":"L69+L70","v":0},{"$f":"M69+M70","v":0},{"$f":"SUM(N69+N70)","v":0},{"$f":"M71/L71","v":{"$error":"#DIV/0!"}},{"$f":"P69+P70","v":0},{"$f":"Q69+Q70","v":0},{"$f":"SUM(R69+R70)","v":0},{"$f":"Q71/P71","v":{"$error":"#DIV/0!"}},{"$f":"T69+T70","v":0},{"$f":"U69+U70","v":0},{"$f":"SUM(V69+V70)","v":0},{"$f":"U71/T71","v":{"$error":"#DIV/0!"}}]
[]
[]
[{"$f":"Information_RPO!A11","v":"Faculty/Department 4"}]
[]
[null,"FUNDS"]
[null,null,"Internal Funds",null,null,{"$f":"D77+E77","v":0},{"$f":"E77/D77","v":{"$error":"#DIV/0!"}},null,null,{"$f":"H77+I77","v":0},{"$f":"I77/H77","v":{"$error":"#DIV/0!"}},null,null,{"$f":"L77+M77","v":0},{"$f":"M77/L77","v":{"$error":"#DIV/0!"}},null,null,{"$f":"P77+Q77","v":0},{"$f":"Q77/P77","v":{"$error":"#DIV/0!"}},null,null,{"$f":"T77+U77","v":0},{"$f":"U77/T77","v":{"$error":"#DIV/0!"}}]
[null,null,"External Funds / Third party funds",null,null,{"$f":"D78+E78","v":0},{"$f":"E78/D78","v":{"$error":"#DIV/0!"}},null,null,{"$f":"H78+I78","v":0},{"$f":"I78/H78","v":{"$error":"#DIV/0!"}},null,null,{"$f":"L78+M78","v":0},{"$f":"M78/L78","v":{"$error":"#DIV/0!"}},null,null,{"$f":"P78+Q78","v":0},{"$f":"Q78/P78","v":{"$error":"#DIV/0!"}},null,null,{"$f":"T78+U78","v":0},{"$f":"U78/T78","v":{"$error":"#DIV/0!"}}]
[null,null,"TOTAL",{"$f":"D77+D78","v":0},{"$f":"E77+E78","v":0},{"$f":"SUM(F77+F78)","v":0},{"$f":"E79/D79","v":{"$error":"#DIV/0!"}},{"$f":"H77+H78","v":0},{"$f":"I77+I78","v":0},{"$f":"SUM(J77+J78)","v":0},{"$f":"I79/H79","v":{"$error":"#DIV/0!"}},{"$f":"L77+L78","v":0},{"$f":"M77+M78","v":0},{"$f":"SUM(N77+N78)","v":0},{"$f":"M79/L79","v":{"$error":"#DIV/0!"}},{"$f":"P77+P78","v":0},{"$f":"Q77+Q78","v":0},{"$f":"SUM(R77+R78)","v":0},{"$f":"Q79/P79","v":{"$error":"#DIV/0!"}},{"$f":"T77+T78","v":0},{"$f":"U77+U78","v":0},{"$f":"SUM(V77+V78)","v":0},{"$f":"U79/T79","v":{"$error":"#DIV/0!"}}]
[null,"BONUS"]
[null,null,"Performance Bonus",null,null,{"$f":"D81+E81","v":0},{"$f":"E81/D81","v":{"$error":"#DIV/0!"}},null,null,{"$f":"H81+I81","v":0},{"$f":"I81/H81","v":{"$error":"#DIV/0!"}},null,null,{"$f":"L81+M81","v":0},{"$f":"M81/L81","v":{"$error":"#DIV/0!"}},null,null,{"$f":"P81+Q81","v":0},{"$f":"Q81/P81","v":{"$error":"#DIV/0!"}},null,null,{"$f":"T81+U81","v":0},{"$f":"U81/T81","v":{"$error":"#DIV/0!"}}]
[null,null,"TOTAL",{"$f":"D80+D81","v":0},{"$f":"E80+E81","v":0},{"$f":"SUM(F80+F81)","v":0},{"$f":"E82/D82","v":{"$error":"#DIV/0!"}},{"$f":"H80+H81","v":0},{"$f":"I80+I81","v":0},{"$f":"SUM(J80+J81)","v":0},{"$f":"I82/H82","v":{"$error":"#DIV/0!"}},{"$f":"L80+L81","v":0},{"$f":"M80+M81","v":0},{"$f":"SUM(N80+N81)","v":0},{"$f":"M82/L82","v":{"$error":"#DIV/0!"}},{"$f":"P80+P81","v":0},{"$f":"Q80+Q81","v":0},{"$f":"SUM(R80+R81)","v":0},{"$f":"Q82/P82","v":{"$error":"#DIV/0!"}},{"$f":"T80+T81","v":0},{"$f":"U80+U81","v":0},{"$f":"SUM(V80+V81)","v":0},{"$f":"U82/T82","v":{"$error":"#DIV/0!"}}]
[]
[null,"ALLOWANCES"]
[null,null,"Allowances",null,null,{"$f":"D85+E85","v":0},{"$f":"E85/D85","v":{"$error":"#DIV/0!"}},null,null,{"$f":"H85+I85","v":0},{"$f":"I85/H85","v":{"$error":"#DIV/0!"}},null,null,{"$f":"L85+M85","v":0},{"$f":"M85/L85","v":{"$error":"#DIV/0!"}},null,null,{"$f":"P85+Q85","v":0},{"$f":"Q85/P85","v":{"$error":"#DIV/0!"}},null,null,{"$f":"T85+U85","v":0},{"$f":"U85/T85","v":{"$error":"#DIV/0!"}}]
[null,null,"TOTAL",{"$f":"D84+D85","v":0},{"$f":"E84+E85","v":0},{"$f":"SUM(F84+F85)","v":0},{"$f":"E86/D86","v":{"$error":"#DIV/0!"}},{"$f":"H84+H85","v":0},{"$f":"I84+I85","v":0},{"$f":"SUM(J84+J85)","v":0},{"$f":"I86/H86","v":{"$error":"#DIV/0!"}},{"$f":"L84+L85","v":0},{"$f":"M84+M85","v":0},{"$f":"SUM(N84+N85)","v":0},{"$f":"M86/L86","v":{"$error":"#DIV/0!"}},{"$f":"P84+P85","v":0},{"$f":"Q84+Q85","v":0},{"$f":"SUM(R84+R85)","v":0},{"$f":"Q86/P86","v":{"$error":"#DIV/0!"}},{"$f":"T84+T85","v":0},{"$f":"U84+U85","v":0},{"$f":"SUM(V84+V85)","v":0},{"$f":"U86/T86","v":{"$error":"#DIV/0!"}}]
[]
[]
[{"$f":"Information_RPO!A12","v":"Faculty/Department 5"}]
[]
[null,"FUNDS"]
[null,null,"Internal Funds",null,null,{"$f":"D92+E92","v":0},{"$f":"E92/D92","v":{"$error":"#DIV/0!"}},null,null,{"$f":"H92+I92","v":0},{"$f":"I92/H92","v":{"$error":"#DIV/0!"}},null,null,{"$f":"L92+M92","v":0},{"$f":"M92/L92","v":{"$error":"#DIV/0!"}},null,null,{"$f":"P92+Q92","v":0},{"$f":"Q92/P92","v":{"$error":"#DIV/0!"}},null,null,{"$f":"T92+U92","v":0},{"$f":"U92/T92","v":{"$error":"#DIV/0!"}}]
[null,null,"External Funds / Third party funds",null,null,{"$f":"D93+E93","v":0},{"$f":"E93/D93","v":{"$error":"#DIV/0!"}},null,null,{"$f":"H93+I93","v":0},{"$f":"I93/H93","v":{"$error":"#DIV/0!"}},null,null,{"$f":"L93+M93","v":0},{"$f":"M93/L93","v":{"$error":"#DIV/0!"}},null,null,{"$f":"P93+Q93","v":0},{"$f":"Q93/P93","v":{"$error":"#DIV/0!"}},null,null,{"$f":"T93+U93","v":0},{"$f":"U93/T93","v":{"$error":"#DIV/0!"}}]
[null,null,"TOTAL",{"$f":"D92+D93","v":0},{"$f":"E92+E93","v":0},{"$f":"SUM(F92+F93)","v":0},{"$f":"E94/D94","v":{"$error":"#DIV/0!"}},{"$f":"H92+H93","v":0},{"$f":"I92+I93","v":0},{"$f":"SUM(J92+J93)","v":0},{"$f":"I94/H94","v":{"$error":"#DIV/0!"}},{"$f":"L92+L93","v":0},{"$f":"M92+M93","v":0},{"$f":"SUM(N92+N93)","v":0},{"$f":"M94/L94","v":{"$error":"#DIV/0!"}},{"$f":"P92+P93","v":0},{"$f":"Q92+Q93","v":0},{"$f":"SUM(R92+R93)","v":0},{"$f":"Q94/P94","v":{"$error":"#DIV/0!"}},{"$f":"T92+T93","v":0},{"$f":"U92+U93","v":0},{"$f":"SUM(V92+V93)","v":0},{"$f":"U94/T94","v":{"$error":"#DIV/0!"}}]
[null,"BONUS"]
[null,null,"Performance Bonus",null,null,{"$f":"D96+E96","v":0},{"$f":"E96/D96","v":{"$error":"#DIV/0!"}},null,null,{"$f":"H96+I96","v":0},{"$f":"I96/H96","v":{"$error":"#DIV/0!"}},null,null,{"$f":"L96+M96","v":0},{"$f":"M96/L96","v":{"$error":"#DIV/0!"}},null,null,{"$f":"P96+Q96","v":0},{"$f":"Q96/P96","v":{"$error":"#DIV/0!"}},null,null,{"$f":"T96+U96","v":0},{"$f":"U96/T96","v":{"$error":"#DIV/0!"}}]
[null,null,"TOTAL",{"$f":"D95+D96","v":0},{"$f":"E95+E96","v":0},{"$f":"SUM(F95+F96)","v":0},{"$f":"E97/D97","v":{"$error":"#DIV/0!"}},{"$f":"H95+H96","v":0},{"$f":"I95+I96","v":0},{"$f":"SUM(J95+J96)","v":0},{"$f":"I97/H97","v":{"$error":"#DIV/0!"}},{"$f":"L95+L96","v":0},{"$f":"M95+M96","v":0},{"$f":"SUM(N95+N96)","v":0},{"$f":"M97/L97","v":{"$error":"#DIV/0!"}},{"$f":"P95+P96","v":0},{"$f":"Q95+Q96","v":0},{"$f":"SUM(R95+R96)","v":0},{"$f":"Q97/P97","v":{"$error":"#DIV/0!"}},{"$f":"T95+T96","v":0},{"$f":"U95+U96","v":0},{"$f":"SUM(V95+V96)","v":0},{"$f":"U97/T97","v":{"$error":"#DIV/0!"}}]
[]
[null,"ALLOWANCES"]
[null,null,"Allowances",null,null,{"$f":"D100+E100","v":0},{"$f":"E100/D100","v":{"$error":"#DIV/0!"}},null,null,{"$f":"H100+I100","v":0},{"$f":"I100/H100","v":{"$error":"#DIV/0!"}},null,null,{"$f":"L100+M100","v":0},{"$f":"M100/L100","v":{"$error":"#DIV/0!"}},null,null,{"$f":"P100+Q100","v":0},{"$f":"Q100/P100","v":{"$error":"#DIV/0!"}},null,null,{"$f":"T100+U100","v":0},{"$f":"U100/T100","v":{"$error":"#DIV/0!"}}]
[null,null,"TOTAL",{"$f":"D99+D100","v":0},{"$f":"E99+E100","v":0},{"$f":"SUM(F99+F100)","v":0},{"$f":"E101/D101","v":{"$error":"#DIV/0!"}},{"$f":"H99+H100","v":0},{"$f":"I99+I100","v":0},{"$f":"SUM(J99+J100)","v":0},{"$f":"I101/H101","v":{"$error":"#DIV/0!"}},{"$f":"L99+L100","v":0},{"$f":"M99+M100","v":0},{"$f":"SUM(N99+N100)","v":0},{"$f":"M101/L101","v":{"$error":"#DIV/0!"}},{"$f":"P99+P100","v":0},{"$f":"Q99+Q100","v":0},{"$f":"SUM(R99+R100)","v":0},{"$f":"Q101/P101","v":{"$error":"#DIV/0!"}},{"$f":"T99+T100","v":0},{"$f":"U99+U100","v":0},{"$f":"SUM(V99+V100)","v":0},{"$f":"U101/T101","v":{"$error":"#DIV/0!"}}]
[]
[]
[{"$f":"Information_RPO!A13","v":"Faculty/Department 6"}]
[]
[null,"FUNDS"]
[null,null,"Internal Funds",null,null,{"$f":"D107+E107","v":0},{"$f":"E107/D107","v":{"$error":"#DIV/0!"}},null,null,{"$f":"H107+I107","v":0},{"$f":"I107/H107","v":{"$error":"#DIV/0!"}},null,null,{"$f":"L107+M107","v":0},{"$f":"M107/L107","v":{"$error":"#DIV/0!"}},null,null,{"$f":"P107+Q107","v":0},{"$f":"Q107/P107","v":{"$error":"#DIV/0!"}},null,null,{"$f":"T107+U107","v":0},{"$f":"U107/T107","v":{"$error":"#DIV/0!"}}]
[null,null,"External Funds / Third party funds",null,null,{"$f":"D108+E108","v":0},{"$f":"E108/D108","v":{"$error":"#DIV/0!"}},null,null,{"$f":"H108+I108","v":0},{"$f":"I108/H108","v":{"$error":"#DIV/0!"}},null,null,{"$f":"L108+M108","v":0},{"$f":"M108/L108","v":{"$error":"#DIV/0!"}},null,null,{"$f":"P108+Q108","v":0},{"$f":"Q108/P108","v":{"$error":"#DIV/0!"}},null,null,{"$f":"T108+U108","v":0},{"$f":"U108/T108","v":{"$error":"#DIV/0!"}}]
[null,null,"TOTAL",{"$f":"D107+D108","v":0},{"$f":"E107+E108","v":0},{"$f":"SUM(F107+F108)","v":0},{"$f":"E109/D109","v":{"$error":"#DIV/0!"}},{"$f":"H107+H108","v":0},{"$f":"I107+I108","v":0},{"$f":"SUM(J107+J108)","v":0},{"$f":"I109/H109","v":{"$error":"#DIV/0!"}},{"$f":"L107+L108","v":0},{"$f":"M107+M108","v":0},{"$f":"SUM(N107+N108)","v":0},{"$f":"M109/L109","v":{"$error":"#DIV/0!"}},{"$f":"P107+P108","v":0},{"$f":"Q107+Q108","v":0},{"$f":"SUM(R107+R108)","v":0},{"$f":"Q109/P109","v":{"$error":"#DIV/0!"}},{"$f":"T107+T108","v":0},{"$f":"U107+U108","v":0},{"$f":"SUM(V107+V108)","v":0},{"$f":"U109/T109","v":{"$error":"#DIV/0!"}}]
[null,"BONUS"]
[null,null,"Performance Bonus",null,null,{"$f":"D111+E111","v":0},{"$f":"E111/D111","v":{"$error":"#DIV/0!"}},null,null,{"$f":"H111+I111","v":0},{"$f":"I111/H111","v":{"$error":"#DIV/0!"}},null,null,{"$f":"L111+M111","v":0},{"$f":"M111/L111","v":{"$error":"#DIV/0!"}},null,null,{"$f":"P111+Q111","v":0},{"$f":"Q111/P111","v":{"$error":"#DIV/0!"}},null,null,{"$f":"T111+U111","v":0},{"$f":"U111/T111","v":{"$error":"#DIV/0!"}}]
[null,null,"TOTAL",{"$f":"D110+D111","v":0},{"$f":"E110+E111","v":0},{"$f":"SUM(F110+F111)","v":0},{"$f":"E112/D112","v":{"$error":"#DIV/0!"}},{"$f":"H110+H111","v":0},{"$f":"I110+I111","v":0},{"$f":"SUM(J110+J111)","v":0},{"$f":"I112/H112","v":{"$error":"#DIV/0!"}},{"$f":"L110+L111","v":0},{"$f":"M110+M111","v":0},{"$f":"SUM(N110+N111)","v":0},{"$f":"M112/L112","v":{"$error":"#DIV/0!"}},{"$f":"P110+P111","v":0},{"$f":"Q110+Q111","v":0},{"$f":"SUM(R110+R111)","v":0},{"$f":"Q112/P112","v":{"$error":"#DIV/0!"}},{"$f":"T110+T111","v":0},{"$f":"U110+U111","v":0},{"$f":"SUM(V110+V111)","v":0},{"$f":"U112/T112","v":{"$error":"#DIV/0!"}}]
[]
[null,"ALLOWANCES"]
[null,null,"Allowances",null,null,{"$f":"D115+E115","v":0},{"$f":"E115/D115","v":{"$error":"#DIV/0!"}},null,null,{"$f":"H115+I115","v":0},{"$f":"I115/H115","v":{"$error":"#DIV/0!"}},null,null,{"$f":"L115+M115","v":0},{"$f":"M115/L115","v":{"$error":"#DIV/0!"}},null,null,{"$f":"P115+Q115","v":0},{"$f":"Q115/P115","v":{"$error":"#DIV/0!"}},null,null,{"$f":"T115+U115","v":0},{"$f":"U115/T115","v":{"$error":"#DIV/0!"}}]
[null,null,"TOTAL",{"$f":"D114+D115","v":0},{"$f":"E114+E115","v":0},{"$f":"SUM(F114+F115)","v":0},{"$f":"E116/D116","v":{"$error":"#DIV/0!"}},{"$f":"H114+H115","v":0},{"$f":"I114+I115","v":0},{"$f":"SUM(J114+J115)","v":0},{"$f":"I116/H116","v":{"$error":"#DIV/0!"}},{"$f":"L114+L115","v":0},{"$f":"M114+M115","v":0},{"$f":"SUM(N114+N115)","v":0},{"$f":"M116/L116","v":{"$error":"#DIV/0!"}},{"$f":"P114+P115","v":0},{"$f":"Q114+Q115","v":0},{"$f":"SUM(R114+R115)","v":0},{"$f":"Q116/P116","v":{"$error":"#DIV/0!"}},{"$f":"T114+T115","v":0},{"$f":"U114+U115","v":0},{"$f":"SUM(V114+V115)","v":0},{"$f":"U116/T116","v":{"$error":"#DIV/0!"}}]
[]
[]
[{"$f":"Information_RPO!A14","v":"Faculty/Department 7"}]
[]
[null,"FUNDS"]
[null,null,"Internal Funds",null,null,{"$f":"D122+E122","v":0},{"$f":"E122/D122","v":{"$error":"#DIV/0!"}},null,null,{"$f":"H122+I122","v":0},{"$f":"I122/H122","v":{"$error":"#DIV/0!"}},null,null,{"$f":"L122+M122","v":0},{"$f":"M122/L122","v":{"$error":"#DIV/0!"}},null,null,{"$f":"P122+Q122","v":0},{"$f":"Q122/P122","v":{"$error":"#DIV/0!"}},null,null,{"$f":"T122+U122","v":0},{"$f":"U122/T122","v":{"$error":"#DIV/0!"}}]
[null,null,"External Funds / Third party funds",null,null,{"$f":"D123+E123","v":0},{"$f":"E123/D123","v":{"$error":"#DIV/0!"}},null,null,{"$f":"H123+I123","v":0},{"$f":"I123/H123","v":{"$error":"#DIV/0!"}},null,null,{"$f":"L123+M123","v":0},{"$f":"M123/L123","v":{"$error":"#DIV/0!"}},null,null,{"$f":"P123+Q123","v":0},{"$f":"Q123/P123","v":{"$error":"#DIV/0!"}},null,null,{"$f":"T123+U123","v":0},{"$f":"U123/T123","v":{"$error":"#DIV/0!"}}]
[null,null,"TOTAL",{"$f":"D122+D123","v":0},{"$f":"E122+E123","v":0},{"$f":"SUM(F122+F123)","v":0},{"$f":"E124/D124","v":{"$error":"#DIV/0!"}},{"$f":"H122+H123","v":0},{"$f":"I122+I123","v":0},{"$f":"SUM(J122+J123)","v":0},{"$f":"I124/H124","v":{"$error":"#DIV/0!"}},{"$f":"L122+L123","v":0},{"$f":"M122+M123","v":0},{"$f":"SUM(N122+N123)","v":0},{"$f":"M124/L124","v":{"$error":"#DIV/0!"}},{"$f":"P122+P123","v":0},{"$f":"Q122+Q123","v":0},{"$f":"SUM(R122+R123)","v":0},{"$f":"Q124/P124","v":{"$error":"#DIV/0!"}},{"$f":"T122+T123","v":0},{"$f":"U122+U123","v":0},{"$f":"SUM(V122+V123)","v":0},{"$f":"U124/T124","v":{"$error":"#DIV/0!"}}]
[null,"BONUS"]
[null,null,"Performance Bonus",null,null,{"$f":"D126+E126","v":0},{"$f":"E126/D126","v":{"$error":"#DIV/0!"}},null,null,{"$f":"H126+I126","v":0},{"$f":"I126/H126","v":{"$error":"#DIV/0!"}},null,null,{"$f":"L126+M126","v":0},{"$f":"M126/L126","v":{"$error":"#DIV/0!"}},null,null,{"$f":"P126+Q126","v":0},{"$f":"Q126/P126","v":{"$error":"#DIV/0!"}},null,null,{"$f":"T126+U126","v":0},{"$f":"U126/T126","v":{"$error":"#DIV/0!"}}]
[null,null,"TOTAL",{"$f":"D125+D126","v":0},{"$f":"E125+E126","v":0},{"$f":"SUM(F125+F126)","v":0},{"$f":"E127/D127","v":{"$error":"#DIV/0!"}},{"$f":"H125+H126","v":0},{"$f":"I125+I126","v":0},{"$f":"SUM(J125+J126)","v":0},{"$f":"I127/H127","v":{"$error":"#DIV/0!"}},{"$f":"L125+L126","v":0},{"$f":"M125+M126","v":0},{"$f":"SUM(N125+N126)","v":0},{"$f":"M127/L127","v":{"$error":"#DIV/0!"}},{"$f":"P125+P126","v":0},{"$f":"Q125+Q126","v":0},{"$f":"SUM(R125+R126)","v":0},{"$f":"Q127/P127","v":{"$error":"#DIV/0!"}},{"$f":"T125+T126","v":0},{"$f":"U125+U126","v":0},{"$f":"SUM(V125+V126)","v":0},{"$f":"U127/T127","v":{"$error":"#DIV/0!"}}]
[]
[null,"ALLOWANCES"]
[null,null,"Allowances",null,null,{"$f":"D130+E130","v":0},{"$f":"E130/D130","v":{"$error":"#DIV/0!"}},null,null,{"$f":"H130+I130","v":0},{"$f":"I130/H130","v":{"$error":"#DIV/0!"}},null,null,{"$f":"L130+M130","v":0},{"$f":"M130/L130","v":{"$error":"#DIV/0!"}},null,null,{"$f":"P130+Q130","v":0},{"$f":"Q130/P130","v":{"$error":"#DIV/0!"}},null,null,{"$f":"T130+U130","v":0},{"$f":"U130/T130","v":{"$error":"#DIV/0!"}}]
[null,null,"TOTAL",{"$f":"D129+D130","v":0},{"$f":"E129+E130","v":0},{"$f":"SUM(F129+F130)","v":0},{"$f":"E131/D131","v":{"$error":"#DIV/0!"}},{"$f":"H129+H130","v":0},{"$f":"I129+I130","v":0},{"$f":"SUM(J129+J130)","v":0},{"$f":"I131/H131","v":{"$error":"#DIV/0!"}},{"$f":"L129+L130","v":0},{"$f":"M129+M130","v":0},{"$f":"SUM(N129+N130)","v":0},{"$f":"M131/L131","v":{"$error":"#DIV/0!"}},{"$f":"P129+P130","v":0},{"$f":"Q129+Q130","v":0},{"$f":"SUM(R129+R130)","v":0},{"$f":"Q131/P131","v":{"$error":"#DIV/0!"}},{"$f":"T129+T130","v":0},{"$f":"U129+U130","v":0},{"$f":"SUM(V129+V130)","v":0},{"$f":"U131/T131","v":{"$error":"#DIV/0!"}}]
[]
[{"$f":"Information_RPO!A15","v":"Faculty/Department 8"}]
[]
[null,"FUNDS"]
[null,null,"Internal Funds",null,null,{"$f":"D136+E136","v":0},{"$f":"E136/D136","v":{"$error":"#DIV/0!"}},null,null,{"$f":"H136+I136","v":0},{"$f":"I136/H136","v":{"$error":"#DIV/0!"}},null,null,{"$f":"L136+M136","v":0},{"$f":"M136/L136","v":{"$error":"#DIV/0!"}},null,null,{"$f":"P136+Q136","v":0},{"$f":"Q136/P136","v":{"$error":"#DIV/0!"}},null,null,{"$f":"T136+U136","v":0},{"$f":"U136/T136","v":{"$error":"#DIV/0!"}}]
[null,null,"External Funds / Third party funds",null,null,{"$f":"D137+E137","v":0},{"$f":"E137/D137","v":{"$error":"#DIV/0!"}},null,null,{"$f":"H137+I137","v":0},{"$f":"I137/H137","v":{"$error":"#DIV/0!"}},null,null,{"$f":"L137+M137","v":0},{"$f":"M137/L137","v":{"$error":"#DIV/0!"}},null,null,{"$f":"P137+Q137","v":0},{"$f":"Q137/P137","v":{"$error":"#DIV/0!"}},null,null,{"$f":"T137+U137","v":0},{"$f":"U137/T137","v":{"$error":"#DIV/0!"}}]
[null,null,"TOTAL",{"$f":"D136+D137","v":0},{"$f":"E136+E137","v":0},{"$f":"SUM(F136+F137)","v":0},{"$f":"E138/D138","v":{"$error":"#DIV/0!"}},{"$f":"H136+H137","v":0},{"$f":"I136+I137","v":0},{"$f":"SUM(J136+J137)","v":0},{"$f":"I138/H138","v":{"$error":"#DIV/0!"}},{"$f":"L136+L137","v":0},{"$f":"M136+M137","v":0},{"$f":"SUM(N136+N137)","v":0},{"$f":"M138/L138","v":{"$error":"#DIV/0!"}},{"$f":"P136+P137","v":0},{"$f":"Q136+Q137","v":0},{"$f":"SUM(R136+R137)","v":0},{"$f":"Q138/P138","v":{"$error":"#DIV/0!"}},{"$f":"T136+T137","v":0},{"$f":"U136+U137","v":0},{"$f":"SUM(V136+V137)","v":0},{"$f":"U138/T138","v":{"$error":"#DIV/0!"}}]
[null,"BONUS"]
[null,null,"Performance Bonus",null,null,{"$f":"D140+E140","v":0},{"$f":"E140/D140","v":{"$error":"#DIV/0!"}},null,null,{"$f":"H140+I140","v":0},{"$f":"I140/H140","v":{"$error":"#DIV/0!"}},null,null,{"$f":"L140+M140","v":0},{"$f":"M140/L140","v":{"$error":"#DIV/0!"}},null,null,{"$f":"P140+Q140","v":0},{"$f":"Q140/P140","v":{"$error":"#DIV/0!"}},null,null,{"$f":"T140+U140","v":0},{"$f":"U140/T140","v":{"$error":"#DIV/0!"}}]
[null,null,"TOTAL",{"$f":"D139+D140","v":0},{"$f":"E139+E140","v":0},{"$f":"SUM(F139+F140)","v":0},{"$f":"E141/D141","v":{"$error":"#DIV/0!"}},{"$f":"H139+H140","v":0},{"$f":"I139+I140","v":0},{"$f":"SUM(J139+J140)","v":0},{"$f":"I141/H141","v":{"$error":"#DIV/0!"}},{"$f":"L139+L140","v":0},{"$f":"M139+M140","v":0},{"$f":"SUM(N139+N140)","v":0},{"$f":"M141/L141","v":{"$error":"#DIV/0!"}},{"$f":"P139+P140","v":0},{"$f":"Q139+Q140","v":0},{"$f":"SUM(R139+R140)","v":0},{"$f":"Q141/P141","v":{"$error":"#DIV/0!"}},{"$f":"T139+T140","v":0},{"$f":"U139+U140","v":0},{"$f":"SUM(V139+V140)","v":0},{"$f":"U141/T141","v":{"$error":"#DIV/0!"}}]
[]
[null,"ALLOWANCES"]
[null,null,"Allowances",null,null,{"$f":"D144+E144","v":0},{"$f":"E144/D144","v":{"$error":"#DIV/0!"}},null,null,{"$f":"H144+I144","v":0},{"$f":"I144/H144","v":{"$error":"#DIV/0!"}},null,null,{"$f":"L144+M144","v":0},{"$f":"M144/L144","v":{"$error":"#DIV/0!"}},null,null,{"$f":"P144+Q144","v":0},{"$f":"Q144/P144","v":{"$error":"#DIV/0!"}},null,null,{"$f":"T144+U144","v":0},{"$f":"U144/T144","v":{"$error":"#DIV/0!"}}]
[null,null,"TOTAL",{"$f":"D143+D144","v":0},{"$f":"E143+E144","v":0},{"$f":"SUM(F143+F144)","v":0},{"$f":"E145/D145","v":{"$error":"#DIV/0!"}},{"$f":"H143+H144","v":0},{"$f":"I143+I144","v":0},{"$f":"SUM(J143+J144)","v":0},{"$f":"I145/H145","v":{"$error":"#DIV/0!"}},{"$f":"L143+L144","v":0},{"$f":"M143+M144","v":0},{"$f":"SUM(N143+N144)","v":0},{"$f":"M145/L145","v":{"$error":"#DIV/0!"}},{"$f":"P143+P144","v":0},{"$f":"Q143+Q144","v":0},{"$f":"SUM(R143+R144)","v":0},{"$f":"Q145/P145","v":{"$error":"#DIV/0!"}},{"$f":"T143+T144","v":0},{"$f":"U143+U144","v":0},{"$f":"SUM(V143+V144)","v":0},{"$f":"U145/T145","v":{"$error":"#DIV/0!"}}]

{"sheet":"T5a_PhDs","index":18,"n_rows":59,"n_cols":28,"rows_kept":59,"cut":false,"hidden":false,"merged":[[2,0,5,9],[9,23,9,27],[9,3,9,7],[9,8,9,12],[9,13,9,17],[9,18,9,22]]}
["TABLE 5A: PHD / DOCTORAL STUDENTS AND GRADUATES"]
[]
["To Do: Please enter the number of PhD/Doctoral students and graduates by sex, faculty/department, and year at organisational and national level. National level refers to other research performing organizations in similar fields of science in your country, i.e. replace \"RPOs in similiar fields of science\" (marked in red) with different fields of science similiar to your research perfoming organization. If necessary, please add further lines (faculties/departments) to the tables. Please also add the source of data and the cut-off date referring to the year columns."]
[]
[]
[]
[]
["source of data:"]
["year comment:"]
[null,null,null,2014,null,null,null,null,2016,null,null,null,null,2018,null,null,null,null,2020,null,null,null,null,2022]
[null,null,null,"f","m","t","f %","m %","f","m","t","f %","m %","f","m","t","f %","m %","f","m","t","f %","m %","f","m","t","f %","m %"]
[]
[{"$f":"Information_RPO!A6","v":"Name of Research Performing Organization (RPO)"}]
[]
[null,"PHD STUDENTS"]
[null,null,{"$f":"Information_RPO!A8","v":"Faculty/Department 1"},null,null,{"$f":"SUM(D16:E16)","v":0},{"$f":"D16/F16","v":{"$error":"#DIV/0!"}},{"$f":"E16/F16","v":{"$error":"#DIV/0!"}},null,null,{"$f":"SUM(I16:J16)","v":0},{"$f":"I16/K16","v":{"$error":"#DIV/0!"}},{"$f":"J16/K16","v":{"$error":"#DIV/0!"}},null,null,{"$f":"SUM(N16:O16)","v":0},{"$f":"N16/P16","v":{"$error":"#DIV/0!"}},{"$f":"O16/P16","v":{"$error":"#DIV/0!"}},null,null,{"$f":"SUM(S16:T16)","v":0},{"$f":"S16/U16","v":{"$error":"#DIV/0!"}},{"$f":"T16/U16","v":{"$error":"#DIV/0!"}},null,null,{"$f":"SUM(X16:Y16)","v":0},{"$f":"X16/Z16","v":{"$error":"#DIV/0!"}},{"$f":"Y16/Z16","v":{"$error":"#DIV/0!"}}]
[null,null,{"$f":"Information_RPO!A9","v":"Faculty/Department 2"},null,null,0,{"$error":"#DIV/0!"},{"$error":"#DIV/0!"},null,null,0,{"$error":"#DIV/0!"},{"$error":"#DIV/0!"},null,null,0,{"$error":"#DIV/0!"},{"$error":"#DIV/0!"},null,null,0,{"$error":"#DIV/0!"},{"$error":"#DIV/0!"},null,null,0,{"$error":"#DIV/0!"},{"$error":"#DIV/0!"}]
[null,null,{"$f":"Information_RPO!A10","v":"Faculty/Department 3"},null,null,0,{"$error":"#DIV/0!"},{"$error":"#DIV/0!"},null,null,0,{"$error":"#DIV/0!"},{"$error":"#DIV/0!"},null,null,0,{"$error":"#DIV/0!"},{"$error":"#DIV/0!"},null,null,0,{"$error":"#DIV/0!"},{"$error":"#DIV/0!"},null,null,0,{"$error":"#DIV/0!"},{"$error":"#DIV/0!"}]
[null,null,{"$f":"Information_RPO!A11","v":"Faculty/Department 4"},null,null,0,{"$error":"#DIV/0!"},{"$error":"#DIV/0!"},null,null,0,{"$error":"#DIV/0!"},{"$error":"#DIV/0!"},null,null,0,{"$error":"#DIV/0!"},{"$error":"#DIV/0!"},null,null,0,{"$error":"#DIV/0!"},{"$error":"#DIV/0!"},null,null,0,{"$error":"#DIV/0!"},{"$error":"#DIV/0!"}]
[null,null,{"$f":"Information_RPO!A12","v":"Faculty/Department 5"},null,null,0,{"$error":"#DIV/0!"},{"$error":"#DIV/0!"},null,null,0,{"$error":"#DIV/0!"},{"$error":"#DIV/0!"},null,null,0,{"$error":"#DIV/0!"},{"$error":"#DIV/0!"},null,null,0,{"$error":"#DIV/0!"},{"$error":"#DIV/0!"},null,null,0,{"$error":"#DIV/0!"},{"$error":"#DIV/0!"}]
[null,null,{"$f":"Information_RPO!A13","v":"Faculty/Department 6"},null,null,0,{"$error":"#DIV/0!"},{"$error":"#DIV/0!"},null,null,0,{"$error":"#DIV/0!"},{"$error":"#DIV/0!"},null,null,0,{"$error":"#DIV/0!"},{"$error":"#DIV/0!"},null,null,0,{"$error":"#DIV/0!"},{"$error":"#DIV/0!"},null,null,0,{"$error":"#DIV/0!"},{"$error":"#DIV/0!"}]
[null,null,{"$f":"Information_RPO!A14","v":"Faculty/Department 7"},null,null,0,{"$error":"#DIV/0!"},{"$error":"#DIV/0!"},null,null,0,{"$error":"#DIV/0!"},{"$error":"#DIV/0!"},null,null,0,{"$error":"#DIV/0!"},{"$error":"#DIV/0!"},null,null,0,{"$error":"#DIV/0!"},{"$error":"#DIV/0!"},null,null,0,{"$error":"#DIV/0!"},{"$error":"#DIV/0!"}]
[null,null,{"$f":"Information_RPO!A15","v":"Faculty/Department 8"},null,null,{"$f":"SUM(D23:E23)","v":0},{"$f":"D23/F23","v":{"$error":"#DIV/0!"}},{"$f":"E23/F23","v":{"$error":"#DIV/0!"}},null,null,{"$f":"SUM(I23:J23)","v":0},{"$f":"I23/K23","v":{"$error":"#DIV/0!"}},{"$f":"J23/K23","v":{"$error":"#DIV/0!"}},null,null,{"$f":"SUM(N23:O23)","v":0},{"$f":"N23/P23","v":{"$error":"#DIV/0!"}},{"$f":"O23/P23","v":{"$error":"#DIV/0!"}},null,null,{"$f":"SUM(S23:T23)","v":0},{"$f":"S23/U23","v":{"$error":"#DIV/0!"}},{"$f":"T23/U23","v":{"$error":"#DIV/0!"}},null,null,0,{"$error":"#DIV/0!"},{"$error":"#DIV/0!"}]
[null,null,"TOTAL",{"$f":"SUM(D16:D22)","v":0},{"$f":"SUM(E16:E22)","v":0},{"$f":"SUM(D24:E24)","v":0},{"$error":"#DIV/0!"},{"$error":"#DIV/0!"},{"$f":"SUM(I16:I22)","v":0},{"$f":"SUM(J16:J22)","v":0},0,{"$error":"#DIV/0!"},{"$error":"#DIV/0!"},{"$f":"SUM(N16:N22)","v":0},{"$f":"SUM(O16:O22)","v":0},0,{"$error":"#DIV/0!"},{"$error":"#DIV/0!"},{"$f":"SUM(S16:S22)","v":0},{"$f":"SUM(T16:T22)","v":0},0,{"$error":"#DIV/0!"},{"$error":"#DIV/0!"},{"$f":"SUM(X16:X22)","v":0},{"$f":"SUM(Y16:Y22)","v":0},0,{"$error":"#DIV/0!"},{"$error":"#DIV/0!"}]
[]
[null,"PHD GRADUATES"]
[null,null,{"$f":"Information_RPO!A8","v":"Faculty/Department 1"},null,null,{"$f":"SUM(D27:E27)","v":0},{"$f":"D27/F27","v":{"$error":"#DIV/0!"}},{"$f":"E27/F27","v":{"$error":"#DIV/0!"}},null,null,{"$f":"SUM(I27:J27)","v":0},{"$f":"I27/K27","v":{"$error":"#DIV/0!"}},{"$f":"J27/K27","v":{"$error":"#DIV/0!"}},null,null,{"$f":"SUM(N27:O27)","v":0},{"$f":"N27/P27","v":{"$error":"#DIV/0!"}},{"$f":"O27/P27","v":{"$error":"#DIV/0!"}},null,null,{"$f":"SUM(S27:T27)","v":0},{"$f":"S27/U27","v":{"$error":"#DIV/0!"}},{"$f":"T27/U27","v":{"$error":"#DIV/0!"}},null,null,{"$f":"SUM(X27:Y27)","v":0},{"$f":"X27/Z27","v":{"$error":"#DIV/0!"}},{"$f":"Y27/Z27","v":{"$error":"#DIV/0!"}}]
[null,null,{"$f":"Information_RPO!A9","v":"Faculty/Department 2"},null,null,0,{"$error":"#DIV/0!"},{"$error":"#DIV/0!"},null,null,0,{"$error":"#DIV/0!"},{"$error":"#DIV/0!"},null,null,0,{"$error":"#DIV/0!"},{"$error":"#DIV/0!"},null,null,0,{"$error":"#DIV/0!"},{"$error":"#DIV/0!"},null,null,0,{"$error":"#DIV/0!"},{"$error":"#DIV/0!"}]
[null,null,{"$f":"Information_RPO!A10","v":"Faculty/Department 3"},null,null,0,{"$error":"#DIV/0!"},{"$error":"#DIV/0!"},null,null,0,{"$error":"#DIV/0!"},{"$error":"#DIV/0!"},null,null,0,{"$error":"#DIV/0!"},{"$error":"#DIV/0!"},null,null,0,{"$error":"#DIV/0!"},{"$error":"#DIV/0!"},null,null,0,{"$error":"#DIV/0!"},{"$error":"#DIV/0!"}]
[null,null,{"$f":"Information_RPO!A11","v":"Faculty/Department 4"},null,null,0,{"$error":"#DIV/0!"},{"$error":"#DIV/0!"},null,null,0,{"$error":"#DIV/0!"},{"$error":"#DIV/0!"},null,null,0,{"$error":"#DIV/0!"},{"$error":"#DIV/0!"},null,null,0,{"$error":"#DIV/0!"},{"$error":"#DIV/0!"},null,null,0,{"$error":"#DIV/0!"},{"$error":"#DIV/0!"}]
[null,null,{"$f":"Information_RPO!A12","v":"Faculty/Department 5"},null,null,0,{"$error":"#DIV/0!"},{"$error":"#DIV/0!"},null,null,0,{"$error":"#DIV/0!"},{"$error":"#DIV/0!"},null,null,0,{"$error":"#DIV/0!"},{"$error":"#DIV/0!"},null,null,0,{"$error":"#DIV/0!"},{"$error":"#DIV/0!"},null,null,0,{"$error":"#DIV/0!"},{"$error":"#DIV/0!"}]
[null,null,{"$f":"Information_RPO!A13","v":"Faculty/Department 6"},null,null,0,{"$error":"#DIV/0!"},{"$error":"#DIV/0!"},null,null,0,{"$error":"#DIV/0!"},{"$error":"#DIV/0!"},null,null,0,{"$error":"#DIV/0!"},{"$error":"#DIV/0!"},null,null,0,{"$error":"#DIV/0!"},{"$error":"#DIV/0!"},null,null,0,{"$error":"#DIV/0!"},{"$error":"#DIV/0!"}]
[null,null,{"$f":"Information_RPO!A14","v":"Faculty/Department 7"},null,null,0,{"$error":"#DIV/0!"},{"$error":"#DIV/0!"},null,null,0,{"$error":"#DIV/0!"},{"$error":"#DIV/0!"},null,null,0,{"$error":"#DIV/0!"},{"$error":"#DIV/0!"},null,null,0,{"$error":"#DIV/0!"},{"$error":"#DIV/0!"},null,null,0,{"$error":"#DIV/0!"},{"$error":"#DIV/0!"}]
[null,null,{"$f":"Information_RPO!A15","v":"Faculty/Department 8"},null,null,{"$f":"SUM(D34:E34)","v":0},{"$f":"D34/F34","v":{"$error":"#DIV/0!"}},{"$f":"E34/F34","v":{"$error":"#DIV/0!"}},null,null,{"$f":"SUM(I34:J34)","v":0},{"$f":"I34/K34","v":{"$error":"#DIV/0!"}},{"$f":"J34/K34","v":{"$error":"#DIV/0!"}},null,null,{"$f":"SUM(N34:O34)","v":0},{"$f":"N34/P34","v":{"$error":"#DIV/0!"}},{"$f":"O34/P34","v":{"$error":"#DIV/0!"}},null,null,{"$f":"SUM(S34:T34)","v":0},{"$f":"S34/U34","v":{"$error":"#DIV/0!"}},{"$f":"T34/U34","v":{"$error":"#DIV/0!"}},null,null,0,{"$error":"#DIV/0!"},{"$error":"#DIV/0!"}]
[null,null,"TOTAL",{"$f":"SUM(D27:D33)","v":0},{"$f":"SUM(E27:E33)","v":0},{"$f":"SUM(D35:E35)","v":0},{"$error":"#DIV/0!"},{"$error":"#DIV/0!"},{"$f":"SUM(I27:I33)","v":0},{"$f":"SUM(J27:J33)","v":0},0,{"$error":"#DIV/0!"},{"$error":"#DIV/0!"},{"$f":"SUM(N27:N33)","v":0},{"$f":"SUM(O27:O33)","v":0},0,{"$error":"#DIV/0!"},{"$error":"#DIV/0!"},{"$f":"SUM(S27:S33)","v":0},{"$f":"SUM(T27:T33)","v":0},0,{"$error":"#DIV/0!"},{"$error":"#DIV/0!"},{"$f":"SUM(X27:X33)","v":0},{"$f":"SUM(Y27:Y33)","v":0},0,{"$error":"#DIV/0!"},{"$error":"#DIV/0!"}]
[]
["COUNTRY"]
[]
[null,"PHD STUDENTS"]
[null,null,"RPOs in similiar fields of science",null,null,{"$f":"SUM(D40:E40)","v":0},{"$f":"D40/F40","v":{"$error":"#DIV/0!"}},{"$f":"E40/F40","v":{"$error":"#DIV/0!"}},null,null,{"$f":"SUM(I40:J40)","v":0},{"$f":"I40/K40","v":{"$error":"#DIV/0!"}},{"$f":"J40/K40","v":{"$error":"#DIV/0!"}},null,null,{"$f":"SUM(N40:O40)","v":0},{"$f":"N40/P40","v":{"$error":"#DIV/0!"}},{"$f":"O40/P40","v":{"$error":"#DIV/0!"}},null,null,{"$f":"SUM(S40:T40)","v":0},{"$f":"S40/U40","v":{"$error":"#DIV/0!"}},{"$f":"T40/U40","v":{"$error":"#DIV/0!"}},null,null,{"$f":"SUM(X40:Y40)","v":0},{"$f":"X40/Z40","v":{"$error":"#DIV/0!"}},{"$f":"Y40/Z40","v":{"$error":"#DIV/0!"}}]
[null,null,null,null,null,0,{"$error":"#DIV/0!"},{"$error":"#DIV/0!"},null,null,0,{"$error":"#DIV/0!"},{"$error":"#DIV/0!"},null,null,0,{"$error":"#DIV/0!"},{"$error":"#DIV/0!"},null,null,0,{"$error":"#DIV/0!"},{"$error":"#DIV/0!"},null,null,0,{"$error":"#DIV/0!"},{"$error":"#DIV/0!"}]
[null,null,null,null,null,{"$f":"SUM(D42:E42)","v":0},{"$f":"D42/F42","v":{"$error":"#DIV/0!"}},{"$f":"E42/F42","v":{"$error":"#DIV/0!"}},null,null,{"$f":"SUM(I42:J42)","v":0},{"$f":"I42/K42","v":{"$error":"#DIV/0!"}},{"$f":"J42/K42","v":{"$error":"#DIV/0!"}},null,null,{"$f":"SUM(N42:O42)","v":0},{"$f":"N42/P42","v":{"$error":"#DIV/0!"}},{"$f":"O42/P42","v":{"$error":"#DIV/0!"}},null,null,{"$f":"SUM(S42:T42)","v":0},{"$f":"S42/U42","v":{"$error":"#DIV/0!"}},{"$f":"T42/U42","v":{"$error":"#DIV/0!"}},null,null,0,{"$error":"#DIV/0!"},{"$error":"#DIV/0!"}]
[null,null,null,null,null,0,{"$error":"#DIV/0!"},{"$error":"#DIV/0!"},null,null,0,{"$error":"#DIV/0!"},{"$error":"#DIV/0!"},null,null,0,{"$error":"#DIV/0!"},{"$error":"#DIV/0!"},null,null,0,{"$error":"#DIV/0!"},{"$error":"#DIV/0!"},null,null,0,{"$error":"#DIV/0!"},{"$error":"#DIV/0!"}]
[null,null,null,null,null,0,{"$error":"#DIV/0!"},{"$error":"#DIV/0!"},null,null,0,{"$error":"#DIV/0!"},{"$error":"#DIV/0!"},null,null,0,{"$error":"#DIV/0!"},{"$error":"#DIV/0!"},null,null,0,{"$error":"#DIV/0!"},{"$error":"#DIV/0!"},null,null,0,{"$error":"#DIV/0!"},{"$error":"#DIV/0!"}]
[null,null,null,null,null,0,{"$error":"#DIV/0!"},{"$error":"#DIV/0!"},null,null,0,{"$error":"#DIV/0!"},{"$error":"#DIV/0!"},null,null,0,{"$error":"#DIV/0!"},{"$error":"#DIV/0!"},null,null,0,{"$error":"#DIV/0!"},{"$error":"#DIV/0!"},null,null,0,{"$error":"#DIV/0!"},{"$error":"#DIV/0!"}]
[null,null,null,null,null,0,{"$error":"#DIV/0!"},{"$error":"#DIV/0!"},null,null,0,{"$error":"#DIV/0!"},{"$error":"#DIV/0!"},null,null,0,{"$error":"#DIV/0!"},{"$error":"#DIV/0!"},null,null,0,{"$error":"#DIV/0!"},{"$error":"#DIV/0!"},null,null,0,{"$error":"#DIV/0!"},{"$error":"#DIV/0!"}]
[null,null,null,null,null,0,{"$error":"#DIV/0!"},{"$error":"#DIV/0!"},null,null,0,{"$error":"#DIV/0!"},{"$error":"#DIV/0!"},null,null,0,{"$error":"#DIV/0!"},{"$error":"#DIV/0!"},null,null,0,{"$error":"#DIV/0!"},{"$error":"#DIV/0!"},null,null,0,{"$error":"#DIV/0!"},{"$error":"#DIV/0!"}]
[null,null,"Country Total",{"$f":"SUM(D40:D47)","v":0},{"$f":"SUM(E40:E47)","v":0},0,{"$error":"#DIV/0!"},{"$error":"#DIV/0!"},{"$f":"SUM(I40:I47)","v":0},{"$f":"SUM(J40:J47)","v":0},0,{"$error":"#DIV/0!"},{"$error":"#DIV/0!"},null,null,0,{"$error":"#DIV/0!"},{"$error":"#DIV/0!"},null,null,0,{"$error":"#DIV/0!"},{"$error":"#DIV/0!"},null,null,0,{"$error":"#DIV/0!"},{"$error":"#DIV/0!"}]
[]
[null,"PHD GRADUATES"]
[null,null,"RPOs in similiar fields of science",null,null,{"$f":"SUM(D51:E51)","v":0},{"$f":"D51/F51","v":{"$error":"#DIV/0!"}},{"$f":"E51/F51","v":{"$error":"#DIV/0!"}},null,null,{"$f":"SUM(I51:J51)","v":0},{"$f":"I51/K51","v":{"$error":"#DIV/0!"}},{"$f":"J51/K51","v":{"$error":"#DIV/0!"}},null,null,{"$f":"SUM(N51:O51)","v":0},{"$f":"N51/P51","v":{"$error":"#DIV/0!"}},{"$f":"O51/P51","v":{"$error":"#DIV/0!"}},null,null,{"$f":"SUM(S51:T51)","v":0},{"$f":"S51/U51","v":{"$error":"#DIV/0!"}},{"$f":"T51/U51","v":{"$error":"#DIV/0!"}},null,null,{"$f":"SUM(X51:Y51)","v":0},{"$f":"X51/Z51","v":{"$error":"#DIV/0!"}},{"$f":"Y51/Z51","v":{"$error":"#DIV/0!"}}]
[null,null,null,null,null,0,{"$error":"#DIV/0!"},{"$error":"#DIV/0!"},null,null,0,{"$error":"#DIV/0!"},{"$error":"#DIV/0!"},null,null,0,{"$error":"#DIV/0!"},{"$error":"#DIV/0!"},null,null,0,{"$error":"#DIV/0!"},{"$error":"#DIV/0!"},null,null,0,{"$error":"#DIV/0!"},{"$error":"#DIV/0!"}]
[null,null,null,null,null,0,{"$error":"#DIV/0!"},{"$error":"#DIV/0!"},null,null,0,{"$error":"#DIV/0!"},{"$error":"#DIV/0!"},null,null,0,{"$error":"#DIV/0!"},{"$error":"#DIV/0!"},null,null,0,{"$error":"#DIV/0!"},{"$error":"#DIV/0!"},null,null,0,{"$error":"#DIV/0!"},{"$error":"#DIV/0!"}]
[null,null,null,null,null,0,{"$error":"#DIV/0!"},{"$error":"#DIV/0!"},null,null,0,{"$error":"#DIV/0!"},{"$error":"#DIV/0!"},null,null,0,{"$error":"#DIV/0!"},{"$error":"#DIV/0!"},null,null,0,{"$error":"#DIV/0!"},{"$error":"#DIV/0!"},null,null,0,{"$error":"#DIV/0!"},{"$error":"#DIV/0!"}]
[null,null,null,null,null,0,{"$error":"#DIV/0!"},{"$error":"#DIV/0!"},null,null,0,{"$error":"#DIV/0!"},{"$error":"#DIV/0!"},null,null,0,{"$error":"#DIV/0!"},{"$error":"#DIV/0!"},null,null,0,{"$error":"#DIV/0!"},{"$error":"#DIV/0!"},null,null,0,{"$error":"#DIV/0!"},{"$error":"#DIV/0!"}]
[null,null,null,null,null,0,{"$error":"#DIV/0!"},{"$error":"#DIV/0!"},null,null,0,{"$error":"#DIV/0!"},{"$error":"#DIV/0!"},null,null,0,{"$error":"#DIV/0!"},{"$error":"#DIV/0!"},null,null,0,{"$error":"#DIV/0!"},{"$error":"#DIV/0!"},null,null,0,{"$error":"#DIV/0!"},{"$error":"#DIV/0!"}]
[null,null,null,null,null,0,{"$error":"#DIV/0!"},{"$error":"#DIV/0!"},null,null,0,{"$error":"#DIV/0!"},{"$error":"#DIV/0!"},null,null,0,{"$error":"#DIV/0!"},{"$error":"#DIV/0!"},null,null,0,{"$error":"#DIV/0!"},{"$error":"#DIV/0!"},null,null,0,{"$error":"#DIV/0!"},{"$error":"#DIV/0!"}]
[null,null,null,null,null,0,{"$error":"#DIV/0!"},{"$error":"#DIV/0!"},null,null,0,{"$error":"#DIV/0!"},{"$error":"#DIV/0!"},null,null,0,{"$error":"#DIV/0!"},{"$error":"#DIV/0!"},null,null,0,{"$error":"#DIV/0!"},{"$error":"#DIV/0!"},null,null,0,{"$error":"#DIV/0!"},{"$error":"#DIV/0!"}]
[null,null,"Country Total",{"$f":"SUM(D51:D58)","v":0},{"$f":"SUM(E51:E58)","v":0},{"$f":"SUM(D59:E59)","v":0},{"$f":"D59/F59","v":{"$error":"#DIV/0!"}},{"$f":"E59/F59","v":{"$error":"#DIV/0!"}},{"$f":"SUM(I51:I58)","v":0},{"$f":"SUM(J51:J58)","v":0},{"$f":"SUM(I59:J59)","v":0},{"$f":"I59/K59","v":{"$error":"#DIV/0!"}},{"$f":"J59/K59","v":{"$error":"#DIV/0!"}},null,null,{"$f":"SUM(N59:O59)","v":0},{"$f":"N59/P59","v":{"$error":"#DIV/0!"}},{"$f":"O59/P59","v":{"$error":"#DIV/0!"}},null,null,{"$f":"SUM(S59:T59)","v":0},{"$f":"S59/U59","v":{"$error":"#DIV/0!"}},{"$f":"T59/U59","v":{"$error":"#DIV/0!"}},null,null,{"$f":"SUM(X59:Y59)","v":0},{"$f":"X59/Z59","v":{"$error":"#DIV/0!"}},{"$f":"Y59/Z59","v":{"$error":"#DIV/0!"}}]

{"sheet":"T5b_PhD_Funding","index":19,"n_rows":17,"n_cols":28,"rows_kept":17,"cut":false,"hidden":false,"merged":[[9,23,9,27],[9,18,9,22],[2,0,5,2],[6,3,6,7],[9,3,9,7],[9,8,9,12],[9,13,9,17]]}
["TABLE 5B: PHD / DOCTORAL STUDENTS BY FUNDING"]
[]
["To Do: Please enter the number of PhD/Doctoral students by sex, form of funding, and year. If necessary, please add further lines (forms of PhD funding at your research performing organization) to the tables. Please also add the source of data and the cut-off date referring to the year columns. "]
[]
[]
[]
[]
["source of data: "]
["year comment:"]
[null,null,null,2014,null,null,null,null,2016,null,null,null,null,2018,null,null,null,null,2020,null,null,null,null,2022]
[null,null,null,"f","m","t","f %","m %","f","m","t","f %","m %","f","m","t","f %","m %","f","m","t","f %","m %","f","m","t","f %","m %"]
[]
[null,{"$f":"Information_RPO!A6","v":"Name of Research Performing Organization (RPO)"}]
[null,null,"employed at organisation (regular budget) ",null,null,{"$f":"SUM(D14:E14)","v":0},{"$f":"D14/F14","v":{"$error":"#DIV/0!"}},{"$f":"E14/F14","v":{"$error":"#DIV/0!"}},null,null,{"$f":"SUM(I14:J14)","v":0},{"$f":"I14/K14","v":{"$error":"#DIV/0!"}},{"$f":"J14/K14","v":{"$error":"#DIV/0!"}},null,null,{"$f":"SUM(N14:O14)","v":0},{"$f":"N14/P14","v":{"$error":"#DIV/0!"}},{"$f":"O14/P14","v":{"$error":"#DIV/0!"}},null,null,{"$f":"SUM(S14:T14)","v":0},{"$f":"S14/U14","v":{"$error":"#DIV/0!"}},{"$f":"T14/U14","v":{"$error":"#DIV/0!"}},null,null,{"$f":"SUM(X14:Y14)","v":0},{"$f":"X14/Z14","v":{"$error":"#DIV/0!"}},{"$f":"Y14/Z14","v":{"$error":"#DIV/0!"}}]
[null,null,"employed at organisation (third party project funded) ",null,null,{"$f":"SUM(D15:E15)","v":0},{"$f":"D15/F15","v":{"$error":"#DIV/0!"}},{"$f":"E15/F15","v":{"$error":"#DIV/0!"}},null,null,{"$f":"SUM(I15:J15)","v":0},{"$f":"I15/K15","v":{"$error":"#DIV/0!"}},{"$f":"J15/K15","v":{"$error":"#DIV/0!"}},null,null,{"$f":"SUM(N15:O15)","v":0},{"$f":"N15/P15","v":{"$error":"#DIV/0!"}},{"$f":"O15/P15","v":{"$error":"#DIV/0!"}},null,null,{"$f":"SUM(S15:T15)","v":0},{"$f":"S15/U15","v":{"$error":"#DIV/0!"}},{"$f":"T15/U15","v":{"$error":"#DIV/0!"}},null,null,{"$f":"SUM(X15:Y15)","v":0},{"$f":"X15/Z15","v":{"$error":"#DIV/0!"}},{"$f":"Y15/Z15","v":{"$error":"#DIV/0!"}}]
[null,null,"scholarship/fellowship ",null,null,{"$f":"SUM(D16:E16)","v":0},{"$f":"D16/F16","v":{"$error":"#DIV/0!"}},{"$f":"E16/F16","v":{"$error":"#DIV/0!"}},null,null,{"$f":"SUM(I16:J16)","v":0},{"$f":"I16/K16","v":{"$error":"#DIV/0!"}},{"$f":"J16/K16","v":{"$error":"#DIV/0!"}},null,null,{"$f":"SUM(N16:O16)","v":0},{"$f":"N16/P16","v":{"$error":"#DIV/0!"}},{"$f":"O16/P16","v":{"$error":"#DIV/0!"}},null,null,{"$f":"SUM(S16:T16)","v":0},{"$f":"S16/U16","v":{"$error":"#DIV/0!"}},{"$f":"T16/U16","v":{"$error":"#DIV/0!"}},null,null,{"$f":"SUM(X16:Y16)","v":0},{"$f":"X16/Z16","v":{"$error":"#DIV/0!"}},{"$f":"Y16/Z16","v":{"$error":"#DIV/0!"}}]
[null,null,"TOTAL",{"$f":"SUM(D14:D16)","v":0},{"$f":"SUM(E14:E16)","v":0},{"$f":"SUM(D17:E17)","v":0},{"$f":"D17/F17","v":{"$error":"#DIV/0!"}},{"$f":"E17/F17","v":{"$error":"#DIV/0!"}},{"$f":"SUM(I14:I16)","v":0},{"$f":"SUM(J14:J16)","v":0},{"$f":"SUM(I17:J17)","v":0},{"$f":"I17/K17","v":{"$error":"#DIV/0!"}},{"$f":"J17/K17","v":{"$error":"#DIV/0!"}},{"$f":"SUM(N14:N16)","v":0},{"$f":"SUM(O14:O16)","v":0},{"$f":"SUM(N17:O17)","v":0},{"$f":"N17/P17","v":{"$error":"#DIV/0!"}},{"$f":"O17/P17","v":{"$error":"#DIV/0!"}},{"$f":"SUM(S14:S16)","v":0},{"$f":"SUM(T14:T16)","v":0},{"$f":"SUM(S17:T17)","v":0},{"$f":"S17/U17","v":{"$error":"#DIV/0!"}},{"$f":"T17/U17","v":{"$error":"#DIV/0!"}},{"$f":"SUM(X14:X16)","v":0},{"$f":"SUM(Y14:Y16)","v":0},{"$f":"SUM(X17:Y17)","v":0},{"$f":"X17/Z17","v":{"$error":"#DIV/0!"}},{"$f":"Y17/Z17","v":{"$error":"#DIV/0!"}}]

{"sheet":"T6a_BaMa__FirstSemester_Enroll","index":20,"n_rows":34,"n_cols":28,"rows_kept":34,"cut":false,"hidden":false,"merged":[[8,23,8,27],[2,0,4,9],[8,3,8,7],[8,8,8,12],[8,13,8,17],[8,18,8,22]]}
["TABLE 6A: ENROLLMENT - BACHELOR AND MASTER FIRST SEMESTER STUDENTS BY FACULTY/DEPARTMENT"]
[]
["To Do: Please enter the number of bachelor and master first semester students enrolled by sex, faculty/department, and year. If necessary, please add further lines (faculties/departments) to the tables. Please also add the source of data and the cut-off date referring to the year columns."]
[]
[]
[]
["source of data:"]
["year comment:"]
[null,null,null,2014,null,null,null,null,2016,null,null,null,null,2018,null,null,null,null,2020,null,null,null,null,2022]
[null,null,null,"f","m","t","f %","m %","f","m","t","f %","m %","f","m","t","f %","m %","f","m","t","f %","m %","f","m","t","f %","m %"]
[]
[{"$f":"Information_RPO!A6","v":"Name of Research Performing Organization (RPO)"}]
[]
[null,"BACHLEOR STUDENTS"]
[null,null,{"$f":"Information_RPO!A8","v":"Faculty/Department 1"},null,null,{"$f":"SUM(D15:E15)","v":0},{"$f":"D15/F15","v":{"$error":"#DIV/0!"}},{"$f":"E15/F15","v":{"$error":"#DIV/0!"}},null,null,{"$f":"SUM(I15:J15)","v":0},{"$f":"I15/K15","v":{"$error":"#DIV/0!"}},{"$f":"J15/K15","v":{"$error":"#DIV/0!"}},null,null,{"$f":"SUM(N15:O15)","v":0},{"$f":"N15/P15","v":{"$error":"#DIV/0!"}},{"$f":"O15/P15","v":{"$error":"#DIV/0!"}},null,null,{"$f":"SUM(S15:T15)","v":0},{"$f":"S15/U15","v":{"$error":"#DIV/0!"}},{"$f":"T15/U15","v":{"$error":"#DIV/0!"}},null,null,{"$f":"SUM(X15:Y15)","v":0},{"$f":"X15/Z15","v":{"$error":"#DIV/0!"}},{"$f":"Y15/Z15","v":{"$error":"#DIV/0!"}}]
[null,null,{"$f":"Information_RPO!A9","v":"Faculty/Department 2"},null,null,0,{"$error":"#DIV/0!"},{"$error":"#DIV/0!"},null,null,0,{"$error":"#DIV/0!"},{"$error":"#DIV/0!"},null,null,0,{"$error":"#DIV/0!"},{"$error":"#DIV/0!"},null,null,0,{"$error":"#DIV/0!"},{"$error":"#DIV/0!"},null,null,0,{"$error":"#DIV/0!"},{"$error":"#DIV/0!"}]
[null,null,{"$f":"Information_RPO!A10","v":"Faculty/Department 3"},null,null,0,{"$error":"#DIV/0!"},{"$error":"#DIV/0!"},null,null,0,{"$error":"#DIV/0!"},{"$error":"#DIV/0!"},null,null,0,{"$error":"#DIV/0!"},{"$error":"#DIV/0!"},null,null,0,{"$error":"#DIV/0!"},{"$error":"#DIV/0!"},null,null,0,{"$error":"#DIV/0!"},{"$error":"#DIV/0!"}]
[null,null,{"$f":"Information_RPO!A11","v":"Faculty/Department 4"},null,null,0,{"$error":"#DIV/0!"},{"$error":"#DIV/0!"},null,null,0,{"$error":"#DIV/0!"},{"$error":"#DIV/0!"},null,null,0,{"$error":"#DIV/0!"},{"$error":"#DIV/0!"},null,null,0,{"$error":"#DIV/0!"},{"$error":"#DIV/0!"},null,null,0,{"$error":"#DIV/0!"},{"$error":"#DIV/0!"}]
[null,null,{"$f":"Information_RPO!A12","v":"Faculty/Department 5"},null,null,0,{"$error":"#DIV/0!"},{"$error":"#DIV/0!"},null,null,0,{"$error":"#DIV/0!"},{"$error":"#DIV/0!"},null,null,0,{"$error":"#DIV/0!"},{"$error":"#DIV/0!"},null,null,0,{"$error":"#DIV/0!"},{"$error":"#DIV/0!"},null,null,0,{"$error":"#DIV/0!"},{"$error":"#DIV/0!"}]
[null,null,{"$f":"Information_RPO!A13","v":"Faculty/Department 6"},null,null,0,{"$error":"#DIV/0!"},{"$error":"#DIV/0!"},null,null,0,{"$error":"#DIV/0!"},{"$error":"#DIV/0!"},null,null,0,{"$error":"#DIV/0!"},{"$error":"#DIV/0!"},null,null,0,{"$error":"#DIV/0!"},{"$error":"#DIV/0!"},null,null,0,{"$error":"#DIV/0!"},{"$error":"#DIV/0!"}]
[null,null,{"$f":"Information_RPO!A14","v":"Faculty/Department 7"},null,null,0,{"$error":"#DIV/0!"},{"$error":"#DIV/0!"},null,null,{"$f":"SUM(I21:J21)","v":0},{"$f":"I21/K21","v":{"$error":"#DIV/0!"}},{"$f":"J21/K21","v":{"$error":"#DIV/0!"}},null,null,0,{"$error":"#DIV/0!"},{"$error":"#DIV/0!"},null,null,0,{"$error":"#DIV/0!"},{"$error":"#DIV/0!"},null,null,0,{"$error":"#DIV/0!"},{"$error":"#DIV/0!"}]
[null,null,{"$f":"Information_RPO!A15","v":"Faculty/Department 8"},null,null,0,{"$f":"D22/F22","v":{"$error":"#DIV/0!"}},{"$error":"#DIV/0!"},null,null,{"$f":"SUM(I22:J22)","v":0},{"$f":"I22/K22","v":{"$error":"#DIV/0!"}},{"$f":"J22/K22","v":{"$error":"#DIV/0!"}},null,null,null,{"$error":"#DIV/0!"},{"$error":"#DIV/0!"},null,null,null,{"$error":"#DIV/0!"},{"$error":"#DIV/0!"},null,null,null,{"$error":"#DIV/0!"},{"$error":"#DIV/0!"}]
[null,null,"TOTAL",{"$f":"SUM(D15:D21)","v":0},{"$f":"SUM(E15:E21)","v":0},{"$f":"SUM(D23:E23)","v":0},{"$error":"#DIV/0!"},{"$error":"#DIV/0!"},{"$f":"SUM(I15:I21)","v":0},{"$f":"SUM(J15:J21)","v":0},0,{"$error":"#DIV/0!"},{"$error":"#DIV/0!"},{"$f":"SUM(N15:N21)","v":0},{"$f":"SUM(O15:O21)","v":0},0,{"$error":"#DIV/0!"},{"$error":"#DIV/0!"},{"$f":"SUM(S15:S21)","v":0},{"$f":"SUM(T15:T21)","v":0},0,{"$error":"#DIV/0!"},{"$error":"#DIV/0!"},{"$f":"SUM(X15:X21)","v":0},{"$f":"SUM(Y15:Y21)","v":0},{"$f":"SUM(X23:Y23)","v":0},{"$error":"#DIV/0!"},{"$error":"#DIV/0!"}]
[]
[null,"MASTER STUDENTS"]
[null,null,{"$f":"Information_RPO!A8","v":"Faculty/Department 1"},null,null,{"$f":"SUM(D26:E26)","v":0},{"$f":"D26/F26","v":{"$error":"#DIV/0!"}},{"$f":"E26/F26","v":{"$error":"#DIV/0!"}},null,null,{"$f":"SUM(I26:J26)","v":0},{"$f":"I26/K26","v":{"$error":"#DIV/0!"}},{"$f":"J26/K26","v":{"$error":"#DIV/0!"}},null,null,{"$f":"SUM(N26:O26)","v":0},{"$f":"N26/P26","v":{"$error":"#DIV/0!"}},{"$f":"O26/P26","v":{"$error":"#DIV/0!"}},null,null,{"$f":"SUM(S26:T26)","v":0},{"$f":"S26/U26","v":{"$error":"#DIV/0!"}},{"$f":"T26/U26","v":{"$error":"#DIV/0!"}},null,null,{"$f":"SUM(X26:Y26)","v":0},{"$f":"X26/Z26","v":{"$error":"#DIV/0!"}},{"$f":"Y26/Z26","v":{"$error":"#DIV/0!"}}]
[null,null,{"$f":"Information_RPO!A9","v":"Faculty/Department 2"},null,null,0,{"$error":"#DIV/0!"},{"$error":"#DIV/0!"},null,null,0,{"$error":"#DIV/0!"},{"$error":"#DIV/0!"},null,null,0,{"$error":"#DIV/0!"},{"$error":"#DIV/0!"},null,null,0,{"$error":"#DIV/0!"},{"$error":"#DIV/0!"},null,null,0,{"$error":"#DIV/0!"},{"$error":"#DIV/0!"}]
[null,null,{"$f":"Information_RPO!A10","v":"Faculty/Department 3"},null,null,0,{"$error":"#DIV/0!"},{"$error":"#DIV/0!"},null,null,0,{"$error":"#DIV/0!"},{"$error":"#DIV/0!"},null,null,0,{"$error":"#DIV/0!"},{"$error":"#DIV/0!"},null,null,0,{"$error":"#DIV/0!"},{"$error":"#DIV/0!"},null,null,0,{"$error":"#DIV/0!"},{"$error":"#DIV/0!"}]
[null,null,{"$f":"Information_RPO!A11","v":"Faculty/Department 4"},null,null,0,{"$error":"#DIV/0!"},{"$error":"#DIV/0!"},null,null,0,{"$error":"#DIV/0!"},{"$error":"#DIV/0!"},null,null,0,{"$error":"#DIV/0!"},{"$error":"#DIV/0!"},null,null,0,{"$error":"#DIV/0!"},{"$error":"#DIV/0!"},null,null,0,{"$error":"#DIV/0!"},{"$error":"#DIV/0!"}]
[null,null,{"$f":"Information_RPO!A12","v":"Faculty/Department 5"},null,null,0,{"$error":"#DIV/0!"},{"$error":"#DIV/0!"},null,null,0,{"$error":"#DIV/0!"},{"$error":"#DIV/0!"},null,null,0,{"$error":"#DIV/0!"},{"$error":"#DIV/0!"},null,null,0,{"$error":"#DIV/0!"},{"$error":"#DIV/0!"},null,null,0,{"$error":"#DIV/0!"},{"$error":"#DIV/0!"}]
[null,null,{"$f":"Information_RPO!A13","v":"Faculty/Department 6"},null,null,0,{"$error":"#DIV/0!"},{"$error":"#DIV/0!"},null,null,0,{"$error":"#DIV/0!"},{"$error":"#DIV/0!"},null,null,0,{"$error":"#DIV/0!"},{"$error":"#DIV/0!"},null,null,0,{"$error":"#DIV/0!"},{"$error":"#DIV/0!"},null,null,0,{"$error":"#DIV/0!"},{"$error":"#DIV/0!"}]
[null,null,{"$f":"Information_RPO!A14","v":"Faculty/Department 7"},null,null,0,{"$error":"#DIV/0!"},{"$error":"#DIV/0!"},null,null,0,{"$error":"#DIV/0!"},{"$error":"#DIV/0!"},null,null,0,{"$error":"#DIV/0!"},{"$error":"#DIV/0!"},null,null,0,{"$error":"#DIV/0!"},{"$error":"#DIV/0!"},null,null,0,{"$error":"#DIV/0!"},{"$error":"#DIV/0!"}]
[null,null,{"$f":"Information_RPO!A15","v":"Faculty/Department 8"},null,null,0,{"$error":"#DIV/0!"},{"$error":"#DIV/0!"},null,null,0,{"$error":"#DIV/0!"},{"$error":"#DIV/0!"},null,null,null,{"$error":"#DIV/0!"},{"$error":"#DIV/0!"},null,null,null,{"$error":"#DIV/0!"},{"$error":"#DIV/0!"},null,null,null,{"$error":"#DIV/0!"},{"$error":"#DIV/0!"}]
[null,null,"TOTAL",{"$f":"SUM(D26:D32)","v":0},{"$f":"SUM(E26:E32)","v":0},{"$f":"SUM(D34:E34)","v":0},{"$error":"#DIV/0!"},{"$error":"#DIV/0!"},{"$f":"SUM(I26:I32)","v":0},{"$f":"SUM(J26:J32)","v":0},0,{"$error":"#DIV/0!"},{"$error":"#DIV/0!"},{"$f":"SUM(N26:N32)","v":0},{"$f":"SUM(O26:O32)","v":0},0,{"$error":"#DIV/0!"},{"$error":"#DIV/0!"},{"$f":"SUM(S26:S32)","v":0},{"$f":"SUM(T26:T32)","v":0},0,{"$error":"#DIV/0!"},{"$error":"#DIV/0!"},{"$f":"SUM(X26:X32)","v":0},{"$f":"SUM(Y26:Y32)","v":0},{"$f":"SUM(X34:Y34)","v":0},{"$error":"#DIV/0!"},{"$error":"#DIV/0!"}]

{"sheet":"T6b_BaMa_Enrollment","index":21,"n_rows":60,"n_cols":28,"rows_kept":60,"cut":false,"hidden":false,"merged":[[2,0,6,9],[10,23,10,27],[10,3,10,7],[10,8,10,12],[10,13,10,17],[10,18,10,22]]}
["TABLE 6B: ENROLLMENT - BACHELOR AND MASTER STUDENTS BY FACULTY/DEPARTMENT"]
[]
["To Do: Please enter the number of bachelor and master students enrolled by sex, faculty/department, and year at organisational and national level. National level refers to other research performing organizations in similar fields of science in your country, i.e. replace \"RPOs in similiar fields of science\" (marked in red) with different fields of science similiar to your research perfoming organization. If necessary, please add further lines (faculties/departments) to the tables. Please also add the source of data and the cut-off date referring to the year columns."]
[]
[]
[]
[]
[]
["source of data:"]
["year comment:"]
[null,null,null,2014,null,null,null,null,2016,null,null,null,null,2018,null,null,null,null,2020,null,null,null,null,2022]
[null,null,null,"f","m","t","f %","m %","f","m","t","f %","m %","f","m","t","f %","m %","f","m","t","f %","m %","f","m","t","f %","m %"]
[]
[{"$f":"Information_RPO!A6","v":"Name of Research Performing Organization (RPO)"}]
[]
[null,"BACHLEOR STUDENTS"]
[null,null,{"$f":"Information_RPO!A8","v":"Faculty/Department 1"},null,null,{"$f":"SUM(D17:E17)","v":0},{"$f":"D17/F17","v":{"$error":"#DIV/0!"}},{"$f":"E17/F17","v":{"$error":"#DIV/0!"}},null,null,{"$f":"SUM(I17:J17)","v":0},{"$f":"I17/K17","v":{"$error":"#DIV/0!"}},{"$f":"J17/K17","v":{"$error":"#DIV/0!"}},null,null,{"$f":"SUM(N17:O17)","v":0},{"$f":"N17/P17","v":{"$error":"#DIV/0!"}},{"$f":"O17/P17","v":{"$error":"#DIV/0!"}},null,null,{"$f":"SUM(S17:T17)","v":0},{"$f":"S17/U17","v":{"$error":"#DIV/0!"}},{"$f":"T17/U17","v":{"$error":"#DIV/0!"}},null,null,{"$f":"SUM(X17:Y17)","v":0},{"$f":"X17/Z17","v":{"$error":"#DIV/0!"}},{"$f":"Y17/Z17","v":{"$error":"#DIV/0!"}}]
[null,null,{"$f":"Information_RPO!A9","v":"Faculty/Department 2"},null,null,0,{"$error":"#DIV/0!"},{"$error":"#DIV/0!"},null,null,0,{"$error":"#DIV/0!"},{"$error":"#DIV/0!"},null,null,0,{"$error":"#DIV/0!"},{"$error":"#DIV/0!"},null,null,0,{"$error":"#DIV/0!"},{"$error":"#DIV/0!"},null,null,0,{"$error":"#DIV/0!"},{"$error":"#DIV/0!"}]
[null,null,{"$f":"Information_RPO!A10","v":"Faculty/Department 3"},null,null,0,{"$error":"#DIV/0!"},{"$error":"#DIV/0!"},null,null,0,{"$error":"#DIV/0!"},{"$error":"#DIV/0!"},null,null,0,{"$error":"#DIV/0!"},{"$error":"#DIV/0!"},null,null,0,{"$error":"#DIV/0!"},{"$error":"#DIV/0!"},null,null,0,{"$error":"#DIV/0!"},{"$error":"#DIV/0!"}]
[null,null,{"$f":"Information_RPO!A11","v":"Faculty/Department 4"},null,null,0,{"$error":"#DIV/0!"},{"$error":"#DIV/0!"},null,null,0,{"$error":"#DIV/0!"},{"$error":"#DIV/0!"},null,null,0,{"$error":"#DIV/0!"},{"$error":"#DIV/0!"},null,null,0,{"$error":"#DIV/0!"},{"$error":"#DIV/0!"},null,null,0,{"$error":"#DIV/0!"},{"$error":"#DIV/0!"}]
[null,null,{"$f":"Information_RPO!A12","v":"Faculty/Department 5"},null,null,0,{"$error":"#DIV/0!"},{"$error":"#DIV/0!"},null,null,0,{"$error":"#DIV/0!"},{"$error":"#DIV/0!"},null,null,0,{"$error":"#DIV/0!"},{"$error":"#DIV/0!"},null,null,0,{"$error":"#DIV/0!"},{"$error":"#DIV/0!"},null,null,0,{"$error":"#DIV/0!"},{"$error":"#DIV/0!"}]
[null,null,{"$f":"Information_RPO!A13","v":"Faculty/Department 6"},null,null,0,{"$error":"#DIV/0!"},{"$error":"#DIV/0!"},null,null,0,{"$error":"#DIV/0!"},{"$error":"#DIV/0!"},null,null,0,{"$error":"#DIV/0!"},{"$error":"#DIV/0!"},null,null,0,{"$error":"#DIV/0!"},{"$error":"#DIV/0!"},null,null,0,{"$error":"#DIV/0!"},{"$error":"#DIV/0!"}]
[null,null,{"$f":"Information_RPO!A14","v":"Faculty/Department 7"},null,null,0,{"$error":"#DIV/0!"},{"$error":"#DIV/0!"},null,null,{"$f":"SUM(I23:J23)","v":0},{"$f":"I23/K23","v":{"$error":"#DIV/0!"}},{"$f":"J23/K23","v":{"$error":"#DIV/0!"}},null,null,0,{"$error":"#DIV/0!"},{"$error":"#DIV/0!"},null,null,0,{"$error":"#DIV/0!"},{"$error":"#DIV/0!"},null,null,0,{"$error":"#DIV/0!"},{"$error":"#DIV/0!"}]
[null,null,{"$f":"Information_RPO!A15","v":"Faculty/Department 8"},null,null,{"$f":"SUM(D24:E24)","v":0},{"$f":"D24/F24","v":{"$error":"#DIV/0!"}},{"$f":"E24/F24","v":{"$error":"#DIV/0!"}},null,null,{"$f":"SUM(I24:J24)","v":0},{"$f":"I24/K24","v":{"$error":"#DIV/0!"}},{"$f":"J24/K24","v":{"$error":"#DIV/0!"}},null,null,null,{"$f":"N24/P24","v":{"$error":"#DIV/0!"}},{"$f":"O24/P24","v":{"$error":"#DIV/0!"}},null,null,null,{"$f":"S24/U24","v":{"$error":"#DIV/0!"}},{"$f":"T24/U24","v":{"$error":"#DIV/0!"}},null,null,null,{"$error":"#DIV/0!"},{"$error":"#DIV/0!"}]
[null,null,"TOTAL",{"$f":"SUM(D17:D23)","v":0},{"$f":"SUM(E17:E23)","v":0},{"$f":"SUM(D25:E25)","v":0},{"$error":"#DIV/0!"},{"$error":"#DIV/0!"},{"$f":"SUM(I17:I23)","v":0},{"$f":"SUM(J17:J23)","v":0},0,{"$error":"#DIV/0!"},{"$error":"#DIV/0!"},{"$f":"SUM(N17:N23)","v":0},{"$f":"SUM(O17:O23)","v":0},0,{"$error":"#DIV/0!"},{"$error":"#DIV/0!"},{"$f":"SUM(S17:S23)","v":0},{"$f":"SUM(T17:T23)","v":0},0,{"$error":"#DIV/0!"},{"$error":"#DIV/0!"},{"$f":"SUM(X17:X23)","v":0},{"$f":"SUM(Y17:Y23)","v":0},{"$f":"SUM(X25:Y25)","v":0},{"$error":"#DIV/0!"},{"$error":"#DIV/0!"}]
[]
[null,"MASTER STUDENTS"]
[null,null,{"$f":"Information_RPO!A8","v":"Faculty/Department 1"},null,null,{"$f":"SUM(D28:E28)","v":0},{"$f":"D28/F28","v":{"$error":"#DIV/0!"}},{"$f":"E28/F28","v":{"$error":"#DIV/0!"}},null,null,{"$f":"SUM(I28:J28)","v":0},{"$f":"I28/K28","v":{"$error":"#DIV/0!"}},{"$f":"J28/K28","v":{"$error":"#DIV/0!"}},null,null,{"$f":"SUM(N28:O28)","v":0},{"$f":"N28/P28","v":{"$error":"#DIV/0!"}},{"$f":"O28/P28","v":{"$error":"#DIV/0!"}},null,null,{"$f":"SUM(S28:T28)","v":0},{"$f":"S28/U28","v":{"$error":"#DIV/0!"}},{"$f":"T28/U28","v":{"$error":"#DIV/0!"}},null,null,{"$f":"SUM(X28:Y28)","v":0},{"$f":"X28/Z28","v":{"$error":"#DIV/0!"}},{"$f":"Y28/Z28","v":{"$error":"#DIV/0!"}}]
[null,null,{"$f":"Information_RPO!A9","v":"Faculty/Department 2"},null,null,0,{"$error":"#DIV/0!"},{"$error":"#DIV/0!"},null,null,0,{"$error":"#DIV/0!"},{"$error":"#DIV/0!"},null,null,0,{"$error":"#DIV/0!"},{"$error":"#DIV/0!"},null,null,0,{"$error":"#DIV/0!"},{"$error":"#DIV/0!"},null,null,0,{"$error":"#DIV/0!"},{"$error":"#DIV/0!"}]
[null,null,{"$f":"Information_RPO!A10","v":"Faculty/Department 3"},null,null,0,{"$error":"#DIV/0!"},{"$error":"#DIV/0!"},null,null,0,{"$error":"#DIV/0!"},{"$error":"#DIV/0!"},null,null,0,{"$error":"#DIV/0!"},{"$error":"#DIV/0!"},null,null,0,{"$error":"#DIV/0!"},{"$error":"#DIV/0!"},null,null,0,{"$error":"#DIV/0!"},{"$error":"#DIV/0!"}]
[null,null,{"$f":"Information_RPO!A11","v":"Faculty/Department 4"},null,null,0,{"$error":"#DIV/0!"},{"$error":"#DIV/0!"},null,null,0,{"$error":"#DIV/0!"},{"$error":"#DIV/0!"},null,null,0,{"$error":"#DIV/0!"},{"$error":"#DIV/0!"},null,null,0,{"$error":"#DIV/0!"},{"$error":"#DIV/0!"},null,null,0,{"$error":"#DIV/0!"},{"$error":"#DIV/0!"}]
[null,null,{"$f":"Information_RPO!A12","v":"Faculty/Department 5"},null,null,0,{"$error":"#DIV/0!"},{"$error":"#DIV/0!"},null,null,0,{"$error":"#DIV/0!"},{"$error":"#DIV/0!"},null,null,0,{"$error":"#DIV/0!"},{"$error":"#DIV/0!"},null,null,0,{"$error":"#DIV/0!"},{"$error":"#DIV/0!"},null,null,0,{"$error":"#DIV/0!"},{"$error":"#DIV/0!"}]
[null,null,{"$f":"Information_RPO!A13","v":"Faculty/Department 6"},null,null,0,{"$error":"#DIV/0!"},{"$error":"#DIV/0!"},null,null,0,{"$error":"#DIV/0!"},{"$error":"#DIV/0!"},null,null,0,{"$error":"#DIV/0!"},{"$error":"#DIV/0!"},null,null,0,{"$error":"#DIV/0!"},{"$error":"#DIV/0!"},null,null,0,{"$error":"#DIV/0!"},{"$error":"#DIV/0!"}]
[null,null,{"$f":"Information_RPO!A14","v":"Faculty/Department 7"},null,null,0,{"$error":"#DIV/0!"},{"$error":"#DIV/0!"},null,null,0,{"$error":"#DIV/0!"},{"$error":"#DIV/0!"},null,null,0,{"$error":"#DIV/0!"},{"$error":"#DIV/0!"},null,null,0,{"$error":"#DIV/0!"},{"$error":"#DIV/0!"},null,null,0,{"$error":"#DIV/0!"},{"$error":"#DIV/0!"}]
[null,null,{"$f":"Information_RPO!A15","v":"Faculty/Department 8"},null,null,{"$f":"SUM(D35:E35)","v":0},{"$f":"D35/F35","v":{"$error":"#DIV/0!"}},{"$f":"E35/F35","v":{"$error":"#DIV/0!"}},null,null,{"$f":"SUM(I35:J35)","v":0},{"$f":"I35/K35","v":{"$error":"#DIV/0!"}},{"$f":"J35/K35","v":{"$error":"#DIV/0!"}},null,null,null,{"$f":"N35/P35","v":{"$error":"#DIV/0!"}},{"$f":"O35/P35","v":{"$error":"#DIV/0!"}},null,null,null,{"$f":"S35/U35","v":{"$error":"#DIV/0!"}},{"$f":"T35/U35","v":{"$error":"#DIV/0!"}},null,null,null,{"$error":"#DIV/0!"},{"$error":"#DIV/0!"}]
[null,null,"TOTAL",{"$f":"SUM(D28:D34)","v":0},{"$f":"SUM(E28:E34)","v":0},{"$f":"SUM(D36:E36)","v":0},{"$error":"#DIV/0!"},{"$error":"#DIV/0!"},{"$f":"SUM(I28:I34)","v":0},{"$f":"SUM(J28:J34)","v":0},0,{"$error":"#DIV/0!"},{"$error":"#DIV/0!"},{"$f":"SUM(N28:N34)","v":0},{"$f":"SUM(O28:O34)","v":0},0,{"$error":"#DIV/0!"},{"$error":"#DIV/0!"},{"$f":"SUM(S28:S34)","v":0},{"$f":"SUM(T28:T34)","v":0},0,{"$error":"#DIV/0!"},{"$error":"#DIV/0!"},{"$f":"SUM(X28:X34)","v":0},{"$f":"SUM(Y28:Y34)","v":0},{"$f":"SUM(X36:Y36)","v":0},{"$error":"#DIV/0!"},{"$error":"#DIV/0!"}]
[]
["COUNTRY"]
[]
[null,"BACHELOR STUDENTS"]
[null,null,"RPOs in similiar fields of science",null,null,{"$f":"SUM(D41:E41)","v":0},{"$f":"D41/F41","v":{"$error":"#DIV/0!"}},{"$f":"E41/F41","v":{"$error":"#DIV/0!"}},null,null,{"$f":"SUM(I41:J41)","v":0},{"$f":"I41/K41","v":{"$error":"#DIV/0!"}},{"$f":"J41/K41","v":{"$error":"#DIV/0!"}},null,null,{"$f":"SUM(N41:O41)","v":0},{"$f":"N41/P41","v":{"$error":"#DIV/0!"}},{"$f":"O41/P41","v":{"$error":"#DIV/0!"}},null,null,{"$f":"SUM(S41:T41)","v":0},{"$f":"S41/U41","v":{"$error":"#DIV/0!"}},{"$f":"T41/U41","v":{"$error":"#DIV/0!"}},null,null,{"$f":"SUM(X41:Y41)","v":0},{"$f":"X41/Z41","v":{"$error":"#DIV/0!"}},{"$f":"Y41/Z41","v":{"$error":"#DIV/0!"}}]
[null,null,null,null,null,0,{"$error":"#DIV/0!"},{"$error":"#DIV/0!"},null,null,0,{"$error":"#DIV/0!"},{"$error":"#DIV/0!"},null,null,0,{"$error":"#DIV/0!"},{"$error":"#DIV/0!"},null,null,0,{"$error":"#DIV/0!"},{"$error":"#DIV/0!"},null,null,0,{"$error":"#DIV/0!"},{"$error":"#DIV/0!"}]
[null,null,null,null,null,0,{"$error":"#DIV/0!"},{"$error":"#DIV/0!"},null,null,0,{"$error":"#DIV/0!"},{"$error":"#DIV/0!"},null,null,0,{"$error":"#DIV/0!"},{"$error":"#DIV/0!"},null,null,0,{"$error":"#DIV/0!"},{"$error":"#DIV/0!"},null,null,0,{"$error":"#DIV/0!"},{"$error":"#DIV/0!"}]
[null,null,null,null,null,0,{"$error":"#DIV/0!"},{"$error":"#DIV/0!"},null,null,0,{"$error":"#DIV/0!"},{"$error":"#DIV/0!"},null,null,0,{"$error":"#DIV/0!"},{"$error":"#DIV/0!"},null,null,0,{"$error":"#DIV/0!"},{"$error":"#DIV/0!"},null,null,0,{"$error":"#DIV/0!"},{"$error":"#DIV/0!"}]
[null,null,null,null,null,0,{"$error":"#DIV/0!"},{"$error":"#DIV/0!"},null,null,0,{"$error":"#DIV/0!"},{"$error":"#DIV/0!"},null,null,0,{"$error":"#DIV/0!"},{"$error":"#DIV/0!"},null,null,0,{"$error":"#DIV/0!"},{"$error":"#DIV/0!"},null,null,0,{"$error":"#DIV/0!"},{"$error":"#DIV/0!"}]
[null,null,null,null,null,0,{"$error":"#DIV/0!"},{"$error":"#DIV/0!"},null,null,0,{"$error":"#DIV/0!"},{"$error":"#DIV/0!"},null,null,0,{"$error":"#DIV/0!"},{"$error":"#DIV/0!"},null,null,0,{"$error":"#DIV/0!"},{"$error":"#DIV/0!"},null,null,0,{"$error":"#DIV/0!"},{"$error":"#DIV/0!"}]
[null,null,null,null,null,0,{"$error":"#DIV/0!"},{"$error":"#DIV/0!"},null,null,0,{"$error":"#DIV/0!"},{"$error":"#DIV/0!"},null,null,0,{"$error":"#DIV/0!"},{"$error":"#DIV/0!"},null,null,0,{"$error":"#DIV/0!"},{"$error":"#DIV/0!"},null,null,0,{"$error":"#DIV/0!"},{"$error":"#DIV/0!"}]
[null,null,null,null,null,0,{"$error":"#DIV/0!"},{"$error":"#DIV/0!"},null,null,0,{"$error":"#DIV/0!"},{"$error":"#DIV/0!"},null,null,0,{"$error":"#DIV/0!"},{"$error":"#DIV/0!"},null,null,0,{"$error":"#DIV/0!"},{"$error":"#DIV/0!"},null,null,0,{"$error":"#DIV/0!"},{"$error":"#DIV/0!"}]
[null,null,"Country Total",{"$f":"SUM(D41:D48)","v":0},{"$f":"SUM(E41:E48)","v":0},0,{"$error":"#DIV/0!"},{"$error":"#DIV/0!"},{"$f":"SUM(I41:I48)","v":0},{"$f":"SUM(J41:J48)","v":0},0,{"$error":"#DIV/0!"},{"$error":"#DIV/0!"},null,null,0,{"$error":"#DIV/0!"},{"$error":"#DIV/0!"},null,null,0,{"$error":"#DIV/0!"},{"$error":"#DIV/0!"},null,null,0,{"$error":"#DIV/0!"},{"$error":"#DIV/0!"}]
[]
[null,"MASTER STUDENTS"]
[null,null,"RPOs in similiar fields of science",null,null,{"$f":"SUM(D52:E52)","v":0},{"$f":"D52/F52","v":{"$error":"#DIV/0!"}},{"$f":"E52/F52","v":{"$error":"#DIV/0!"}},null,null,{"$f":"SUM(I52:J52)","v":0},{"$f":"I52/K52","v":{"$error":"#DIV/0!"}},{"$f":"J52/K52","v":{"$error":"#DIV/0!"}},null,null,{"$f":"SUM(N52:O52)","v":0},{"$f":"N52/P52","v":{"$error":"#DIV/0!"}},{"$f":"O52/P52","v":{"$error":"#DIV/0!"}},null,null,{"$f":"SUM(S52:T52)","v":0},{"$f":"S52/U52","v":{"$error":"#DIV/0!"}},{"$f":"T52/U52","v":{"$error":"#DIV/0!"}},null,null,{"$f":"SUM(X52:Y52)","v":0},{"$f":"X52/Z52","v":{"$error":"#DIV/0!"}},{"$f":"Y52/Z52","v":{"$error":"#DIV/0!"}}]
[null,null,null,null,null,0,{"$error":"#DIV/0!"},{"$error":"#DIV/0!"},null,null,0,{"$error":"#DIV/0!"},{"$error":"#DIV/0!"},null,null,0,{"$error":"#DIV/0!"},{"$error":"#DIV/0!"},null,null,0,{"$error":"#DIV/0!"},{"$error":"#DIV/0!"},null,null,0,{"$error":"#DIV/0!"},{"$error":"#DIV/0!"}]
[null,null,null,null,null,0,{"$error":"#DIV/0!"},{"$error":"#DIV/0!"},null,null,0,{"$error":"#DIV/0!"},{"$error":"#DIV/0!"},null,null,0,{"$error":"#DIV/0!"},{"$error":"#DIV/0!"},null,null,0,{"$error":"#DIV/0!"},{"$error":"#DIV/0!"},null,null,0,{"$error":"#DIV/0!"},{"$error":"#DIV/0!"}]
[null,null,null,null,null,0,{"$error":"#DIV/0!"},{"$error":"#DIV/0!"},null,null,0,{"$error":"#DIV/0!"},{"$error":"#DIV/0!"},null,null,0,{"$error":"#DIV/0!"},{"$error":"#DIV/0!"},null,null,0,{"$error":"#DIV/0!"},{"$error":"#DIV/0!"},null,null,0,{"$error":"#DIV/0!"},{"$error":"#DIV/0!"}]
[null,null,null,null,null,0,{"$error":"#DIV/0!"},{"$error":"#DIV/0!"},null,null,0,{"$error":"#DIV/0!"},{"$error":"#DIV/0!"},null,null,0,{"$error":"#DIV/0!"},{"$error":"#DIV/0!"},null,null,0,{"$error":"#DIV/0!"},{"$error":"#DIV/0!"},null,null,0,{"$error":"#DIV/0!"},{"$error":"#DIV/0!"}]
[null,null,null,null,null,0,{"$error":"#DIV/0!"},{"$error":"#DIV/0!"},null,null,0,{"$error":"#DIV/0!"},{"$error":"#DIV/0!"},null,null,0,{"$error":"#DIV/0!"},{"$error":"#DIV/0!"},null,null,0,{"$error":"#DIV/0!"},{"$error":"#DIV/0!"},null,null,0,{"$error":"#DIV/0!"},{"$error":"#DIV/0!"}]
[null,null,null,null,null,0,{"$error":"#DIV/0!"},{"$error":"#DIV/0!"},null,null,0,{"$error":"#DIV/0!"},{"$error":"#DIV/0!"},null,null,0,{"$error":"#DIV/0!"},{"$error":"#DIV/0!"},null,null,0,{"$error":"#DIV/0!"},{"$error":"#DIV/0!"},null,null,0,{"$error":"#DIV/0!"},{"$error":"#DIV/0!"}]
[null,null,null,null,null,0,{"$error":"#DIV/0!"},{"$error":"#DIV/0!"},null,null,0,{"$error":"#DIV/0!"},{"$error":"#DIV/0!"},null,null,0,{"$error":"#DIV/0!"},{"$error":"#DIV/0!"},null,null,0,{"$error":"#DIV/0!"},{"$error":"#DIV/0!"},null,null,0,{"$error":"#DIV/0!"},{"$error":"#DIV/0!"}]
[null,null,"Country Total",{"$f":"SUM(D52:D59)","v":0},{"$f":"SUM(E52:E59)","v":0},{"$f":"SUM(D60:E60)","v":0},{"$f":"D60/F60","v":{"$error":"#DIV/0!"}},{"$f":"E60/F60","v":{"$error":"#DIV/0!"}},{"$f":"SUM(I52:I59)","v":0},{"$f":"SUM(J52:J59)","v":0},{"$f":"SUM(I60:J60)","v":0},{"$f":"I60/K60","v":{"$error":"#DIV/0!"}},{"$f":"J60/K60","v":{"$error":"#DIV/0!"}},null,null,{"$f":"SUM(N60:O60)","v":0},{"$f":"N60/P60","v":{"$error":"#DIV/0!"}},{"$f":"O60/P60","v":{"$error":"#DIV/0!"}},null,null,{"$f":"SUM(S60:T60)","v":0},{"$f":"S60/U60","v":{"$error":"#DIV/0!"}},{"$f":"T60/U60","v":{"$error":"#DIV/0!"}},null,null,{"$f":"SUM(X60:Y60)","v":0},{"$f":"X60/Z60","v":{"$error":"#DIV/0!"}},{"$f":"Y60/Z60","v":{"$error":"#DIV/0!"}}]

{"sheet":"T6c_BaMa_Grads","index":22,"n_rows":60,"n_cols":28,"rows_kept":60,"cut":false,"hidden":false,"merged":[[10,23,10,27],[2,0,6,9],[10,3,10,7],[10,8,10,12],[10,13,10,17],[10,18,10,22]]}
["TABLE 6C: BACHELOR AND MASTER GRADUATES BY FACULTY/DEPARTMENT"]
[]
["To Do: Please enter the number of bachelor and master graduates by sex, faculty/department, and year at organisational and national level. National level refers to other research performing organizations in similar fields of science in your country, i.e. replace \"RPOs in similiar fields of science\" (marked in red) with different fields of science similiar to your research perfoming organization. If necessary, please add further lines (faculties/departments) to the tables. Please also add the source of data and the cut-off date referring to the year columns."]
[]
[]
[]
[]
[]
["source of data:"]
["year comment:"]
[null,null,null,2014,null,null,null,null,2016,null,null,null,null,2018,null,null,null,null,2020,null,null,null,null,2022]
[null,null,null,"f","m","t","f %","m %","f","m","t","f %","m %","f","m","t","f %","m %","f","m","t","f %","m %","f","m","t","f %","m %"]
[]
[{"$f":"Information_RPO!A6","v":"Name of Research Performing Organization (RPO)"}]
[]
[null,"BACHLEOR GRADUATES"]
[null,null,{"$f":"Information_RPO!A8","v":"Faculty/Department 1"},null,null,{"$f":"SUM(D17:E17)","v":0},{"$f":"D17/F17","v":{"$error":"#DIV/0!"}},{"$f":"E17/F17","v":{"$error":"#DIV/0!"}},null,null,{"$f":"SUM(I17:J17)","v":0},{"$f":"I17/K17","v":{"$error":"#DIV/0!"}},{"$f":"J17/K17","v":{"$error":"#DIV/0!"}},null,null,{"$f":"SUM(N17:O17)","v":0},{"$f":"N17/P17","v":{"$error":"#DIV/0!"}},{"$f":"O17/P17","v":{"$error":"#DIV/0!"}},null,null,{"$f":"SUM(S17:T17)","v":0},{"$f":"S17/U17","v":{"$error":"#DIV/0!"}},{"$f":"T17/U17","v":{"$error":"#DIV/0!"}},null,null,{"$f":"SUM(X17:Y17)","v":0},{"$f":"X17/Z17","v":{"$error":"#DIV/0!"}},{"$f":"Y17/Z17","v":{"$error":"#DIV/0!"}}]
[null,null,{"$f":"Information_RPO!A9","v":"Faculty/Department 2"},null,null,0,{"$error":"#DIV/0!"},{"$error":"#DIV/0!"},null,null,0,{"$error":"#DIV/0!"},{"$error":"#DIV/0!"},null,null,0,{"$error":"#DIV/0!"},{"$error":"#DIV/0!"},null,null,0,{"$error":"#DIV/0!"},{"$error":"#DIV/0!"},null,null,0,{"$error":"#DIV/0!"},{"$error":"#DIV/0!"}]
[null,null,{"$f":"Information_RPO!A10","v":"Faculty/Department 3"},null,null,0,{"$error":"#DIV/0!"},{"$error":"#DIV/0!"},null,null,0,{"$error":"#DIV/0!"},{"$error":"#DIV/0!"},null,null,0,{"$error":"#DIV/0!"},{"$error":"#DIV/0!"},null,null,0,{"$error":"#DIV/0!"},{"$error":"#DIV/0!"},null,null,0,{"$error":"#DIV/0!"},{"$error":"#DIV/0!"}]
[null,null,{"$f":"Information_RPO!A11","v":"Faculty/Department 4"},null,null,0,{"$error":"#DIV/0!"},{"$error":"#DIV/0!"},null,null,0,{"$error":"#DIV/0!"},{"$error":"#DIV/0!"},null,null,0,{"$error":"#DIV/0!"},{"$error":"#DIV/0!"},null,null,0,{"$error":"#DIV/0!"},{"$error":"#DIV/0!"},null,null,0,{"$error":"#DIV/0!"},{"$error":"#DIV/0!"}]
[null,null,{"$f":"Information_RPO!A12","v":"Faculty/Department 5"},null,null,0,{"$error":"#DIV/0!"},{"$error":"#DIV/0!"},null,null,0,{"$error":"#DIV/0!"},{"$error":"#DIV/0!"},null,null,0,{"$error":"#DIV/0!"},{"$error":"#DIV/0!"},null,null,0,{"$error":"#DIV/0!"},{"$error":"#DIV/0!"},null,null,0,{"$error":"#DIV/0!"},{"$error":"#DIV/0!"}]
[null,null,{"$f":"Information_RPO!A13","v":"Faculty/Department 6"},null,null,0,{"$error":"#DIV/0!"},{"$error":"#DIV/0!"},null,null,0,{"$error":"#DIV/0!"},{"$error":"#DIV/0!"},null,null,0,{"$error":"#DIV/0!"},{"$error":"#DIV/0!"},null,null,0,{"$error":"#DIV/0!"},{"$error":"#DIV/0!"},null,null,0,{"$error":"#DIV/0!"},{"$error":"#DIV/0!"}]
[null,null,{"$f":"Information_RPO!A14","v":"Faculty/Department 7"},null,null,0,{"$error":"#DIV/0!"},{"$error":"#DIV/0!"},null,null,{"$f":"SUM(I23:J23)","v":0},{"$f":"I23/K23","v":{"$error":"#DIV/0!"}},{"$f":"J23/K23","v":{"$error":"#DIV/0!"}},null,null,0,{"$error":"#DIV/0!"},{"$error":"#DIV/0!"},null,null,0,{"$error":"#DIV/0!"},{"$error":"#DIV/0!"},null,null,0,{"$error":"#DIV/0!"},{"$error":"#DIV/0!"}]
[null,null,{"$f":"Information_RPO!A15","v":"Faculty/Department 8"},null,null,0,{"$f":"D24/F24","v":{"$error":"#DIV/0!"}},{"$error":"#DIV/0!"},null,null,{"$f":"SUM(I24:J24)","v":0},{"$f":"I24/K24","v":{"$error":"#DIV/0!"}},{"$f":"J24/K24","v":{"$error":"#DIV/0!"}},null,null,null,{"$error":"#DIV/0!"},{"$error":"#DIV/0!"},null,null,null,{"$error":"#DIV/0!"},{"$error":"#DIV/0!"},null,null,null,{"$error":"#DIV/0!"},{"$error":"#DIV/0!"}]
[null,null,"TOTAL",{"$f":"SUM(D17:D23)","v":0},{"$f":"SUM(E17:E23)","v":0},{"$f":"SUM(D25:E25)","v":0},{"$error":"#DIV/0!"},{"$error":"#DIV/0!"},{"$f":"SUM(I17:I23)","v":0},{"$f":"SUM(J17:J23)","v":0},0,{"$error":"#DIV/0!"},{"$error":"#DIV/0!"},{"$f":"SUM(N17:N23)","v":0},{"$f":"SUM(O17:O23)","v":0},0,{"$error":"#DIV/0!"},{"$error":"#DIV/0!"},{"$f":"SUM(S17:S23)","v":0},{"$f":"SUM(T17:T23)","v":0},0,{"$error":"#DIV/0!"},{"$error":"#DIV/0!"},{"$f":"SUM(X17:X23)","v":0},{"$f":"SUM(Y17:Y23)","v":0},{"$f":"SUM(X25:Y25)","v":0},{"$error":"#DIV/0!"},{"$error":"#DIV/0!"}]
[]
[null,"MASTER GRADUATES"]
[null,null,{"$f":"Information_RPO!A8","v":"Faculty/Department 1"},null,null,{"$f":"SUM(D28:E28)","v":0},{"$f":"D28/F28","v":{"$error":"#DIV/0!"}},{"$f":"E28/F28","v":{"$error":"#DIV/0!"}},null,null,{"$f":"SUM(I28:J28)","v":0},{"$f":"I28/K28","v":{"$error":"#DIV/0!"}},{"$f":"J28/K28","v":{"$error":"#DIV/0!"}},null,null,{"$f":"SUM(N28:O28)","v":0},{"$f":"N28/P28","v":{"$error":"#DIV/0!"}},{"$f":"O28/P28","v":{"$error":"#DIV/0!"}},null,null,{"$f":"SUM(S28:T28)","v":0},{"$f":"S28/U28","v":{"$error":"#DIV/0!"}},{"$f":"T28/U28","v":{"$error":"#DIV/0!"}},null,null,{"$f":"SUM(X28:Y28)","v":0},{"$f":"X28/Z28","v":{"$error":"#DIV/0!"}},{"$f":"Y28/Z28","v":{"$error":"#DIV/0!"}}]
[null,null,{"$f":"Information_RPO!A9","v":"Faculty/Department 2"},null,null,0,{"$error":"#DIV/0!"},{"$error":"#DIV/0!"},null,null,0,{"$error":"#DIV/0!"},{"$error":"#DIV/0!"},null,null,0,{"$error":"#DIV/0!"},{"$error":"#DIV/0!"},null,null,0,{"$error":"#DIV/0!"},{"$error":"#DIV/0!"},null,null,0,{"$error":"#DIV/0!"},{"$error":"#DIV/0!"}]
[null,null,{"$f":"Information_RPO!A10","v":"Faculty/Department 3"},null,null,0,{"$error":"#DIV/0!"},{"$error":"#DIV/0!"},null,null,0,{"$error":"#DIV/0!"},{"$error":"#DIV/0!"},null,null,0,{"$error":"#DIV/0!"},{"$error":"#DIV/0!"},null,null,0,{"$error":"#DIV/0!"},{"$error":"#DIV/0!"},null,null,0,{"$error":"#DIV/0!"},{"$error":"#DIV/0!"}]
[null,null,{"$f":"Information_RPO!A11","v":"Faculty/Department 4"},null,null,0,{"$error":"#DIV/0!"},{"$error":"#DIV/0!"},null,null,0,{"$error":"#DIV/0!"},{"$error":"#DIV/0!"},null,null,0,{"$error":"#DIV/0!"},{"$error":"#DIV/0!"},null,null,0,{"$error":"#DIV/0!"},{"$error":"#DIV/0!"},null,null,0,{"$error":"#DIV/0!"},{"$error":"#DIV/0!"}]
[null,null,{"$f":"Information_RPO!A12","v":"Faculty/Department 5"},null,null,0,{"$error":"#DIV/0!"},{"$error":"#DIV/0!"},null,null,0,{"$error":"#DIV/0!"},{"$error":"#DIV/0!"},null,null,0,{"$error":"#DIV/0!"},{"$error":"#DIV/0!"},null,null,0,{"$error":"#DIV/0!"},{"$error":"#DIV/0!"},null,null,0,{"$error":"#DIV/0!"},{"$error":"#DIV/0!"}]
[null,null,{"$f":"Information_RPO!A13","v":"Faculty/Department 6"},null,null,0,{"$error":"#DIV/0!"},{"$error":"#DIV/0!"},null,null,0,{"$error":"#DIV/0!"},{"$error":"#DIV/0!"},null,null,0,{"$error":"#DIV/0!"},{"$error":"#DIV/0!"},null,null,0,{"$error":"#DIV/0!"},{"$error":"#DIV/0!"},null,null,0,{"$error":"#DIV/0!"},{"$error":"#DIV/0!"}]
[null,null,{"$f":"Information_RPO!A14","v":"Faculty/Department 7"},null,null,0,{"$error":"#DIV/0!"},{"$error":"#DIV/0!"},null,null,0,{"$error":"#DIV/0!"},{"$error":"#DIV/0!"},null,null,0,{"$error":"#DIV/0!"},{"$error":"#DIV/0!"},null,null,0,{"$error":"#DIV/0!"},{"$error":"#DIV/0!"},null,null,0,{"$error":"#DIV/0!"},{"$error":"#DIV/0!"}]
[null,null,{"$f":"Information_RPO!A15","v":"Faculty/Department 8"},null,null,0,{"$error":"#DIV/0!"},{"$error":"#DIV/0!"},null,null,0,{"$error":"#DIV/0!"},{"$error":"#DIV/0!"},null,null,null,{"$error":"#DIV/0!"},{"$error":"#DIV/0!"},null,null,null,{"$error":"#DIV/0!"},{"$error":"#DIV/0!"},null,null,null,{"$error":"#DIV/0!"},{"$error":"#DIV/0!"}]
[null,null,"TOTAL",{"$f":"SUM(D28:D34)","v":0},{"$f":"SUM(E28:E34)","v":0},{"$f":"SUM(D36:E36)","v":0},{"$error":"#DIV/0!"},{"$error":"#DIV/0!"},{"$f":"SUM(I28:I34)","v":0},{"$f":"SUM(J28:J34)","v":0},0,{"$error":"#DIV/0!"},{"$error":"#DIV/0!"},{"$f":"SUM(N28:N34)","v":0},{"$f":"SUM(O28:O34)","v":0},0,{"$error":"#DIV/0!"},{"$error":"#DIV/0!"},{"$f":"SUM(S28:S34)","v":0},{"$f":"SUM(T28:T34)","v":0},0,{"$error":"#DIV/0!"},{"$error":"#DIV/0!"},{"$f":"SUM(X28:X34)","v":0},{"$f":"SUM(Y28:Y34)","v":0},{"$f":"SUM(X36:Y36)","v":0},{"$error":"#DIV/0!"},{"$error":"#DIV/0!"}]
[]
["COUNTRY"]
[]
[null,"BACHELOR GRADUATES"]
[null,null,"RPOs in similiar fields of science",null,null,{"$f":"SUM(D41:E41)","v":0},{"$f":"D41/F41","v":{"$error":"#DIV/0!"}},{"$f":"E41/F41","v":{"$error":"#DIV/0!"}},null,null,{"$f":"SUM(I41:J41)","v":0},{"$f":"I41/K41","v":{"$error":"#DIV/0!"}},{"$f":"J41/K41","v":{"$error":"#DIV/0!"}},null,null,{"$f":"SUM(N41:O41)","v":0},{"$f":"N41/P41","v":{"$error":"#DIV/0!"}},{"$f":"O41/P41","v":{"$error":"#DIV/0!"}},null,null,{"$f":"SUM(S41:T41)","v":0},{"$f":"S41/U41","v":{"$error":"#DIV/0!"}},{"$f":"T41/U41","v":{"$error":"#DIV/0!"}},null,null,{"$f":"SUM(X41:Y41)","v":0},{"$f":"X41/Z41","v":{"$error":"#DIV/0!"}},{"$f":"Y41/Z41","v":{"$error":"#DIV/0!"}}]
[null,null,null,null,null,0,{"$error":"#DIV/0!"},{"$error":"#DIV/0!"},null,null,0,{"$error":"#DIV/0!"},{"$error":"#DIV/0!"},null,null,0,{"$error":"#DIV/0!"},{"$error":"#DIV/0!"},null,null,0,{"$error":"#DIV/0!"},{"$error":"#DIV/0!"},null,null,0,{"$error":"#DIV/0!"},{"$error":"#DIV/0!"}]
[null,null,null,null,null,0,{"$error":"#DIV/0!"},{"$error":"#DIV/0!"},null,null,0,{"$error":"#DIV/0!"},{"$error":"#DIV/0!"},null,null,0,{"$error":"#DIV/0!"},{"$error":"#DIV/0!"},null,null,0,{"$error":"#DIV/0!"},{"$error":"#DIV/0!"},null,null,0,{"$error":"#DIV/0!"},{"$error":"#DIV/0!"}]
[null,null,null,null,null,0,{"$error":"#DIV/0!"},{"$error":"#DIV/0!"},null,null,0,{"$error":"#DIV/0!"},{"$error":"#DIV/0!"},null,null,0,{"$error":"#DIV/0!"},{"$error":"#DIV/0!"},null,null,0,{"$error":"#DIV/0!"},{"$error":"#DIV/0!"},null,null,0,{"$error":"#DIV/0!"},{"$error":"#DIV/0!"}]
[null,null,null,null,null,0,{"$error":"#DIV/0!"},{"$error":"#DIV/0!"},null,null,0,{"$error":"#DIV/0!"},{"$error":"#DIV/0!"},null,null,0,{"$error":"#DIV/0!"},{"$error":"#DIV/0!"},null,null,0,{"$error":"#DIV/0!"},{"$error":"#DIV/0!"},null,null,0,{"$error":"#DIV/0!"},{"$error":"#DIV/0!"}]
[null,null,null,null,null,0,{"$error":"#DIV/0!"},{"$error":"#DIV/0!"},null,null,0,{"$error":"#DIV/0!"},{"$error":"#DIV/0!"},null,null,0,{"$error":"#DIV/0!"},{"$error":"#DIV/0!"},null,null,0,{"$error":"#DIV/0!"},{"$error":"#DIV/0!"},null,null,0,{"$error":"#DIV/0!"},{"$error":"#DIV/0!"}]
[null,null,null,null,null,0,{"$error":"#DIV/0!"},{"$error":"#DIV/0!"},null,null,0,{"$error":"#DIV/0!"},{"$error":"#DIV/0!"},null,null,0,{"$error":"#DIV/0!"},{"$error":"#DIV/0!"},null,null,0,{"$error":"#DIV/0!"},{"$error":"#DIV/0!"},null,null,0,{"$error":"#DIV/0!"},{"$error":"#DIV/0!"}]
[null,null,null,null,null,0,{"$error":"#DIV/0!"},{"$error":"#DIV/0!"},null,null,0,{"$error":"#DIV/0!"},{"$error":"#DIV/0!"},null,null,0,{"$error":"#DIV/0!"},{"$error":"#DIV/0!"},null,null,0,{"$error":"#DIV/0!"},{"$error":"#DIV/0!"},null,null,0,{"$error":"#DIV/0!"},{"$error":"#DIV/0!"}]
[null,null,"Country Total",{"$f":"SUM(D41:D48)","v":0},{"$f":"SUM(E41:E48)","v":0},0,{"$error":"#DIV/0!"},{"$error":"#DIV/0!"},{"$f":"SUM(I41:I48)","v":0},{"$f":"SUM(J41:J48)","v":0},0,{"$error":"#DIV/0!"},{"$error":"#DIV/0!"},null,null,0,{"$error":"#DIV/0!"},{"$error":"#DIV/0!"},null,null,0,{"$error":"#DIV/0!"},{"$error":"#DIV/0!"},null,null,0,{"$error":"#DIV/0!"},{"$error":"#DIV/0!"}]
[]
[null,"MASTER GRADUATES"]
[null,null,"RPOs in similiar fields of science",null,null,{"$f":"SUM(D52:E52)","v":0},{"$f":"D52/F52","v":{"$error":"#DIV/0!"}},{"$f":"E52/F52","v":{"$error":"#DIV/0!"}},null,null,{"$f":"SUM(I52:J52)","v":0},{"$f":"I52/K52","v":{"$error":"#DIV/0!"}},{"$f":"J52/K52","v":{"$error":"#DIV/0!"}},null,null,{"$f":"SUM(N52:O52)","v":0},{"$f":"N52/P52","v":{"$error":"#DIV/0!"}},{"$f":"O52/P52","v":{"$error":"#DIV/0!"}},null,null,{"$f":"SUM(S52:T52)","v":0},{"$f":"S52/U52","v":{"$error":"#DIV/0!"}},{"$f":"T52/U52","v":{"$error":"#DIV/0!"}},null,null,{"$f":"SUM(X52:Y52)","v":0},{"$f":"X52/Z52","v":{"$error":"#DIV/0!"}},{"$f":"Y52/Z52","v":{"$error":"#DIV/0!"}}]
[null,null,null,null,null,0,{"$error":"#DIV/0!"},{"$error":"#DIV/0!"},null,null,0,{"$error":"#DIV/0!"},{"$error":"#DIV/0!"},null,null,0,{"$error":"#DIV/0!"},{"$error":"#DIV/0!"},null,null,0,{"$error":"#DIV/0!"},{"$error":"#DIV/0!"},null,null,0,{"$error":"#DIV/0!"},{"$error":"#DIV/0!"}]
[null,null,null,null,null,0,{"$error":"#DIV/0!"},{"$error":"#DIV/0!"},null,null,0,{"$error":"#DIV/0!"},{"$error":"#DIV/0!"},null,null,0,{"$error":"#DIV/0!"},{"$error":"#DIV/0!"},null,null,0,{"$error":"#DIV/0!"},{"$error":"#DIV/0!"},null,null,0,{"$error":"#DIV/0!"},{"$error":"#DIV/0!"}]
[null,null,null,null,null,0,{"$error":"#DIV/0!"},{"$error":"#DIV/0!"},null,null,0,{"$error":"#DIV/0!"},{"$error":"#DIV/0!"},null,null,0,{"$error":"#DIV/0!"},{"$error":"#DIV/0!"},null,null,0,{"$error":"#DIV/0!"},{"$error":"#DIV/0!"},null,null,0,{"$error":"#DIV/0!"},{"$error":"#DIV/0!"}]
[null,null,null,null,null,0,{"$error":"#DIV/0!"},{"$error":"#DIV/0!"},null,null,0,{"$error":"#DIV/0!"},{"$error":"#DIV/0!"},null,null,0,{"$error":"#DIV/0!"},{"$error":"#DIV/0!"},null,null,0,{"$error":"#DIV/0!"},{"$error":"#DIV/0!"},null,null,0,{"$error":"#DIV/0!"},{"$error":"#DIV/0!"}]
[null,null,null,null,null,0,{"$error":"#DIV/0!"},{"$error":"#DIV/0!"},null,null,0,{"$error":"#DIV/0!"},{"$error":"#DIV/0!"},null,null,0,{"$error":"#DIV/0!"},{"$error":"#DIV/0!"},null,null,0,{"$error":"#DIV/0!"},{"$error":"#DIV/0!"},null,null,0,{"$error":"#DIV/0!"},{"$error":"#DIV/0!"}]
[null,null,null,null,null,0,{"$error":"#DIV/0!"},{"$error":"#DIV/0!"},null,null,0,{"$error":"#DIV/0!"},{"$error":"#DIV/0!"},null,null,0,{"$error":"#DIV/0!"},{"$error":"#DIV/0!"},null,null,0,{"$error":"#DIV/0!"},{"$error":"#DIV/0!"},null,null,0,{"$error":"#DIV/0!"},{"$error":"#DIV/0!"}]
[null,null,null,null,null,0,{"$error":"#DIV/0!"},{"$error":"#DIV/0!"},null,null,0,{"$error":"#DIV/0!"},{"$error":"#DIV/0!"},null,null,0,{"$error":"#DIV/0!"},{"$error":"#DIV/0!"},null,null,0,{"$error":"#DIV/0!"},{"$error":"#DIV/0!"},null,null,0,{"$error":"#DIV/0!"},{"$error":"#DIV/0!"}]
[null,null,"Country Total",{"$f":"SUM(D52:D59)","v":0},{"$f":"SUM(E52:E59)","v":0},{"$f":"SUM(D60:E60)","v":0},{"$f":"D60/F60","v":{"$error":"#DIV/0!"}},{"$f":"E60/F60","v":{"$error":"#DIV/0!"}},{"$f":"SUM(I52:I59)","v":0},{"$f":"SUM(J52:J59)","v":0},{"$f":"SUM(I60:J60)","v":0},{"$f":"I60/K60","v":{"$error":"#DIV/0!"}},{"$f":"J60/K60","v":{"$error":"#DIV/0!"}},null,null,{"$f":"SUM(N60:O60)","v":0},{"$f":"N60/P60","v":{"$error":"#DIV/0!"}},{"$f":"O60/P60","v":{"$error":"#DIV/0!"}},null,null,{"$f":"SUM(S60:T60)","v":0},{"$f":"S60/U60","v":{"$error":"#DIV/0!"}},{"$f":"T60/U60","v":{"$error":"#DIV/0!"}},null,null,{"$f":"SUM(X60:Y60)","v":0},{"$f":"X60/Z60","v":{"$error":"#DIV/0!"}},{"$f":"Y60/Z60","v":{"$error":"#DIV/0!"}}]

{"sheet":"D_Gender_Dimension","index":23,"n_rows":30,"n_cols":3,"rows_kept":30,"cut":false,"hidden":false,"merged":[[9,0,10,0],[0,0,0,3],[12,0,13,1],[2,0,6,3]]}
["DESCRIPTION - THEMATIC AREA: GENDER DIMENSION IN RESEARCH AND TEACHING"]
[]
["To Do: Please read the controlled vocabulary list for T7a_LitCont carefully. Publications are considered to include a gender component if they refer to at least one term of the controlled vocabulary list in the title or description (e.g. abstract) of the publication. In a next step, for each English term, please add the most appropiate term in the national language of your research performing organization. Finally, please collect and enter the data in table T7a_LitCont. In T7b_Curricula, all bachelor and master programs are considered to included a gender component that refer to at least one term of the controlled vocabulary list in the title or description of the program, in course titles or descriptions, or in the syllabus. "]
[]
[]
[]
[]
[]
["Description Sheet","Tables","Indicators"]
["D_Gender_Dimension","T7a_LitCont","inclusion of gender component in publications"]
[null,"T7b_Curricula","inclusion of gender component in curricula of bachelor and master programs  "]
[]
["T7a_LitCont: Controlled Vocabulary for retrieval from RPO Bibliography "]
[]
["English","National Language "]
["woman / women"]
["man / men"]
["gender"]
["femins*"]
["mascul*"]
["researcher (m) "]
["researcher (f)"]
["scientist (m)"]
["scientist (w)"]
["person (m)"]
["person (f)"]
["society"]
["social"]
["diversity"]
["responsibility"]

{"sheet":"T7a_LitCont","index":24,"n_rows":94,"n_cols":9,"rows_kept":94,"cut":false,"hidden":false,"merged":[[10,11,10,12],[10,5,10,6],[10,7,10,8],[11,7,11,8],[9,3,9,8],[41,3,41,8],[2,0,7,8],[11,3,11,4],[10,3,10,4],[11,5,11,6]]}
["TABLE 7A: GENDER DIMENSION IN PUBLICATION CONTENT"]
[]
["To Do: Please enter the number of publications of your RPO literature database by faculty/department which refer to at least one term of the controlled vocabulary list (D_Gender_Dimension) in the title or description of the publication. Those are considered to include a gender component - irrespective of the extent of the component. Then also add the number of publications which do not refer to the terms of the controlled vocabulary list. In a next step, please also add the number of publications of your RPO literature database by faculty/department which are authored by your RPO staff and refer to at least one term of the controlled vocabulary list as well as the ones authored by your RPO staff which does not refer to the terms of the controlled vocabulary list. Please also add the source of data and the cut-off date referring to the year columns."]
[]
[]
[]
[]
[]
[]
["source of data:"]
["year comment:"]
[null,null,null,2018,null,2020,null,2022]
[null,null,null,"Number","%","Number","%","Number","%"]
[]
[{"$f":"Information_RPO!A6","v":"Name of Research Performing Organization (RPO)"}]
[null,null,"Number of publications not containing terms from the vocabulary list",null,{"$f":"D16/D18","v":{"$error":"#DIV/0!"}},null,{"$f":"F16/$F$18","v":{"$error":"#DIV/0!"}},null,{"$f":"H16/$H$18","v":{"$error":"#DIV/0!"}}]
[null,null,"Number of publications containing terms from the vocabulary list",null,{"$f":"D17/D18","v":{"$error":"#DIV/0!"}},null,{"$f":"F17/$F$18","v":{"$error":"#DIV/0!"}},null,{"$f":"H17/$H$18","v":{"$error":"#DIV/0!"}}]
[null,null,"TOTAL",{"$f":"SUM(D16:D17)","v":0},null,{"$f":"SUM(F16:F17)","v":0},null,{"$f":"SUM(H16:H17)","v":0}]
[]
[null,null,"Number of publications not containing terms from the vocabulary list authored by RPO staff",null,{"$f":"D20/D22","v":{"$error":"#DIV/0!"}},null,{"$f":"F20/$F$22","v":{"$error":"#DIV/0!"}},null,{"$f":"H20/$H$22","v":{"$error":"#DIV/0!"}}]
[null,null,"Number of publications containing terms from the vocabulary list authored by RPO staff",null,{"$f":"D21/D22","v":{"$error":"#DIV/0!"}},null,{"$f":"F21/$F$22","v":{"$error":"#DIV/0!"}},null,{"$f":"H21/$H$22","v":{"$error":"#DIV/0!"}}]
[null,null,"TOTAL",{"$f":"SUM(D20:D21)","v":0},null,{"$f":"SUM(F20:F21)","v":0},null,{"$f":"SUM(H20:H21)","v":0}]
[]
[{"$f":"Information_RPO!A8","v":"Faculty/Department 1"}]
[null,null,"Number of publications not containing terms from the vocabulary list",null,{"$f":"D25/D27","v":{"$error":"#DIV/0!"}},null,{"$f":"F25/$F$27","v":{"$error":"#DIV/0!"}},null,{"$f":"H25/H27","v":{"$error":"#DIV/0!"}}]
[null,null,"Number of publications containing terms from the vocabulary list",null,{"$f":"D26/D27","v":{"$error":"#DIV/0!"}},null,{"$f":"F26/$F$27","v":{"$error":"#DIV/0!"}},null,{"$f":"H26/H27","v":{"$error":"#DIV/0!"}}]
[null,null,"TOTAL",{"$f":"SUM(D25:D26)","v":0},null,{"$f":"SUM(F25:F26)","v":0},null,{"$f":"SUM(H25:H26)","v":0}]
[]
[null,null,"Number of publications not containing terms from the vocabulary list authored by RPO staff",null,{"$f":"D29/D31","v":{"$error":"#DIV/0!"}},null,{"$f":"F29/$F$31","v":{"$error":"#DIV/0!"}},null,{"$f":"H29/H31","v":{"$error":"#DIV/0!"}}]
[null,null,"Number of publications containing terms from the vocabulary list authored by RPO staff",null,{"$f":"D30/D31","v":{"$error":"#DIV/0!"}},null,{"$f":"F30/$F$31","v":{"$error":"#DIV/0!"}},null,{"$f":"H30/H31","v":{"$error":"#DIV/0!"}}]
[null,null,"TOTAL",{"$f":"SUM(D29:D30)","v":0},null,{"$f":"SUM(F29:F30)","v":0},null,{"$f":"SUM(H29:H30)","v":0}]
[]
[{"$f":"Information_RPO!A9","v":"Faculty/Department 2"}]
[null,null,"Number of publications not containing terms from the vocabulary list",null,{"$f":"D34/D36","v":{"$error":"#DIV/0!"}},null,{"$f":"F34/$F$36","v":{"$error":"#DIV/0!"}},null,{"$f":"H34/H36","v":{"$error":"#DIV/0!"}}]
[null,null,"Number of publications containing terms from the vocabulary list",null,{"$f":"D35/D36","v":{"$error":"#DIV/0!"}},null,{"$f":"F35/$F$36","v":{"$error":"#DIV/0!"}},null,{"$f":"H35/H36","v":{"$error":"#DIV/0!"}}]
[null,null,"TOTAL",{"$f":"SUM(D34:D35)","v":0},null,{"$f":"SUM(F34:F35)","v":0},null,{"$f":"SUM(H34:H35)","v":0}]
[]
[null,null,"Number of publications not containing terms from the vocabulary list authored by RPO staff",null,{"$f":"D38/D40","v":{"$error":"#DIV/0!"}},null,{"$f":"F38/$F$40","v":{"$error":"#DIV/0!"}},null,{"$f":"H38/H40","v":{"$error":"#DIV/0!"}}]
[null,null,"Number of publications containing terms from the vocabulary list authored by RPO staff",null,{"$f":"D39/D40","v":{"$error":"#DIV/0!"}},null,{"$f":"F39/$F$31","v":{"$error":"#DIV/0!"}},null,{"$f":"H39/H40","v":{"$error":"#DIV/0!"}}]
[null,null,"TOTAL",{"$f":"SUM(D38:D39)","v":0},null,{"$f":"SUM(F38:F39)","v":0},null,{"$f":"SUM(H38:H39)","v":0}]
[]
[{"$f":"Information_RPO!A10","v":"Faculty/Department 3"}]
[null,null,"Number of publications not containing terms from the vocabulary list",null,{"$f":"D43/D45","v":{"$error":"#DIV/0!"}},null,{"$f":"F43/$F$27","v":{"$error":"#DIV/0!"}},null,{"$f":"H43/H45","v":{"$error":"#DIV/0!"}}]
[null,null,"Number of publications containing terms from the vocabulary list",null,{"$f":"D44/D45","v":{"$error":"#DIV/0!"}},null,{"$f":"F44/$F$45","v":{"$error":"#DIV/0!"}},null,{"$f":"H44/H45","v":{"$error":"#DIV/0!"}}]
[null,null,"TOTAL",{"$f":"SUM(D43:D44)","v":0},null,{"$f":"SUM(F43:F44)","v":0},null,{"$f":"SUM(H43:H44)","v":0}]
[]
[null,null,"Number of publications not containing terms from the vocabulary list authored by RPO staff",null,{"$f":"D47/D49","v":{"$error":"#DIV/0!"}},null,{"$f":"F47/$F$49","v":{"$error":"#DIV/0!"}},null,{"$f":"H47/H49","v":{"$error":"#DIV/0!"}}]
[null,null,"Number of publications containing terms from the vocabulary list authored by RPO staff",null,{"$f":"D48/D49","v":{"$error":"#DIV/0!"}},null,{"$f":"F48/$F$49","v":{"$error":"#DIV/0!"}},null,{"$f":"H48/H49","v":{"$error":"#DIV/0!"}}]
[null,null,"TOTAL",{"$f":"SUM(D47:D48)","v":0},null,{"$f":"SUM(F47:F48)","v":0},null,{"$f":"SUM(H47:H48)","v":0}]
[]
[{"$f":"Information_RPO!A11","v":"Faculty/Department 4"}]
[null,null,"Number of publications not containing terms from the vocabulary list",null,{"$f":"D52/D54","v":{"$error":"#DIV/0!"}},null,{"$f":"F52/$F$54","v":{"$error":"#DIV/0!"}},null,{"$f":"H52/H54","v":{"$error":"#DIV/0!"}}]
[null,null,"Number of publications containing terms from the vocabulary list",null,{"$f":"D53/D54","v":{"$error":"#DIV/0!"}},null,{"$f":"F53/$F$54","v":{"$error":"#DIV/0!"}},null,{"$f":"H53/H54","v":{"$error":"#DIV/0!"}}]
[null,null,"TOTAL",{"$f":"SUM(D52:D53)","v":0},null,{"$f":"SUM(F52:F53)","v":0},null,{"$f":"SUM(H52:H53)","v":0}]
[]
[null,null,"Number of publications not containing terms from the vocabulary list authored by RPO staff",null,{"$f":"D56/D58","v":{"$error":"#DIV/0!"}},null,{"$f":"F56/$F$40","v":{"$error":"#DIV/0!"}},null,{"$f":"H56/H58","v":{"$error":"#DIV/0!"}}]
[null,null,"Number of publications containing terms from the vocabulary list authored by RPO staff",null,{"$f":"D57/D58","v":{"$error":"#DIV/0!"}},null,{"$f":"F57/$F$31","v":{"$error":"#DIV/0!"}},null,{"$f":"H57/H58","v":{"$error":"#DIV/0!"}}]
[null,null,"TOTAL",{"$f":"SUM(D56:D57)","v":0},null,{"$f":"SUM(F56:F57)","v":0},null,{"$f":"SUM(H56:H57)","v":0}]
[]
[{"$f":"Information_RPO!A12","v":"Faculty/Department 5"}]
[null,null,"Number of publications not containing terms from the vocabulary list",null,{"$f":"D61/D63","v":{"$error":"#DIV/0!"}},null,{"$f":"F61/F63","v":{"$error":"#DIV/0!"}},null,{"$f":"H61/H63","v":{"$error":"#DIV/0!"}}]
[null,null,"Number of publications containing terms from the vocabulary list",null,{"$f":"D62/D63","v":{"$error":"#DIV/0!"}},null,{"$f":"F62/$F$63","v":{"$error":"#DIV/0!"}},null,{"$f":"H62/H63","v":{"$error":"#DIV/0!"}}]
[null,null,"TOTAL",{"$f":"SUM(D61:D62)","v":0},null,{"$f":"SUM(F61:F62)","v":0},null,{"$f":"SUM(H61:H62)","v":0}]
[]
[null,null,"Number of publications not containing terms from the vocabulary list authored by RPO staff",null,{"$f":"D65/D67","v":{"$error":"#DIV/0!"}},null,{"$f":"F65/F67","v":{"$error":"#DIV/0!"}},null,{"$f":"H65/H67","v":{"$error":"#DIV/0!"}}]
[null,null,"Number of publications containing terms from the vocabulary list authored by RPO staff",null,{"$f":"D66/D67","v":{"$error":"#DIV/0!"}},null,{"$f":"F66/F67","v":{"$error":"#DIV/0!"}},null,{"$f":"H66/H67","v":{"$error":"#DIV/0!"}}]
[null,null,"TOTAL",{"$f":"SUM(D65:D66)","v":0},null,{"$f":"SUM(F65:F66)","v":0},null,{"$f":"SUM(H65:H66)","v":0}]
[]
[{"$f":"Information_RPO!A13","v":"Faculty/Department 6"}]
[null,null,"Number of publications not containing terms from the vocabulary list",null,{"$f":"D70/D72","v":{"$error":"#DIV/0!"}},null,{"$f":"F70/F72","v":{"$error":"#DIV/0!"}},null,{"$f":"H70/H72","v":{"$error":"#DIV/0!"}}]
[null,null,"Number of publications containing terms from the vocabulary list",null,{"$f":"D71/D72","v":{"$error":"#DIV/0!"}},null,{"$f":"F71/F72","v":{"$error":"#DIV/0!"}},null,{"$f":"H71/H72","v":{"$error":"#DIV/0!"}}]
[null,null,"TOTAL",{"$f":"SUM(D70:D71)","v":0},null,{"$f":"SUM(F70:F71)","v":0},null,{"$f":"SUM(H70:H71)","v":0}]
[]
[null,null,"Number of publications not containing terms from the vocabulary list authored by RPO staff",null,{"$f":"D74/D76","v":{"$error":"#DIV/0!"}},null,{"$f":"F74/F76","v":{"$error":"#DIV/0!"}},null,{"$f":"H74/H76","v":{"$error":"#DIV/0!"}}]
[null,null,"Number of publications containing terms from the vocabulary list authored by RPO staff",null,{"$f":"D75/D76","v":{"$error":"#DIV/0!"}},null,{"$f":"F75/F76","v":{"$error":"#DIV/0!"}},null,{"$f":"H75/H76","v":{"$error":"#DIV/0!"}}]
[null,null,"TOTAL",{"$f":"SUM(D74:D75)","v":0},null,{"$f":"SUM(F74:F75)","v":0},null,{"$f":"SUM(H74:H75)","v":0}]
[]
[{"$f":"Information_RPO!A14","v":"Faculty/Department 7"}]
[null,null,"Number of publications not containing terms from the vocabulary list",null,{"$f":"D79/D81","v":{"$error":"#DIV/0!"}},null,{"$f":"F79/F81","v":{"$error":"#DIV/0!"}},null,{"$f":"H79/H81","v":{"$error":"#DIV/0!"}}]
[null,null,"Number of publications containing terms from the vocabulary list",null,{"$f":"D80/D81","v":{"$error":"#DIV/0!"}},null,{"$f":"F80/F81","v":{"$error":"#DIV/0!"}},null,{"$f":"H80/H81","v":{"$error":"#DIV/0!"}}]
[null,null,"TOTAL",{"$f":"SUM(D79:D80)","v":0},null,{"$f":"SUM(F79:F80)","v":0},null,{"$f":"SUM(H79:H80)","v":0}]
[]
[null,null,"Number of publications not containing terms from the vocabulary list authored by RPO staff",null,{"$f":"D83/D85","v":{"$error":"#DIV/0!"}},null,{"$f":"F83/F85","v":{"$error":"#DIV/0!"}},null,{"$f":"H83/H85","v":{"$error":"#DIV/0!"}}]
[null,null,"Number of publications containing terms from the vocabulary list authored by RPO staff",null,{"$f":"D84/D85","v":{"$error":"#DIV/0!"}},null,{"$f":"F84/F85","v":{"$error":"#DIV/0!"}},null,{"$f":"H84/H85","v":{"$error":"#DIV/0!"}}]
[null,null,"TOTAL",{"$f":"SUM(D83:D84)","v":0},null,{"$f":"SUM(F83:F84)","v":0},null,{"$f":"SUM(H83:H84)","v":0}]
[]
[{"$f":"Information_RPO!A15","v":"Faculty/Department 8"}]
[null,null,"Number of publications not containing terms from the vocabulary list",null,{"$f":"D88/D90","v":{"$error":"#DIV/0!"}},null,{"$f":"F88/F90","v":{"$error":"#DIV/0!"}},null,{"$f":"H88/H90","v":{"$error":"#DIV/0!"}}]
[null,null,"Number of publications containing terms from the vocabulary list",null,{"$f":"D89/D90","v":{"$error":"#DIV/0!"}},null,{"$f":"F89/F90","v":{"$error":"#DIV/0!"}},null,{"$f":"H89/H90","v":{"$error":"#DIV/0!"}}]
[null,null,"TOTAL",{"$f":"SUM(D88:D89)","v":0},null,{"$f":"SUM(F88:F89)","v":0},null,{"$f":"SUM(H88:H89)","v":0}]
[]
[null,null,"Number of publications not containing terms from the vocabulary list authored by RPO staff",null,{"$f":"D92/D94","v":{"$error":"#DIV/0!"}},null,{"$f":"F92/F94","v":{"$error":"#DIV/0!"}},null,{"$f":"H92/H94","v":{"$error":"#DIV/0!"}}]
[null,null,"Number of publications containing terms from the vocabulary list authored by RPO staff",null,{"$f":"D93/D94","v":{"$error":"#DIV/0!"}},null,{"$f":"F93/F94","v":{"$error":"#DIV/0!"}},null,{"$f":"H93/H94","v":{"$error":"#DIV/0!"}}]
[null,null,"TOTAL",{"$f":"SUM(D92:D93)","v":0},null,{"$f":"SUM(F92:F93)","v":0},null,{"$f":"SUM(H92:H93)","v":0}]

{"sheet":"T7b_Curricula","index":25,"n_rows":121,"n_cols":9,"rows_kept":121,"cut":false,"hidden":false,"merged":[[2,0,6,8],[10,3,10,4],[10,5,10,6],[10,7,10,8],[9,3,9,8]]}
["TABLE 7B: GENDER DIMENSION IN CURRICULA"]
[]
["To Do: Please enter the number of bachelor and master programs at your research performing organization by faculty/department which refer to at least one term of the controlled vocabulary list (D_Gender_Dimension) in the title or description of the program, in course titles or descriptions, or in the syllabus. Those are considered to include a gender component - irrespective of the extent of the component. Then also add the number of bachelor and master programs at your research performing organization by faculty/department which do not refer to the terms of the controlled vocabulary list. Please also add the source of data and the cut-off date referring to the year columns."]
[]
[]
[]
[]
[]
["source of data: "]
["year comment: "]
[null,null,null,2018,null,2020,null,2022]
[null,null,null,"Number","%","Number","%","Number","%"]
[]
[{"$f":"Information_RPO!A6","v":"Name of Research Performing Organization (RPO)"}]
[]
[null,"BACHELOR PROGRAMS"]
[null,null,"Total number of Bachelor Programs not considering Gender",{"$f":"D30+D42+D54+D66+D78+D90+D102+D114","v":0},{"$f":"D17/D19","v":{"$error":"#DIV/0!"}},{"$f":"F30+F42+F54+F66+F78+F90+F102+F114","v":0},{"$f":"F17/F19","v":{"$error":"#DIV/0!"}},{"$f":"H30+H42+H54+H66+H78+H90+H102+H114","v":0},{"$f":"H17/H19","v":{"$error":"#DIV/0!"}}]
[null,null,"Total number of Bachelor Programs with Gender component",{"$f":"D31+D43+D55+D67+D79+D91+D103+D115","v":0},{"$f":"D18/D19","v":{"$error":"#DIV/0!"}},{"$f":"F31+F43+F55+F67+F79+F91+F103+F115","v":0},{"$f":"F18/F19","v":{"$error":"#DIV/0!"}},{"$f":"H31+H43+H55+H67+H79+H91+H103+H115","v":0},{"$f":"H18/H19","v":{"$error":"#DIV/0!"}}]
[null,null,"TOTAL",{"$f":"SUM(D17+D18)","v":0},null,{"$f":"SUM(F17+F18)","v":0},null,{"$f":"SUM(H17+H18)","v":0}]
[]
[null,"MASTER PROGRAMS"]
[null,null,"Total Number of Master Programs not considering Gender",{"$f":"D35+D47+D59+D71+D83+D95+D107+D119","v":0},{"$f":"D22/D24","v":{"$error":"#DIV/0!"}},{"$f":"F35+F47+F59+F71+F83+F95+F107+F119","v":0},{"$f":"F22/F24","v":{"$error":"#DIV/0!"}},{"$f":"H35+H47+H59+H71+H83+H95+H107+H119","v":0},{"$f":"H22/H24","v":{"$error":"#DIV/0!"}}]
[null,null,"Total Number of Master Programs with Gender component",{"$f":"D36+D48+D60+D72+D84+D96+D108+D120","v":0},{"$f":"D23/D24","v":{"$error":"#DIV/0!"}},{"$f":"F36+F48+F60+F72+F84+F96+F108+F120","v":0},{"$f":"F23/F24","v":{"$error":"#DIV/0!"}},{"$f":"H36+H48+H60+H72+H84+H96+H108+H120","v":0},{"$f":"H23/H24","v":{"$error":"#DIV/0!"}}]
[null,null,"TOTAL",{"$f":"SUM(D22+D23)","v":0},null,{"$f":"SUM(F22+F23)","v":0},null,{"$f":"SUM(H22+H23)","v":0}]
[]
[]
[{"$f":"Information_RPO!A8","v":"Faculty/Department 1"}]
[]
[null,"BACHELOR"]
[null,null,"Total number of Bachelor Programs not considering Gender",null,{"$f":"D30/D32","v":{"$error":"#DIV/0!"}},null,{"$f":"F30/F32","v":{"$error":"#DIV/0!"}},null,{"$f":"H30/H32","v":{"$error":"#DIV/0!"}}]
[null,null,"Total number of Bachelor Programs with Gender component",null,{"$f":"D31/D32","v":{"$error":"#DIV/0!"}},null,{"$f":"F31/F32","v":{"$error":"#DIV/0!"}},null,{"$f":"H31/H32","v":{"$error":"#DIV/0!"}}]
[null,null,"TOTAL",{"$f":"SUM(D30+D31)","v":0},null,{"$f":"SUM(F30+F31)","v":0},null,{"$f":"SUM(H30+H31)","v":0}]
[]
[null,"MASTER"]
[null,null,"Total Number of Master Programs not considering Gender",null,{"$f":"D35/D37","v":{"$error":"#DIV/0!"}},null,{"$f":"F35/F37","v":{"$error":"#DIV/0!"}},null,{"$f":"H35/H37","v":{"$error":"#DIV/0!"}}]
[null,null,"Total Number of Master Programs with Gender component",null,{"$f":"D36/D37","v":{"$error":"#DIV/0!"}},null,{"$f":"F36/F37","v":{"$error":"#DIV/0!"}},null,{"$f":"H36/H37","v":{"$error":"#DIV/0!"}}]
[null,null,"TOTAL",{"$f":"SUM(D35+D36)","v":0},null,{"$f":"SUM(F35+F36)","v":0},null,{"$f":"SUM(H35+H36)","v":0}]
[]
[{"$f":"Information_RPO!A9","v":"Faculty/Department 2"}]
[]
[null,"BACHELOR"]
[null,null,"Total number of Bachelor Programs not considering Gender",null,{"$f":"D42/D44","v":{"$error":"#DIV/0!"}},null,{"$f":"F42/F44","v":{"$error":"#DIV/0!"}},null,{"$f":"H42/H44","v":{"$error":"#DIV/0!"}}]
[null,null,"Total number of Bachelor Programs with Gender component",null,{"$f":"D43/D44","v":{"$error":"#DIV/0!"}},null,{"$f":"F43/F44","v":{"$error":"#DIV/0!"}},null,{"$f":"H43/H44","v":{"$error":"#DIV/0!"}}]
[null,null,"TOTAL",{"$f":"SUM(D42+D43)","v":0},null,{"$f":"SUM(F42+F43)","v":0},null,{"$f":"SUM(H42+H43)","v":0}]
[]
[null,"MASTER"]
[null,null,"Total Number of Master Programs not considering Gender",null,{"$f":"D47/D49","v":{"$error":"#DIV/0!"}},null,{"$f":"F47/F49","v":{"$error":"#DIV/0!"}},null,{"$f":"H47/H49","v":{"$error":"#DIV/0!"}}]
[null,null,"Total Number of Master Programs with Gender component",null,{"$f":"D48/D49","v":{"$error":"#DIV/0!"}},null,{"$f":"F48/F49","v":{"$error":"#DIV/0!"}},null,{"$f":"H48/H49","v":{"$error":"#DIV/0!"}}]
[null,null,"TOTAL",{"$f":"SUM(D47+D48)","v":0},null,{"$f":"SUM(F47+F48)","v":0},null,{"$f":"SUM(H47+H48)","v":0}]
[]
[{"$f":"Information_RPO!A10","v":"Faculty/Department 3"}]
[]
[null,"BACHELOR"]
[null,null,"Total number of Bachelor Programs not considering Gender",null,{"$f":"D54/D56","v":{"$error":"#DIV/0!"}},null,{"$f":"F54/F56","v":{"$error":"#DIV/0!"}},null,{"$f":"H54/H56","v":{"$error":"#DIV/0!"}}]
[null,null,"Total number of Bachelor Programs with Gender component",null,{"$f":"D55/D56","v":{"$error":"#DIV/0!"}},null,{"$f":"F55/F56","v":{"$error":"#DIV/0!"}},null,{"$f":"H55/H56","v":{"$error":"#DIV/0!"}}]
[null,null,"TOTAL",{"$f":"SUM(D54+D55)","v":0},1,{"$f":"SUM(F54+F55)","v":0},null,{"$f":"SUM(H54+H55)","v":0}]
[]
[null,"MASTER"]
[null,null,"Total Number of Master Programs not considering Gender",null,{"$f":"D59/D61","v":{"$error":"#DIV/0!"}},null,{"$f":"F59/F61","v":{"$error":"#DIV/0!"}},null,{"$f":"H59/H61","v":{"$error":"#DIV/0!"}}]
[null,null,"Total Number of Master Programs with Gender component",null,{"$f":"D60/D61","v":{"$error":"#DIV/0!"}},null,{"$f":"F60/F61","v":{"$error":"#DIV/0!"}},null,{"$f":"H60/H61","v":{"$error":"#DIV/0!"}}]
[null,null,"TOTAL",{"$f":"SUM(D59+D60)","v":0},null,{"$f":"SUM(F59+F60)","v":0},null,{"$f":"SUM(H59+H60)","v":0}]
[]
[{"$f":"Information_RPO!A11","v":"Faculty/Department 4"}]
[]
[null,"BACHELOR"]
[null,null,"Total number of Bachelor Programs not considering Gender",null,{"$f":"D66/D68","v":{"$error":"#DIV/0!"}},null,{"$f":"F66/F68","v":{"$error":"#DIV/0!"}},null,{"$f":"H66/H68","v":{"$error":"#DIV/0!"}}]
[null,null,"Total number of Bachelor Programs with Gender component",null,{"$f":"D67/D68","v":{"$error":"#DIV/0!"}},null,{"$f":"F67/F68","v":{"$error":"#DIV/0!"}},null,{"$f":"H67/H68","v":{"$error":"#DIV/0!"}}]
[null,null,"TOTAL",{"$f":"SUM(D66+D67)","v":0},null,{"$f":"SUM(F66+F67)","v":0},null,{"$f":"SUM(H66+H67)","v":0}]
[]
[null,"MASTER"]
[null,null,"Total Number of Master Programs not considering Gender",null,{"$f":"D71/D73","v":{"$error":"#DIV/0!"}},null,{"$f":"F71/F73","v":{"$error":"#DIV/0!"}},null,{"$f":"H71/H73","v":{"$error":"#DIV/0!"}}]
[null,null,"Total Number of Master Programs with Gender component",null,{"$f":"D72/D73","v":{"$error":"#DIV/0!"}},null,{"$f":"F72/F73","v":{"$error":"#DIV/0!"}},null,{"$f":"H72/H73","v":{"$error":"#DIV/0!"}}]
[null,null,"TOTAL",{"$f":"SUM(D71+D72)","v":0},null,{"$f":"SUM(F71+F72)","v":0},null,{"$f":"SUM(H71+H72)","v":0}]
[]
[{"$f":"Information_RPO!A12","v":"Faculty/Department 5"}]
[]
[null,"BACHELOR"]
[null,null,"Total number of Bachelor Programs not considering Gender",null,{"$f":"D78/D80","v":{"$error":"#DIV/0!"}},null,{"$f":"F78/F80","v":{"$error":"#DIV/0!"}},null,{"$f":"H78/H80","v":{"$error":"#DIV/0!"}}]
[null,null,"Total number of Bachelor Programs with Gender component",null,{"$f":"D79/D80","v":{"$error":"#DIV/0!"}},null,{"$f":"F79/F80","v":{"$error":"#DIV/0!"}},null,{"$f":"H79/H80","v":{"$error":"#DIV/0!"}}]
[null,null,"TOTAL",{"$f":"SUM(D78+D79)","v":0},null,{"$f":"SUM(F78+F79)","v":0},null,{"$f":"SUM(H78+H79)","v":0}]
[]
[null,"MASTER"]
[null,null,"Total Number of Master Programs not considering Gender",null,{"$f":"D83/D85","v":{"$error":"#DIV/0!"}},null,{"$f":"F83/F85","v":{"$error":"#DIV/0!"}},null,{"$f":"H83/H85","v":{"$error":"#DIV/0!"}}]
[null,null,"Total Number of Master Programs with Gender component",null,{"$f":"D84/D85","v":{"$error":"#DIV/0!"}},null,{"$f":"F84/F85","v":{"$error":"#DIV/0!"}},null,{"$f":"H84/H85","v":{"$error":"#DIV/0!"}}]
[null,null,"TOTAL",{"$f":"SUM(D83+D84)","v":0},null,{"$f":"SUM(F83+F84)","v":0},null,{"$f":"SUM(H83+H84)","v":0}]
[]
[{"$f":"Information_RPO!A13","v":"Faculty/Department 6"}]
[]
[null,"BACHELOR"]
[null,null,"Total number of Bachelor Programs not considering Gender",null,{"$f":"D90/D92","v":{"$error":"#DIV/0!"}},null,{"$f":"F90/F92","v":{"$error":"#DIV/0!"}},null,{"$f":"H90/H92","v":{"$error":"#DIV/0!"}}]
[null,null,"Total number of Bachelor Programs with Gender component",null,{"$f":"D91/D92","v":{"$error":"#DIV/0!"}},null,{"$f":"F91/F92","v":{"$error":"#DIV/0!"}},null,{"$f":"H91/H92","v":{"$error":"#DIV/0!"}}]
[null,null,"TOTAL",{"$f":"SUM(D90+D91)","v":0},null,{"$f":"SUM(F90+F91)","v":0},null,{"$f":"SUM(H90+H91)","v":0}]
[]
[null,"MASTER"]
[null,null,"Total Number of Master Programs not considering Gender",null,{"$f":"D95/D97","v":{"$error":"#DIV/0!"}},null,{"$f":"F95/F97","v":{"$error":"#DIV/0!"}},null,{"$f":"H95/H97","v":{"$error":"#DIV/0!"}}]
[null,null,"Total Number of Master Programs with Gender component",null,{"$f":"D96/D97","v":{"$error":"#DIV/0!"}},null,{"$f":"F96/F97","v":{"$error":"#DIV/0!"}},null,{"$f":"H96/H97","v":{"$error":"#DIV/0!"}}]
[null,null,"TOTAL",{"$f":"SUM(D95+D96)","v":0},null,{"$f":"SUM(F95+F96)","v":0},null,{"$f":"SUM(H95+H96)","v":0}]
[]
[{"$f":"Information_RPO!A14","v":"Faculty/Department 7"}]
[]
[null,"BACHELOR"]
[null,null,"Total number of Bachelor Programs not considering Gender",null,{"$f":"D102/D104","v":{"$error":"#DIV/0!"}},null,{"$f":"F102/F104","v":{"$error":"#DIV/0!"}},null,{"$f":"H102/H104","v":{"$error":"#DIV/0!"}}]
[null,null,"Total number of Bachelor Programs with Gender component",null,{"$f":"D103/D104","v":{"$error":"#DIV/0!"}},null,{"$f":"F103/F104","v":{"$error":"#DIV/0!"}},null,{"$f":"H103/H104","v":{"$error":"#DIV/0!"}}]
[null,null,"TOTAL",{"$f":"SUM(D102+D103)","v":0},null,{"$f":"SUM(F102+F103)","v":0},null,{"$f":"SUM(H102+H103)","v":0}]
[]
[null,"MASTER"]
[null,null,"Total Number of Master Programs not considering Gender",null,{"$f":"D107/D109","v":{"$error":"#DIV/0!"}},null,{"$f":"F107/F109","v":{"$error":"#DIV/0!"}},null,{"$f":"H107/H109","v":{"$error":"#DIV/0!"}}]
[null,null,"Total Number of Master Programs with Gender component",null,{"$f":"D108/D109","v":{"$error":"#DIV/0!"}},null,{"$f":"F108/F109","v":{"$error":"#DIV/0!"}},null,{"$f":"H108/H109","v":{"$error":"#DIV/0!"}}]
[null,null,"TOTAL",{"$f":"SUM(D107+D108)","v":0},null,{"$f":"SUM(F107+F108)","v":0},null,{"$f":"SUM(H107+H108)","v":0}]
[]
[{"$f":"Information_RPO!A15","v":"Faculty/Department 8"}]
[]
[null,"BACHELOR"]
[null,null,"Total number of Bachelor Programs not considering Gender",null,{"$f":"D114/D116","v":{"$error":"#DIV/0!"}},null,{"$f":"F114/F116","v":{"$error":"#DIV/0!"}},null,{"$f":"H114/H116","v":{"$error":"#DIV/0!"}}]
[null,null,"Total number of Bachelor Programs with Gender component",null,{"$f":"D115/D116","v":{"$error":"#DIV/0!"}},null,{"$f":"F115/F116","v":{"$error":"#DIV/0!"}},null,{"$f":"H115/H116","v":{"$error":"#DIV/0!"}}]
[null,null,"TOTAL",{"$f":"SUM(D114+D115)","v":0},null,{"$f":"SUM(F114+F115)","v":0},null,{"$f":"SUM(H114+H115)","v":0}]
[]
[null,"MASTER"]
[null,null,"Total Number of Master Programs not considering Gender",null,{"$f":"D119/D121","v":{"$error":"#DIV/0!"}},null,{"$f":"F119/F121","v":{"$error":"#DIV/0!"}},null,{"$f":"H119/H121","v":{"$error":"#DIV/0!"}}]
[null,null,"Total Number of Master Programs with Gender component",null,{"$f":"D120/D121","v":{"$error":"#DIV/0!"}},null,{"$f":"F120/F121","v":{"$error":"#DIV/0!"}},null,{"$f":"H120/H121","v":{"$error":"#DIV/0!"}}]
[null,null,"TOTAL",{"$f":"SUM(D119+D120)","v":0},null,{"$f":"SUM(F119+F120)","v":0},null,{"$f":"SUM(H119+H120)","v":0}]

{"sheet":"D_GEP","index":26,"n_rows":17,"n_cols":3,"rows_kept":17,"cut":false,"hidden":false,"merged":[[2,0,4,2],[10,0,10,2]]}
["DESCRIPTION: GENDER EQUALITY PLAN MEASURES"]
[]
["To Do: If there is a gender equality plan in place at your research performing organization you can also use the final table T8_GEProcess to monitor the implementation progress of your gender equality plan. Please read the descriptions of the indicators for monitoring the implementation progess of the gender equality plan of your research performing organization carefully. "]
[]
[]
[]
[]
["Measures","Description"]
["Structural measures ","Actions e.g. creating visibility for gender or women in science; cooperating with existing structures, designing institutional measures for gender equality, countering stereotypes, revision of institutional processes and practices "]
["Personell measures","E.g. electing, promoting, acknowledging, and equitably hiring and supporting researchers"]
[]
[]
["Indicators","Description","Examples"]
["Gender Equality Measure","One measure can include one or several activties, e.g. for the measure \"Development and dissemination of training materials for decision-making boards\" several activities are necessary, such as developing the training materials, holding trainings with decision-makers","Development and dissemination of training materials for decision-making boards, Exhibition on gender dimension in research"]
["Objective of Measure","The objective should follow the SMART criteria, i.e. it should be specific, measurable, achievable, result-oriented and time-bound.","To reduce the gender bias of decision-making board members "]
["Target Group(s) of Measure","Target group(s) describe(s) the people who are adressed with the measure, i.e. who benefit from the measure or whose behaviour / attitude shall change due to the measure","Decision-making board members, RPOs' researchers, staff members and students"]
["Quantitative Outcome of Measure","Quantitative / numeric data measuring the observed outcome, giving precise information on the degree of outcome achievement","Number of participants, number of events or workshops, number leaflets produced, total number of female and male job applicants, number of successful female and male job applicants"]

{"sheet":"T8_GEProcess","index":27,"n_rows":12,"n_cols":14,"rows_kept":12,"cut":false,"hidden":false,"merged":[[5,1,5,3],[2,0,3,13],[6,1,6,3]]}
["TABLE 8: PROCESS OF GENDER EQUALITY PLAN"]
[]
["To Do: This table consists of several indicators for monitoring the implementation progess of the gender equality plan of your research performing organization. Requirement of using this table is that you developed and implemented a gender equality plan at your research performing organization. The first two rows are pre-filled with examples of gender equality measures to provide you with a better understanding of the application of this table. Please delete the examples before applying the table to the gender equality plan of your research performing organization. "]
[]
[]
["Source: "]
["Date:"]
[]
[null,null,null,null,null,"(MM/YYYY)","(MM/YYYY)","(board, department, institute, discipline, entire university, etc.)","(male/female, members of board, students, academics, etc.)","(degree of completion of action on scale: 25%, 50%, 75% or 100%)","(number of participants, number of events, leaflets produced, etc.)","working days estimate","in EURO"," (1= minor priority action = red; 5= key priority action = green)"]
["No","Thematic Area - Gender Equality Measure","Gender Equality Measure","Responsibility for the Measure","Objective of Measure","Start Date of Measure","End Date of Measure ","Operational Level ","Target Group/s of Measure","Degree of Completition of Action (%)","Quantitative Outcome of Measure","Staff/Time Resources applied ","Financial Resources applied (EUR)","Please rate the importance of the Activity for your GEP between 1-5"]
[1,"Decision-making processes and bodies ","Development and dissemination of training materials for decision-making boards","Responsible Person for implementation of measure","To reduce the gender bias of decision-making board members ","(07/2020)","(07/2021)","board, department","decision-making board members",0.5,"number of training participants, number of conducted trainings, satisfaction level of participants, number of successful female job applicants in ratio to total female job applicants  ","3 PM","1000 EUR",5]
[2,"Gender Dimension","Exhibition on gender dimension in research","Responsible Person for implementation of measure","Awareness-raising of and providing information provision on the gender dimension in research","(10/2020)","(12/2020)","entire university","RPOs' researchers, staff members and students",0.25,"number of exhibition visitors, length of exhibition, number of leaflets produced","4 PM","1000 EUR",3]